BEGIN:VCALENDAR
VERSION:2.0
PRODID:-//Duncan Place - ECPv6.15.20//NONSGML v1.0//EN
CALSCALE:GREGORIAN
METHOD:PUBLISH
X-WR-CALNAME:Duncan Place
X-ORIGINAL-URL:https://duncanplace.org
X-WR-CALDESC:Events for Duncan Place
REFRESH-INTERVAL;VALUE=DURATION:PT1H
X-Robots-Tag:noindex
X-PUBLISHED-TTL:PT1H
BEGIN:VTIMEZONE
TZID:Europe/London
BEGIN:DAYLIGHT
TZOFFSETFROM:+0000
TZOFFSETTO:+0100
TZNAME:BST
DTSTART:20250330T010000
END:DAYLIGHT
BEGIN:STANDARD
TZOFFSETFROM:+0100
TZOFFSETTO:+0000
TZNAME:GMT
DTSTART:20251026T010000
END:STANDARD
BEGIN:DAYLIGHT
TZOFFSETFROM:+0000
TZOFFSETTO:+0100
TZNAME:BST
DTSTART:20260329T010000
END:DAYLIGHT
BEGIN:STANDARD
TZOFFSETFROM:+0100
TZOFFSETTO:+0000
TZNAME:GMT
DTSTART:20261025T010000
END:STANDARD
BEGIN:DAYLIGHT
TZOFFSETFROM:+0000
TZOFFSETTO:+0100
TZNAME:BST
DTSTART:20270328T010000
END:DAYLIGHT
BEGIN:STANDARD
TZOFFSETFROM:+0100
TZOFFSETTO:+0000
TZNAME:GMT
DTSTART:20271031T010000
END:STANDARD
END:VTIMEZONE
BEGIN:VEVENT
DTSTART;TZID=Europe/London:20260430T091500
DTEND;TZID=Europe/London:20260430T101500
DTSTAMP:20260423T203523
CREATED:20260318T164748Z
LAST-MODIFIED:20260319T114442Z
UID:10005605-1777540500-1777544100@duncanplace.org
SUMMARY:Tai Chi - Advanced
DESCRIPTION:Big Links room\n\n	\n\nThis class is part of the Duncan Place Community Events Programme \n\nHave you practiced Tai Chi before and are looking for a new class to join\, or to return after a break away from learning? Our Tai Chi Chuan classes run in 8-week prepaid blocks (currently £40) and are taught by Emma Young who has over 30 years’ experience in the long yang form. We’ve had some really lovely feedback over the past three years\, about Emma’s teaching style. \nThis block is currently in progress. If you would like information on joining the next 8-week block\, please email events@duncanplace.org and we can let you know if there are spaces available. \nAt the moment\, we do not offer any classes suitable for complete beginners. We are taking notes of interest\, and if we ever have enough people interested to start a new class\, we might consider this. Please email events@duncanplace.org if this applies to you. \n\n\n\n\n	\n		\n\n			\n			\n\n							\n					\n						Upcoming Events					\n				\n			\n			\n				\n											\n\n	\n	\n		\n			Apr		\n		\n			30		\n	\n\n\n	\n		\n			\n\n				\n					\n		\n		9:15 am - 10:15 am	\n	\n\n	\n		\n\n	\n	\n	\n\n	\n\n\n					\n	\n		Tai Chi – Advanced	\n\n				\n\n				\n			\n		\n	\n\n\n											\n\n	\n	\n		\n			May		\n		\n			7		\n	\n\n\n	\n		\n			\n\n				\n					\n		\n		9:15 am - 10:15 am	\n	\n\n	\n		\n\n	\n	\n	\n\n	\n\n\n					\n	\n		Tai Chi – Advanced	\n\n				\n\n				\n			\n		\n	\n\n\n									\n\n				\n	\n		View Calendar
URL:https://duncanplace.org/event/tai-chi-advanced/2026-04-30/
LOCATION:Duncan Place Community Hub\, Duncan Place\, Leith\, Edinburgh\, Edinburgh\, EH6 8HW\, United Kingdom
ORGANIZER;CN="Duncan Place Events":MAILTO:events@duncanplace.org
GEO:55.9699976;-3.1683591
X-APPLE-STRUCTURED-LOCATION;VALUE=URI;X-ADDRESS=Duncan Place Community Hub Duncan Place Leith Edinburgh Edinburgh EH6 8HW United Kingdom;X-APPLE-RADIUS=500;X-TITLE=Duncan Place:geo:-3.1683591,55.9699976
END:VEVENT
BEGIN:VEVENT
DTSTART;TZID=Europe/London:20260507T091500
DTEND;TZID=Europe/London:20260507T101500
DTSTAMP:20260423T203523
CREATED:20260318T164748Z
LAST-MODIFIED:20260319T114442Z
UID:10005606-1778145300-1778148900@duncanplace.org
SUMMARY:Tai Chi - Advanced
DESCRIPTION:Big Links room\n\n	\n\nThis class is part of the Duncan Place Community Events Programme \n\nHave you practiced Tai Chi before and are looking for a new class to join\, or to return after a break away from learning? Our Tai Chi Chuan classes run in 8-week prepaid blocks (currently £40) and are taught by Emma Young who has over 30 years’ experience in the long yang form. We’ve had some really lovely feedback over the past three years\, about Emma’s teaching style. \nThis block is currently in progress. If you would like information on joining the next 8-week block\, please email events@duncanplace.org and we can let you know if there are spaces available. \nAt the moment\, we do not offer any classes suitable for complete beginners. We are taking notes of interest\, and if we ever have enough people interested to start a new class\, we might consider this. Please email events@duncanplace.org if this applies to you. \n\n\n\n\n	\n		\n\n			\n			\n\n							\n					\n						Upcoming Events					\n				\n			\n			\n				\n											\n\n	\n	\n		\n			Apr		\n		\n			30		\n	\n\n\n	\n		\n			\n\n				\n					\n		\n		9:15 am - 10:15 am	\n	\n\n	\n		\n\n	\n	\n	\n\n	\n\n\n					\n	\n		Tai Chi – Advanced	\n\n				\n\n				\n			\n		\n	\n\n\n											\n\n	\n	\n		\n			May		\n		\n			7		\n	\n\n\n	\n		\n			\n\n				\n					\n		\n		9:15 am - 10:15 am	\n	\n\n	\n		\n\n	\n	\n	\n\n	\n\n\n					\n	\n		Tai Chi – Advanced	\n\n				\n\n				\n			\n		\n	\n\n\n									\n\n				\n	\n		View Calendar
URL:https://duncanplace.org/event/tai-chi-advanced/2026-05-07/
LOCATION:Duncan Place Community Hub\, Duncan Place\, Leith\, Edinburgh\, Edinburgh\, EH6 8HW\, United Kingdom
ORGANIZER;CN="Duncan Place Events":MAILTO:events@duncanplace.org
GEO:55.9699976;-3.1683591
X-APPLE-STRUCTURED-LOCATION;VALUE=URI;X-ADDRESS=Duncan Place Community Hub Duncan Place Leith Edinburgh Edinburgh EH6 8HW United Kingdom;X-APPLE-RADIUS=500;X-TITLE=Duncan Place:geo:-3.1683591,55.9699976
END:VEVENT
END:VCALENDAR