BEGIN:VCALENDAR
VERSION:2.0
PRODID:-//Duncan Place - ECPv6.15.20//NONSGML v1.0//EN
CALSCALE:GREGORIAN
METHOD:PUBLISH
X-WR-CALNAME:Duncan Place
X-ORIGINAL-URL:https://duncanplace.org
X-WR-CALDESC:Events for Duncan Place
REFRESH-INTERVAL;VALUE=DURATION:PT1H
X-Robots-Tag:noindex
X-PUBLISHED-TTL:PT1H
BEGIN:VTIMEZONE
TZID:Europe/London
BEGIN:DAYLIGHT
TZOFFSETFROM:+0000
TZOFFSETTO:+0100
TZNAME:BST
DTSTART:20250330T010000
END:DAYLIGHT
BEGIN:STANDARD
TZOFFSETFROM:+0100
TZOFFSETTO:+0000
TZNAME:GMT
DTSTART:20251026T010000
END:STANDARD
BEGIN:DAYLIGHT
TZOFFSETFROM:+0000
TZOFFSETTO:+0100
TZNAME:BST
DTSTART:20260329T010000
END:DAYLIGHT
BEGIN:STANDARD
TZOFFSETFROM:+0100
TZOFFSETTO:+0000
TZNAME:GMT
DTSTART:20261025T010000
END:STANDARD
BEGIN:DAYLIGHT
TZOFFSETFROM:+0000
TZOFFSETTO:+0100
TZNAME:BST
DTSTART:20270328T010000
END:DAYLIGHT
BEGIN:STANDARD
TZOFFSETFROM:+0100
TZOFFSETTO:+0000
TZNAME:GMT
DTSTART:20271031T010000
END:STANDARD
END:VTIMEZONE
BEGIN:VEVENT
DTSTART;TZID=Europe/London:20260423T163000
DTEND;TZID=Europe/London:20260423T180000
DTSTAMP:20260423T172742
CREATED:20260409T081805Z
LAST-MODIFIED:20260409T120504Z
UID:10005619-1776961800-1776967200@duncanplace.org
SUMMARY:Leith LEGO Group for ages 7 to 11 - Big Links room
DESCRIPTION:Are you aged 7 to 11 and looking for somewhere to put your LEGO skills to the test? Maybe you’re new to the world of LEGO and would like to give it a go? You are perfect for our Wee LUG (LEGO User Group)! \nPut your imagination into action by using our stock of LEGO to free-build individually or as a group. Make new friends\, get creative\, and have fun. Why not take on a LEGO challenge? \n\nIMPORTANT INFO - GROUP COSTS £1 TO ATTEND \nThere's a small cost of £1 per person to be paid in person at each session. It would be great if you could bring exactly £1 to save having to make lots of change.  \n\nThis group is strictly for ages 7 to 11. \nGrownups can drop-off and collect kids for each session\, however we require you to fill in an emergency contact and information form at the first session each child attends. \nIf you have any questions\, please email events@duncanplace.org or call 0131 3644350. \n\n\n\n		\n	\n\nA Duncan Place Event\n			\n		\n							\n				\n			Book a spot		\n			\n	\n\n	\n		\n\n			\n			\n\n							\n					\n						Upcoming Events					\n				\n			\n			\n				\n											\n\n	\n	\n		\n			Apr		\n		\n			23		\n	\n\n\n	\n		\n			\n\n				\n					\n	\n	\n	\n\n\n\n	Featured\n	\n		4:30 pm - 6:00 pm	\n	\n\n	\n		\n\n	\n	\n	\n\n	\n\n\n					\n	\n		Leith LEGO Group for ages 7 to 11 – Big Links room	\n\n				\n\n				\n			\n		\n	\n\n\n											\n\n	\n	\n		\n			May		\n		\n			21		\n	\n\n\n	\n		\n			\n\n				\n					\n	\n	\n	\n\n\n\n	Featured\n	\n		4:30 pm - 6:00 pm	\n	\n\n	\n		\n\n	\n	\n	\n\n	\n\n\n					\n	\n		Leith LEGO Group for ages 7 to 11 – Big Links room	\n\n				\n\n				\n			\n		\n	\n\n\n											\n\n	\n	\n		\n			Jun		\n		\n			18		\n	\n\n\n	\n		\n			\n\n				\n					\n	\n	\n	\n\n\n\n	Featured\n	\n		4:30 pm - 6:00 pm	\n	\n\n	\n		\n\n	\n	\n	\n\n	\n\n\n					\n	\n		Leith LEGO Group for ages 7 to 11 – Big Links room	\n\n				\n\n				\n			\n		\n	\n\n\n									\n\n				\n	\n		View Calendar
URL:https://duncanplace.org/event/leith-lego-group-for-ages-7-to-11-big-duncan-room/2026-04-23/
LOCATION:Duncan Place Community Hub\, Duncan Place\, Leith\, Edinburgh\, Edinburgh\, EH6 8HW\, United Kingdom
ATTACH;FMTTYPE=image/png:https://duncanplace.org/wp-content/uploads/2024/07/1-1.png
ORGANIZER;CN="Duncan Place Events":MAILTO:events@duncanplace.org
GEO:55.9699976;-3.1683591
X-APPLE-STRUCTURED-LOCATION;VALUE=URI;X-ADDRESS=Duncan Place Community Hub Duncan Place Leith Edinburgh Edinburgh EH6 8HW United Kingdom;X-APPLE-RADIUS=500;X-TITLE=Duncan Place:geo:-3.1683591,55.9699976
END:VEVENT
BEGIN:VEVENT
DTSTART;TZID=Europe/London:20260521T163000
DTEND;TZID=Europe/London:20260521T180000
DTSTAMP:20260423T172742
CREATED:20260409T081805Z
LAST-MODIFIED:20260409T120504Z
UID:10005620-1779381000-1779386400@duncanplace.org
SUMMARY:Leith LEGO Group for ages 7 to 11 - Big Links room
DESCRIPTION:Are you aged 7 to 11 and looking for somewhere to put your LEGO skills to the test? Maybe you’re new to the world of LEGO and would like to give it a go? You are perfect for our Wee LUG (LEGO User Group)! \nPut your imagination into action by using our stock of LEGO to free-build individually or as a group. Make new friends\, get creative\, and have fun. Why not take on a LEGO challenge? \n\nIMPORTANT INFO - GROUP COSTS £1 TO ATTEND \nThere's a small cost of £1 per person to be paid in person at each session. It would be great if you could bring exactly £1 to save having to make lots of change.  \n\nThis group is strictly for ages 7 to 11. \nGrownups can drop-off and collect kids for each session\, however we require you to fill in an emergency contact and information form at the first session each child attends. \nIf you have any questions\, please email events@duncanplace.org or call 0131 3644350. \n\n\n\n		\n	\n\nA Duncan Place Event\n			\n		\n							\n				\n			Book a spot		\n			\n	\n\n	\n		\n\n			\n			\n\n							\n					\n						Upcoming Events					\n				\n			\n			\n				\n											\n\n	\n	\n		\n			Apr		\n		\n			23		\n	\n\n\n	\n		\n			\n\n				\n					\n	\n	\n	\n\n\n\n	Featured\n	\n		4:30 pm - 6:00 pm	\n	\n\n	\n		\n\n	\n	\n	\n\n	\n\n\n					\n	\n		Leith LEGO Group for ages 7 to 11 – Big Links room	\n\n				\n\n				\n			\n		\n	\n\n\n											\n\n	\n	\n		\n			May		\n		\n			21		\n	\n\n\n	\n		\n			\n\n				\n					\n	\n	\n	\n\n\n\n	Featured\n	\n		4:30 pm - 6:00 pm	\n	\n\n	\n		\n\n	\n	\n	\n\n	\n\n\n					\n	\n		Leith LEGO Group for ages 7 to 11 – Big Links room	\n\n				\n\n				\n			\n		\n	\n\n\n											\n\n	\n	\n		\n			Jun		\n		\n			18		\n	\n\n\n	\n		\n			\n\n				\n					\n	\n	\n	\n\n\n\n	Featured\n	\n		4:30 pm - 6:00 pm	\n	\n\n	\n		\n\n	\n	\n	\n\n	\n\n\n					\n	\n		Leith LEGO Group for ages 7 to 11 – Big Links room	\n\n				\n\n				\n			\n		\n	\n\n\n									\n\n				\n	\n		View Calendar
URL:https://duncanplace.org/event/leith-lego-group-for-ages-7-to-11-big-duncan-room/2026-05-21/
LOCATION:Duncan Place Community Hub\, Duncan Place\, Leith\, Edinburgh\, Edinburgh\, EH6 8HW\, United Kingdom
ATTACH;FMTTYPE=image/png:https://duncanplace.org/wp-content/uploads/2024/07/1-1.png
ORGANIZER;CN="Duncan Place Events":MAILTO:events@duncanplace.org
GEO:55.9699976;-3.1683591
X-APPLE-STRUCTURED-LOCATION;VALUE=URI;X-ADDRESS=Duncan Place Community Hub Duncan Place Leith Edinburgh Edinburgh EH6 8HW United Kingdom;X-APPLE-RADIUS=500;X-TITLE=Duncan Place:geo:-3.1683591,55.9699976
END:VEVENT
BEGIN:VEVENT
DTSTART;TZID=Europe/London:20260618T163000
DTEND;TZID=Europe/London:20260618T180000
DTSTAMP:20260423T172742
CREATED:20260409T081805Z
LAST-MODIFIED:20260409T120504Z
UID:10005621-1781800200-1781805600@duncanplace.org
SUMMARY:Leith LEGO Group for ages 7 to 11 - Big Links room
DESCRIPTION:Are you aged 7 to 11 and looking for somewhere to put your LEGO skills to the test? Maybe you’re new to the world of LEGO and would like to give it a go? You are perfect for our Wee LUG (LEGO User Group)! \nPut your imagination into action by using our stock of LEGO to free-build individually or as a group. Make new friends\, get creative\, and have fun. Why not take on a LEGO challenge? \n\nIMPORTANT INFO - GROUP COSTS £1 TO ATTEND \nThere's a small cost of £1 per person to be paid in person at each session. It would be great if you could bring exactly £1 to save having to make lots of change.  \n\nThis group is strictly for ages 7 to 11. \nGrownups can drop-off and collect kids for each session\, however we require you to fill in an emergency contact and information form at the first session each child attends. \nIf you have any questions\, please email events@duncanplace.org or call 0131 3644350. \n\n\n\n		\n	\n\nA Duncan Place Event\n			\n		\n							\n				\n			Book a spot		\n			\n	\n\n	\n		\n\n			\n			\n\n							\n					\n						Upcoming Events					\n				\n			\n			\n				\n											\n\n	\n	\n		\n			Apr		\n		\n			23		\n	\n\n\n	\n		\n			\n\n				\n					\n	\n	\n	\n\n\n\n	Featured\n	\n		4:30 pm - 6:00 pm	\n	\n\n	\n		\n\n	\n	\n	\n\n	\n\n\n					\n	\n		Leith LEGO Group for ages 7 to 11 – Big Links room	\n\n				\n\n				\n			\n		\n	\n\n\n											\n\n	\n	\n		\n			May		\n		\n			21		\n	\n\n\n	\n		\n			\n\n				\n					\n	\n	\n	\n\n\n\n	Featured\n	\n		4:30 pm - 6:00 pm	\n	\n\n	\n		\n\n	\n	\n	\n\n	\n\n\n					\n	\n		Leith LEGO Group for ages 7 to 11 – Big Links room	\n\n				\n\n				\n			\n		\n	\n\n\n											\n\n	\n	\n		\n			Jun		\n		\n			18		\n	\n\n\n	\n		\n			\n\n				\n					\n	\n	\n	\n\n\n\n	Featured\n	\n		4:30 pm - 6:00 pm	\n	\n\n	\n		\n\n	\n	\n	\n\n	\n\n\n					\n	\n		Leith LEGO Group for ages 7 to 11 – Big Links room	\n\n				\n\n				\n			\n		\n	\n\n\n									\n\n				\n	\n		View Calendar
URL:https://duncanplace.org/event/leith-lego-group-for-ages-7-to-11-big-duncan-room/2026-06-18/
LOCATION:Duncan Place Community Hub\, Duncan Place\, Leith\, Edinburgh\, Edinburgh\, EH6 8HW\, United Kingdom
ATTACH;FMTTYPE=image/png:https://duncanplace.org/wp-content/uploads/2024/07/1-1.png
ORGANIZER;CN="Duncan Place Events":MAILTO:events@duncanplace.org
GEO:55.9699976;-3.1683591
X-APPLE-STRUCTURED-LOCATION;VALUE=URI;X-ADDRESS=Duncan Place Community Hub Duncan Place Leith Edinburgh Edinburgh EH6 8HW United Kingdom;X-APPLE-RADIUS=500;X-TITLE=Duncan Place:geo:-3.1683591,55.9699976
END:VEVENT
END:VCALENDAR