BEGIN:VCALENDAR
VERSION:2.0
PRODID:-//Duncan Place - ECPv6.15.20//NONSGML v1.0//EN
CALSCALE:GREGORIAN
METHOD:PUBLISH
X-WR-CALNAME:Duncan Place
X-ORIGINAL-URL:https://duncanplace.org
X-WR-CALDESC:Events for Duncan Place
REFRESH-INTERVAL;VALUE=DURATION:PT1H
X-Robots-Tag:noindex
X-PUBLISHED-TTL:PT1H
BEGIN:VTIMEZONE
TZID:Europe/London
BEGIN:DAYLIGHT
TZOFFSETFROM:+0000
TZOFFSETTO:+0100
TZNAME:BST
DTSTART:20250330T010000
END:DAYLIGHT
BEGIN:STANDARD
TZOFFSETFROM:+0100
TZOFFSETTO:+0000
TZNAME:GMT
DTSTART:20251026T010000
END:STANDARD
BEGIN:DAYLIGHT
TZOFFSETFROM:+0000
TZOFFSETTO:+0100
TZNAME:BST
DTSTART:20260329T010000
END:DAYLIGHT
BEGIN:STANDARD
TZOFFSETFROM:+0100
TZOFFSETTO:+0000
TZNAME:GMT
DTSTART:20261025T010000
END:STANDARD
BEGIN:DAYLIGHT
TZOFFSETFROM:+0000
TZOFFSETTO:+0100
TZNAME:BST
DTSTART:20270328T010000
END:DAYLIGHT
BEGIN:STANDARD
TZOFFSETFROM:+0100
TZOFFSETTO:+0000
TZNAME:GMT
DTSTART:20271031T010000
END:STANDARD
END:VTIMEZONE
BEGIN:VEVENT
DTSTART;TZID=Europe/London:20260128T190000
DTEND;TZID=Europe/London:20260128T200000
DTSTAMP:20260424T224336
CREATED:20251209T140225Z
LAST-MODIFIED:20260224T175902Z
UID:10005404-1769626800-1769630400@duncanplace.org
SUMMARY:Yoga with Ailie
DESCRIPTION:Our Monday class is currently full. Please email events@duncanplace.org to be added to the waiting list\, and we will contact you if a place becomes available.  Alternatively\, we also run a Thursday 12:30 pm class\, which currently has spaces. Please email us to enquire.  (Spaces are for weekly attendance) \nThis is a chair-modified yoga class which is suitable for all ages. This class gives chair-based variations on the classic poses - you will find your mountain and warrior poses here! \nWhilst the focus is about maintaining strength and flexibility it’s still a very relaxing class. This hour long chair yoga class will include yoga poses\, gentle yoga flows and stretching sequences\, pranayama (breathing practices)\, some meditation and of course relaxation. \n**Please arrive five minutes beforehand so classes can start on time.** \n\n\nClasses led by Yoga Teacher Yonnie Fraser\n\n	\nYonnie has worked with children and young people in creative projects all over Scotland for the last 25 years. She would often begin the day by guiding staff and children through a short yoga practice and her commitment to furthering her yoga training and teaching stemmed from this time. Yonnie completed her 200-hour yoga teacher training in a small yoga studio in Jaipur and has since gone on to train in yoga mudra\, family yoga\, yoga and autism and chair yoga. Her yoga teaching is rooted in inclusivity and (being older herself) she loves working with seniors as well as all the other ages! She has recently completed an advanced yoga teacher training in psychologically-sensitive Yoga. \n\n\n\n\n		\n	\n\nA Duncan Place Event\n\n	Add your name to the waiting list\nevents@duncanplace.org \n\n\n	\n		\n\n			\n			\n\n							\n					\n						Upcoming Events					\n				\n			\n			\n				\n											\n\n	\n	\n		\n			Apr		\n		\n			25		\n	\n\n\n	\n		\n			\n\n				\n					\n		\n		9:30 am - 12:00 pm	\n	\n\n	\n		\n\n	\n	\n	\n\n	\n\n\n					\n	\n		The Piping Center	\n\n				\n\n				\n			\n		\n	\n\n\n											\n\n	\n	\n		\n			Apr		\n		\n			25		\n	\n\n\n	\n		\n			\n\n				\n					\n		\n		10:00 am - 11:00 am	\n	\n\n	\n		\n\n	\n	\n	\n\n	\n\n\n					\n	\n		The Piping Center	\n\n				\n\n				\n			\n		\n	\n\n\n											\n\n	\n	\n		\n			Apr		\n		\n			25		\n	\n\n\n	\n		\n			\n\n				\n					\n		\n		10:00 am - 12:00 pm	\n	\n\n	\n		\n\n	\n	\n	\n\n	\n\n\n					\n	\n		The Piping Center	\n\n				\n\n				\n			\n		\n	\n\n\n											\n\n	\n	\n		\n			Apr		\n		\n			25		\n	\n\n\n	\n		\n			\n\n				\n					\n		\n		10:00 am - 5:00 pm	\n	\n					\n	\n		Calis Harun – Mosaic Workshop	\n\n				\n\n				\n			\n		\n	\n\n\n											\n\n	\n	\n		\n			Apr		\n		\n			27		\n	\n\n\n	\n		\n			\n\n				\n					\n		\n		9:00 am - 2:45 pm	\n	\n\n	\n		\n\n	\n	\n	\n\n	\n\n\n					\n	\n		Edinburgh College	\n\n				\n\n				\n			\n		\n	\n\n\n									\n\n				\n	\n		View Calendar
URL:https://duncanplace.org/event/ailie-gray-yoga/2026-01-28/
LOCATION:Duncan Place Community Hub\, Duncan Place\, Leith\, Edinburgh\, Edinburgh\, EH6 8HW\, United Kingdom
ORGANIZER;CN="Ailie":MAILTO:yoga.ailie.yoga@gmail.com
GEO:55.9699976;-3.1683591
X-APPLE-STRUCTURED-LOCATION;VALUE=URI;X-ADDRESS=Duncan Place Community Hub Duncan Place Leith Edinburgh Edinburgh EH6 8HW United Kingdom;X-APPLE-RADIUS=500;X-TITLE=Duncan Place:geo:-3.1683591,55.9699976
END:VEVENT
BEGIN:VEVENT
DTSTART;TZID=Europe/London:20260129T110000
DTEND;TZID=Europe/London:20260129T120000
DTSTAMP:20260424T224336
CREATED:20250403T110631Z
LAST-MODIFIED:20260312T140729Z
UID:10005116-1769684400-1769688000@duncanplace.org
SUMMARY:Laughter for Health and Happiness -  Big Duncan Room
DESCRIPTION:Our Monday class is currently full. Please email events@duncanplace.org to be added to the waiting list\, and we will contact you if a place becomes available.  Alternatively\, we also run a Thursday 12:30 pm class\, which currently has spaces. Please email us to enquire.  (Spaces are for weekly attendance) \nThis is a chair-modified yoga class which is suitable for all ages. This class gives chair-based variations on the classic poses - you will find your mountain and warrior poses here! \nWhilst the focus is about maintaining strength and flexibility it’s still a very relaxing class. This hour long chair yoga class will include yoga poses\, gentle yoga flows and stretching sequences\, pranayama (breathing practices)\, some meditation and of course relaxation. \n**Please arrive five minutes beforehand so classes can start on time.** \n\n\nClasses led by Yoga Teacher Yonnie Fraser\n\n	\nYonnie has worked with children and young people in creative projects all over Scotland for the last 25 years. She would often begin the day by guiding staff and children through a short yoga practice and her commitment to furthering her yoga training and teaching stemmed from this time. Yonnie completed her 200-hour yoga teacher training in a small yoga studio in Jaipur and has since gone on to train in yoga mudra\, family yoga\, yoga and autism and chair yoga. Her yoga teaching is rooted in inclusivity and (being older herself) she loves working with seniors as well as all the other ages! She has recently completed an advanced yoga teacher training in psychologically-sensitive Yoga. \n\n\n\n\n		\n	\n\nA Duncan Place Event\n\n	Add your name to the waiting list\nevents@duncanplace.org \n\n\n	\n		\n\n			\n			\n\n							\n					\n						Upcoming Events					\n				\n			\n			\n				\n											\n\n	\n	\n		\n			Apr		\n		\n			25		\n	\n\n\n	\n		\n			\n\n				\n					\n		\n		9:30 am - 12:00 pm	\n	\n\n	\n		\n\n	\n	\n	\n\n	\n\n\n					\n	\n		The Piping Center	\n\n				\n\n				\n			\n		\n	\n\n\n											\n\n	\n	\n		\n			Apr		\n		\n			25		\n	\n\n\n	\n		\n			\n\n				\n					\n		\n		10:00 am - 11:00 am	\n	\n\n	\n		\n\n	\n	\n	\n\n	\n\n\n					\n	\n		The Piping Center	\n\n				\n\n				\n			\n		\n	\n\n\n											\n\n	\n	\n		\n			Apr		\n		\n			25		\n	\n\n\n	\n		\n			\n\n				\n					\n		\n		10:00 am - 12:00 pm	\n	\n\n	\n		\n\n	\n	\n	\n\n	\n\n\n					\n	\n		The Piping Center	\n\n				\n\n				\n			\n		\n	\n\n\n											\n\n	\n	\n		\n			Apr		\n		\n			25		\n	\n\n\n	\n		\n			\n\n				\n					\n		\n		10:00 am - 5:00 pm	\n	\n					\n	\n		Calis Harun – Mosaic Workshop	\n\n				\n\n				\n			\n		\n	\n\n\n											\n\n	\n	\n		\n			Apr		\n		\n			27		\n	\n\n\n	\n		\n			\n\n				\n					\n		\n		9:00 am - 2:45 pm	\n	\n\n	\n		\n\n	\n	\n	\n\n	\n\n\n					\n	\n		Edinburgh College	\n\n				\n\n				\n			\n		\n	\n\n\n									\n\n				\n	\n		View Calendar
URL:https://duncanplace.org/event/laughter-for-health-and-happiness-big-duncan-room-8/2026-01-29/
LOCATION:Duncan Place Community Hub\, Duncan Place\, Leith\, Edinburgh\, Edinburgh\, EH6 8HW\, United Kingdom
ATTACH;FMTTYPE=image/png:https://duncanplace.org/wp-content/uploads/2024/04/4.png
ORGANIZER;CN="Duncan Place Events":MAILTO:events@duncanplace.org
GEO:55.9699976;-3.1683591
X-APPLE-STRUCTURED-LOCATION;VALUE=URI;X-ADDRESS=Duncan Place Community Hub Duncan Place Leith Edinburgh Edinburgh EH6 8HW United Kingdom;X-APPLE-RADIUS=500;X-TITLE=Duncan Place:geo:-3.1683591,55.9699976
END:VEVENT
BEGIN:VEVENT
DTSTART;TZID=Europe/London:20260129T120000
DTEND;TZID=Europe/London:20260129T130000
DTSTAMP:20260424T224336
CREATED:20251204T104940Z
LAST-MODIFIED:20260312T095406Z
UID:10005155-1769688000-1769691600@duncanplace.org
SUMMARY:Seasonal Strolls on Leith Links
DESCRIPTION:Our Monday class is currently full. Please email events@duncanplace.org to be added to the waiting list\, and we will contact you if a place becomes available.  Alternatively\, we also run a Thursday 12:30 pm class\, which currently has spaces. Please email us to enquire.  (Spaces are for weekly attendance) \nThis is a chair-modified yoga class which is suitable for all ages. This class gives chair-based variations on the classic poses - you will find your mountain and warrior poses here! \nWhilst the focus is about maintaining strength and flexibility it’s still a very relaxing class. This hour long chair yoga class will include yoga poses\, gentle yoga flows and stretching sequences\, pranayama (breathing practices)\, some meditation and of course relaxation. \n**Please arrive five minutes beforehand so classes can start on time.** \n\n\nClasses led by Yoga Teacher Yonnie Fraser\n\n	\nYonnie has worked with children and young people in creative projects all over Scotland for the last 25 years. She would often begin the day by guiding staff and children through a short yoga practice and her commitment to furthering her yoga training and teaching stemmed from this time. Yonnie completed her 200-hour yoga teacher training in a small yoga studio in Jaipur and has since gone on to train in yoga mudra\, family yoga\, yoga and autism and chair yoga. Her yoga teaching is rooted in inclusivity and (being older herself) she loves working with seniors as well as all the other ages! She has recently completed an advanced yoga teacher training in psychologically-sensitive Yoga. \n\n\n\n\n		\n	\n\nA Duncan Place Event\n\n	Add your name to the waiting list\nevents@duncanplace.org \n\n\n	\n		\n\n			\n			\n\n							\n					\n						Upcoming Events					\n				\n			\n			\n				\n											\n\n	\n	\n		\n			Apr		\n		\n			25		\n	\n\n\n	\n		\n			\n\n				\n					\n		\n		9:30 am - 12:00 pm	\n	\n\n	\n		\n\n	\n	\n	\n\n	\n\n\n					\n	\n		The Piping Center	\n\n				\n\n				\n			\n		\n	\n\n\n											\n\n	\n	\n		\n			Apr		\n		\n			25		\n	\n\n\n	\n		\n			\n\n				\n					\n		\n		10:00 am - 11:00 am	\n	\n\n	\n		\n\n	\n	\n	\n\n	\n\n\n					\n	\n		The Piping Center	\n\n				\n\n				\n			\n		\n	\n\n\n											\n\n	\n	\n		\n			Apr		\n		\n			25		\n	\n\n\n	\n		\n			\n\n				\n					\n		\n		10:00 am - 12:00 pm	\n	\n\n	\n		\n\n	\n	\n	\n\n	\n\n\n					\n	\n		The Piping Center	\n\n				\n\n				\n			\n		\n	\n\n\n											\n\n	\n	\n		\n			Apr		\n		\n			25		\n	\n\n\n	\n		\n			\n\n				\n					\n		\n		10:00 am - 5:00 pm	\n	\n					\n	\n		Calis Harun – Mosaic Workshop	\n\n				\n\n				\n			\n		\n	\n\n\n											\n\n	\n	\n		\n			Apr		\n		\n			27		\n	\n\n\n	\n		\n			\n\n				\n					\n		\n		9:00 am - 2:45 pm	\n	\n\n	\n		\n\n	\n	\n	\n\n	\n\n\n					\n	\n		Edinburgh College	\n\n				\n\n				\n			\n		\n	\n\n\n									\n\n				\n	\n		View Calendar
URL:https://duncanplace.org/event/seasonal-strolls-on-leith-links-2/2026-01-29/
LOCATION:Duncan Place Community Hub\, Duncan Place\, Leith\, Edinburgh\, Edinburgh\, EH6 8HW\, United Kingdom
ATTACH;FMTTYPE=image/png:https://duncanplace.org/wp-content/uploads/2025/01/drun.png
ORGANIZER;CN="Duncan Place Events":MAILTO:events@duncanplace.org
GEO:55.9699976;-3.1683591
X-APPLE-STRUCTURED-LOCATION;VALUE=URI;X-ADDRESS=Duncan Place Community Hub Duncan Place Leith Edinburgh Edinburgh EH6 8HW United Kingdom;X-APPLE-RADIUS=500;X-TITLE=Duncan Place:geo:-3.1683591,55.9699976
END:VEVENT
BEGIN:VEVENT
DTSTART;TZID=Europe/London:20260129T123000
DTEND;TZID=Europe/London:20260129T133000
DTSTAMP:20260424T224337
CREATED:20251204T103413Z
LAST-MODIFIED:20260312T141052Z
UID:10005140-1769689800-1769693400@duncanplace.org
SUMMARY:Chair Yoga (Thursdays)
DESCRIPTION:Our Monday class is currently full. Please email events@duncanplace.org to be added to the waiting list\, and we will contact you if a place becomes available.  Alternatively\, we also run a Thursday 12:30 pm class\, which currently has spaces. Please email us to enquire.  (Spaces are for weekly attendance) \nThis is a chair-modified yoga class which is suitable for all ages. This class gives chair-based variations on the classic poses - you will find your mountain and warrior poses here! \nWhilst the focus is about maintaining strength and flexibility it’s still a very relaxing class. This hour long chair yoga class will include yoga poses\, gentle yoga flows and stretching sequences\, pranayama (breathing practices)\, some meditation and of course relaxation. \n**Please arrive five minutes beforehand so classes can start on time.** \n\n\nClasses led by Yoga Teacher Yonnie Fraser\n\n	\nYonnie has worked with children and young people in creative projects all over Scotland for the last 25 years. She would often begin the day by guiding staff and children through a short yoga practice and her commitment to furthering her yoga training and teaching stemmed from this time. Yonnie completed her 200-hour yoga teacher training in a small yoga studio in Jaipur and has since gone on to train in yoga mudra\, family yoga\, yoga and autism and chair yoga. Her yoga teaching is rooted in inclusivity and (being older herself) she loves working with seniors as well as all the other ages! She has recently completed an advanced yoga teacher training in psychologically-sensitive Yoga. \n\n\n\n\n		\n	\n\nA Duncan Place Event\n\n	Add your name to the waiting list\nevents@duncanplace.org \n\n\n	\n		\n\n			\n			\n\n							\n					\n						Upcoming Events					\n				\n			\n			\n				\n											\n\n	\n	\n		\n			Apr		\n		\n			25		\n	\n\n\n	\n		\n			\n\n				\n					\n		\n		9:30 am - 12:00 pm	\n	\n\n	\n		\n\n	\n	\n	\n\n	\n\n\n					\n	\n		The Piping Center	\n\n				\n\n				\n			\n		\n	\n\n\n											\n\n	\n	\n		\n			Apr		\n		\n			25		\n	\n\n\n	\n		\n			\n\n				\n					\n		\n		10:00 am - 11:00 am	\n	\n\n	\n		\n\n	\n	\n	\n\n	\n\n\n					\n	\n		The Piping Center	\n\n				\n\n				\n			\n		\n	\n\n\n											\n\n	\n	\n		\n			Apr		\n		\n			25		\n	\n\n\n	\n		\n			\n\n				\n					\n		\n		10:00 am - 12:00 pm	\n	\n\n	\n		\n\n	\n	\n	\n\n	\n\n\n					\n	\n		The Piping Center	\n\n				\n\n				\n			\n		\n	\n\n\n											\n\n	\n	\n		\n			Apr		\n		\n			25		\n	\n\n\n	\n		\n			\n\n				\n					\n		\n		10:00 am - 5:00 pm	\n	\n					\n	\n		Calis Harun – Mosaic Workshop	\n\n				\n\n				\n			\n		\n	\n\n\n											\n\n	\n	\n		\n			Apr		\n		\n			27		\n	\n\n\n	\n		\n			\n\n				\n					\n		\n		9:00 am - 2:45 pm	\n	\n\n	\n		\n\n	\n	\n	\n\n	\n\n\n					\n	\n		Edinburgh College	\n\n				\n\n				\n			\n		\n	\n\n\n									\n\n				\n	\n		View Calendar
URL:https://duncanplace.org/event/chair-yoga-thursdays-3/2026-01-29/
LOCATION:Duncan Place Community Hub\, Duncan Place\, Leith\, Edinburgh\, Edinburgh\, EH6 8HW\, United Kingdom
ATTACH;FMTTYPE=image/png:https://duncanplace.org/wp-content/uploads/2024/04/11.png
ORGANIZER;CN="Duncan Place Events":MAILTO:events@duncanplace.org
GEO:55.9699976;-3.1683591
X-APPLE-STRUCTURED-LOCATION;VALUE=URI;X-ADDRESS=Duncan Place Community Hub Duncan Place Leith Edinburgh Edinburgh EH6 8HW United Kingdom;X-APPLE-RADIUS=500;X-TITLE=Duncan Place:geo:-3.1683591,55.9699976
END:VEVENT
BEGIN:VEVENT
DTSTART;TZID=Europe/London:20260129T174500
DTEND;TZID=Europe/London:20260129T190000
DTSTAMP:20260424T224337
CREATED:20251120T144511Z
LAST-MODIFIED:20260420T101359Z
UID:10005382-1769708700-1769713200@duncanplace.org
SUMMARY:Caitlin Heavey - Yogabirth
DESCRIPTION:Our Monday class is currently full. Please email events@duncanplace.org to be added to the waiting list\, and we will contact you if a place becomes available.  Alternatively\, we also run a Thursday 12:30 pm class\, which currently has spaces. Please email us to enquire.  (Spaces are for weekly attendance) \nThis is a chair-modified yoga class which is suitable for all ages. This class gives chair-based variations on the classic poses - you will find your mountain and warrior poses here! \nWhilst the focus is about maintaining strength and flexibility it’s still a very relaxing class. This hour long chair yoga class will include yoga poses\, gentle yoga flows and stretching sequences\, pranayama (breathing practices)\, some meditation and of course relaxation. \n**Please arrive five minutes beforehand so classes can start on time.** \n\n\nClasses led by Yoga Teacher Yonnie Fraser\n\n	\nYonnie has worked with children and young people in creative projects all over Scotland for the last 25 years. She would often begin the day by guiding staff and children through a short yoga practice and her commitment to furthering her yoga training and teaching stemmed from this time. Yonnie completed her 200-hour yoga teacher training in a small yoga studio in Jaipur and has since gone on to train in yoga mudra\, family yoga\, yoga and autism and chair yoga. Her yoga teaching is rooted in inclusivity and (being older herself) she loves working with seniors as well as all the other ages! She has recently completed an advanced yoga teacher training in psychologically-sensitive Yoga. \n\n\n\n\n		\n	\n\nA Duncan Place Event\n\n	Add your name to the waiting list\nevents@duncanplace.org \n\n\n	\n		\n\n			\n			\n\n							\n					\n						Upcoming Events					\n				\n			\n			\n				\n											\n\n	\n	\n		\n			Apr		\n		\n			25		\n	\n\n\n	\n		\n			\n\n				\n					\n		\n		9:30 am - 12:00 pm	\n	\n\n	\n		\n\n	\n	\n	\n\n	\n\n\n					\n	\n		The Piping Center	\n\n				\n\n				\n			\n		\n	\n\n\n											\n\n	\n	\n		\n			Apr		\n		\n			25		\n	\n\n\n	\n		\n			\n\n				\n					\n		\n		10:00 am - 11:00 am	\n	\n\n	\n		\n\n	\n	\n	\n\n	\n\n\n					\n	\n		The Piping Center	\n\n				\n\n				\n			\n		\n	\n\n\n											\n\n	\n	\n		\n			Apr		\n		\n			25		\n	\n\n\n	\n		\n			\n\n				\n					\n		\n		10:00 am - 12:00 pm	\n	\n\n	\n		\n\n	\n	\n	\n\n	\n\n\n					\n	\n		The Piping Center	\n\n				\n\n				\n			\n		\n	\n\n\n											\n\n	\n	\n		\n			Apr		\n		\n			25		\n	\n\n\n	\n		\n			\n\n				\n					\n		\n		10:00 am - 5:00 pm	\n	\n					\n	\n		Calis Harun – Mosaic Workshop	\n\n				\n\n				\n			\n		\n	\n\n\n											\n\n	\n	\n		\n			Apr		\n		\n			27		\n	\n\n\n	\n		\n			\n\n				\n					\n		\n		9:00 am - 2:45 pm	\n	\n\n	\n		\n\n	\n	\n	\n\n	\n\n\n					\n	\n		Edinburgh College	\n\n				\n\n				\n			\n		\n	\n\n\n									\n\n				\n	\n		View Calendar
URL:https://duncanplace.org/event/caitlin-heavy-yogabirth-2/2026-01-29/
LOCATION:Duncan Place Community Hub\, Duncan Place\, Leith\, Edinburgh\, Edinburgh\, EH6 8HW\, United Kingdom
ATTACH;FMTTYPE=image/png:https://duncanplace.org/wp-content/uploads/2025/11/ch-yoga.png
ORGANIZER;CN="Caitlin Heavey":MAILTO:https://caitlinheavey.co.uk/enquiries
GEO:55.9699976;-3.1683591
X-APPLE-STRUCTURED-LOCATION;VALUE=URI;X-ADDRESS=Duncan Place Community Hub Duncan Place Leith Edinburgh Edinburgh EH6 8HW United Kingdom;X-APPLE-RADIUS=500;X-TITLE=Duncan Place:geo:-3.1683591,55.9699976
END:VEVENT
BEGIN:VEVENT
DTSTART;TZID=Europe/London:20260129T181500
DTEND;TZID=Europe/London:20260129T193000
DTSTAMP:20260424T224337
CREATED:20260420T115203Z
LAST-MODIFIED:20260420T115203Z
UID:10005694-1769710500-1769715000@duncanplace.org
SUMMARY:Pilates with Catrin
DESCRIPTION:Our Monday class is currently full. Please email events@duncanplace.org to be added to the waiting list\, and we will contact you if a place becomes available.  Alternatively\, we also run a Thursday 12:30 pm class\, which currently has spaces. Please email us to enquire.  (Spaces are for weekly attendance) \nThis is a chair-modified yoga class which is suitable for all ages. This class gives chair-based variations on the classic poses - you will find your mountain and warrior poses here! \nWhilst the focus is about maintaining strength and flexibility it’s still a very relaxing class. This hour long chair yoga class will include yoga poses\, gentle yoga flows and stretching sequences\, pranayama (breathing practices)\, some meditation and of course relaxation. \n**Please arrive five minutes beforehand so classes can start on time.** \n\n\nClasses led by Yoga Teacher Yonnie Fraser\n\n	\nYonnie has worked with children and young people in creative projects all over Scotland for the last 25 years. She would often begin the day by guiding staff and children through a short yoga practice and her commitment to furthering her yoga training and teaching stemmed from this time. Yonnie completed her 200-hour yoga teacher training in a small yoga studio in Jaipur and has since gone on to train in yoga mudra\, family yoga\, yoga and autism and chair yoga. Her yoga teaching is rooted in inclusivity and (being older herself) she loves working with seniors as well as all the other ages! She has recently completed an advanced yoga teacher training in psychologically-sensitive Yoga. \n\n\n\n\n		\n	\n\nA Duncan Place Event\n\n	Add your name to the waiting list\nevents@duncanplace.org \n\n\n	\n		\n\n			\n			\n\n							\n					\n						Upcoming Events					\n				\n			\n			\n				\n											\n\n	\n	\n		\n			Apr		\n		\n			25		\n	\n\n\n	\n		\n			\n\n				\n					\n		\n		9:30 am - 12:00 pm	\n	\n\n	\n		\n\n	\n	\n	\n\n	\n\n\n					\n	\n		The Piping Center	\n\n				\n\n				\n			\n		\n	\n\n\n											\n\n	\n	\n		\n			Apr		\n		\n			25		\n	\n\n\n	\n		\n			\n\n				\n					\n		\n		10:00 am - 11:00 am	\n	\n\n	\n		\n\n	\n	\n	\n\n	\n\n\n					\n	\n		The Piping Center	\n\n				\n\n				\n			\n		\n	\n\n\n											\n\n	\n	\n		\n			Apr		\n		\n			25		\n	\n\n\n	\n		\n			\n\n				\n					\n		\n		10:00 am - 12:00 pm	\n	\n\n	\n		\n\n	\n	\n	\n\n	\n\n\n					\n	\n		The Piping Center	\n\n				\n\n				\n			\n		\n	\n\n\n											\n\n	\n	\n		\n			Apr		\n		\n			25		\n	\n\n\n	\n		\n			\n\n				\n					\n		\n		10:00 am - 5:00 pm	\n	\n					\n	\n		Calis Harun – Mosaic Workshop	\n\n				\n\n				\n			\n		\n	\n\n\n											\n\n	\n	\n		\n			Apr		\n		\n			27		\n	\n\n\n	\n		\n			\n\n				\n					\n		\n		9:00 am - 2:45 pm	\n	\n\n	\n		\n\n	\n	\n	\n\n	\n\n\n					\n	\n		Edinburgh College	\n\n				\n\n				\n			\n		\n	\n\n\n									\n\n				\n	\n		View Calendar
URL:https://duncanplace.org/event/pilates-with-catrin-2/2026-01-29/
LOCATION:Duncan Place Community Hub\, Duncan Place\, Leith\, Edinburgh\, Edinburgh\, EH6 8HW\, United Kingdom
ORGANIZER;CN="Catrin Dawson":MAILTO:catrindawson@gmail.com
GEO:55.9699976;-3.1683591
X-APPLE-STRUCTURED-LOCATION;VALUE=URI;X-ADDRESS=Duncan Place Community Hub Duncan Place Leith Edinburgh Edinburgh EH6 8HW United Kingdom;X-APPLE-RADIUS=500;X-TITLE=Duncan Place:geo:-3.1683591,55.9699976
END:VEVENT
BEGIN:VEVENT
DTSTART;TZID=Europe/London:20260129T193000
DTEND;TZID=Europe/London:20260129T204500
DTSTAMP:20260424T224337
CREATED:20260120T170818Z
LAST-MODIFIED:20260313T122614Z
UID:10005313-1769715000-1769719500@duncanplace.org
SUMMARY:Pilates with Catrin
DESCRIPTION:Our Monday class is currently full. Please email events@duncanplace.org to be added to the waiting list\, and we will contact you if a place becomes available.  Alternatively\, we also run a Thursday 12:30 pm class\, which currently has spaces. Please email us to enquire.  (Spaces are for weekly attendance) \nThis is a chair-modified yoga class which is suitable for all ages. This class gives chair-based variations on the classic poses - you will find your mountain and warrior poses here! \nWhilst the focus is about maintaining strength and flexibility it’s still a very relaxing class. This hour long chair yoga class will include yoga poses\, gentle yoga flows and stretching sequences\, pranayama (breathing practices)\, some meditation and of course relaxation. \n**Please arrive five minutes beforehand so classes can start on time.** \n\n\nClasses led by Yoga Teacher Yonnie Fraser\n\n	\nYonnie has worked with children and young people in creative projects all over Scotland for the last 25 years. She would often begin the day by guiding staff and children through a short yoga practice and her commitment to furthering her yoga training and teaching stemmed from this time. Yonnie completed her 200-hour yoga teacher training in a small yoga studio in Jaipur and has since gone on to train in yoga mudra\, family yoga\, yoga and autism and chair yoga. Her yoga teaching is rooted in inclusivity and (being older herself) she loves working with seniors as well as all the other ages! She has recently completed an advanced yoga teacher training in psychologically-sensitive Yoga. \n\n\n\n\n		\n	\n\nA Duncan Place Event\n\n	Add your name to the waiting list\nevents@duncanplace.org \n\n\n	\n		\n\n			\n			\n\n							\n					\n						Upcoming Events					\n				\n			\n			\n				\n											\n\n	\n	\n		\n			Apr		\n		\n			25		\n	\n\n\n	\n		\n			\n\n				\n					\n		\n		9:30 am - 12:00 pm	\n	\n\n	\n		\n\n	\n	\n	\n\n	\n\n\n					\n	\n		The Piping Center	\n\n				\n\n				\n			\n		\n	\n\n\n											\n\n	\n	\n		\n			Apr		\n		\n			25		\n	\n\n\n	\n		\n			\n\n				\n					\n		\n		10:00 am - 11:00 am	\n	\n\n	\n		\n\n	\n	\n	\n\n	\n\n\n					\n	\n		The Piping Center	\n\n				\n\n				\n			\n		\n	\n\n\n											\n\n	\n	\n		\n			Apr		\n		\n			25		\n	\n\n\n	\n		\n			\n\n				\n					\n		\n		10:00 am - 12:00 pm	\n	\n\n	\n		\n\n	\n	\n	\n\n	\n\n\n					\n	\n		The Piping Center	\n\n				\n\n				\n			\n		\n	\n\n\n											\n\n	\n	\n		\n			Apr		\n		\n			25		\n	\n\n\n	\n		\n			\n\n				\n					\n		\n		10:00 am - 5:00 pm	\n	\n					\n	\n		Calis Harun – Mosaic Workshop	\n\n				\n\n				\n			\n		\n	\n\n\n											\n\n	\n	\n		\n			Apr		\n		\n			27		\n	\n\n\n	\n		\n			\n\n				\n					\n		\n		9:00 am - 2:45 pm	\n	\n\n	\n		\n\n	\n	\n	\n\n	\n\n\n					\n	\n		Edinburgh College	\n\n				\n\n				\n			\n		\n	\n\n\n									\n\n				\n	\n		View Calendar
URL:https://duncanplace.org/event/pilates-with-catrin/2026-01-29/
LOCATION:Duncan Place Community Hub\, Duncan Place\, Leith\, Edinburgh\, Edinburgh\, EH6 8HW\, United Kingdom
ORGANIZER;CN="Catrin Dawson":MAILTO:catrindawson@gmail.com
GEO:55.9699976;-3.1683591
X-APPLE-STRUCTURED-LOCATION;VALUE=URI;X-ADDRESS=Duncan Place Community Hub Duncan Place Leith Edinburgh Edinburgh EH6 8HW United Kingdom;X-APPLE-RADIUS=500;X-TITLE=Duncan Place:geo:-3.1683591,55.9699976
END:VEVENT
END:VCALENDAR