BEGIN:VCALENDAR
VERSION:2.0
PRODID:-//Duncan Place - ECPv6.15.20//NONSGML v1.0//EN
CALSCALE:GREGORIAN
METHOD:PUBLISH
X-WR-CALNAME:Duncan Place
X-ORIGINAL-URL:https://duncanplace.org
X-WR-CALDESC:Events for Duncan Place
REFRESH-INTERVAL;VALUE=DURATION:PT1H
X-Robots-Tag:noindex
X-PUBLISHED-TTL:PT1H
BEGIN:VTIMEZONE
TZID:Europe/London
BEGIN:DAYLIGHT
TZOFFSETFROM:+0000
TZOFFSETTO:+0100
TZNAME:BST
DTSTART:20250330T010000
END:DAYLIGHT
BEGIN:STANDARD
TZOFFSETFROM:+0100
TZOFFSETTO:+0000
TZNAME:GMT
DTSTART:20251026T010000
END:STANDARD
BEGIN:DAYLIGHT
TZOFFSETFROM:+0000
TZOFFSETTO:+0100
TZNAME:BST
DTSTART:20260329T010000
END:DAYLIGHT
BEGIN:STANDARD
TZOFFSETFROM:+0100
TZOFFSETTO:+0000
TZNAME:GMT
DTSTART:20261025T010000
END:STANDARD
BEGIN:DAYLIGHT
TZOFFSETFROM:+0000
TZOFFSETTO:+0100
TZNAME:BST
DTSTART:20270328T010000
END:DAYLIGHT
BEGIN:STANDARD
TZOFFSETFROM:+0100
TZOFFSETTO:+0000
TZNAME:GMT
DTSTART:20271031T010000
END:STANDARD
END:VTIMEZONE
BEGIN:VEVENT
DTSTART;TZID=Europe/London:20260302T183000
DTEND;TZID=Europe/London:20260302T203000
DTSTAMP:20260425T233912
CREATED:20250722T154846Z
LAST-MODIFIED:20260105T144526Z
UID:10003995-1772476200-1772483400@duncanplace.org
SUMMARY:Emma Ryland - Motherless Daughters Group
DESCRIPTION:Wee Duncan Room\n\n	The Piping Centre - private booking \n\n\n	\n		\n\n			\n			\n\n							\n					\n						Upcoming Events					\n				\n			\n			\n				\n											\n\n	\n	\n		\n			Apr		\n		\n			27		\n	\n\n\n	\n		\n			\n\n				\n					\n		\n		9:00 am - 2:45 pm	\n	\n\n	\n		\n\n	\n	\n	\n\n	\n\n\n					\n	\n		Edinburgh College	\n\n				\n\n				\n			\n		\n	\n\n\n											\n\n	\n	\n		\n			Apr		\n		\n			27		\n	\n\n\n	\n		\n			\n\n				\n					\n	\n	\n	\n\n\n\n	Featured\n	\n		10:30 am - 11:30 am	\n	\n\n	\n		\n\n	\n	\n	\n\n	\n\n\n					\n	\n		Chair Yoga	\n\n				\n\n				\n			\n		\n	\n\n\n											\n\n	\n	\n		\n			Apr		\n		\n			27		\n	\n\n\n	\n		\n			\n\n				\n					\n		\n		11:45 am - 1:45 pm	\n	\n\n	\n		\n\n	\n	\n	\n\n	\n\n\n					\n	\n		The Cheyne Gang – Room 4	\n\n				\n\n				\n			\n		\n	\n\n\n											\n\n	\n	\n		\n			Apr		\n		\n			27		\n	\n\n\n	\n		\n			\n\n				\n					\n		\n		1:00 pm - 3:00 pm	\n	\n\n	\n		\n\n	\n	\n	\n\n	\n\n\n					\n	\n		Scottish Partnership for Palliative Care	\n\n				\n\n				\n			\n		\n	\n\n\n											\n\n	\n	\n		\n			Apr		\n		\n			27		\n	\n\n\n	\n		\n			\n\n				\n					\n		\n		3:15 pm - 6:15 pm	\n	\n\n	\n		\n\n	\n	\n	\n\n	\n\n\n					\n	\n		Academy Arts	\n\n				\n\n				\n			\n		\n	\n\n\n									\n\n				\n	\n		View Calendar
URL:https://duncanplace.org/event/emma-ryland-motherless-daughters-group-2/2026-03-02/
LOCATION:Duncan Place Community Hub\, Duncan Place\, Leith\, Edinburgh\, Edinburgh\, EH6 8HW\, United Kingdom
ATTACH;FMTTYPE=image/png:https://duncanplace.org/wp-content/uploads/2025/04/Emma-Ryland-1.png
ORGANIZER;CN="Emma Ryland":MAILTO:info@emmaryland.co.uk
GEO:55.9699976;-3.1683591
X-APPLE-STRUCTURED-LOCATION;VALUE=URI;X-ADDRESS=Duncan Place Community Hub Duncan Place Leith Edinburgh Edinburgh EH6 8HW United Kingdom;X-APPLE-RADIUS=500;X-TITLE=Duncan Place:geo:-3.1683591,55.9699976
END:VEVENT
BEGIN:VEVENT
DTSTART;TZID=Europe/London:20260302T192000
DTEND;TZID=Europe/London:20260302T205000
DTSTAMP:20260425T233913
CREATED:20260120T190716Z
LAST-MODIFIED:20260120T192857Z
UID:10005352-1772479200-1772484600@duncanplace.org
SUMMARY:Gurdjieff
DESCRIPTION:Wee Duncan Room\n\n	The Piping Centre - private booking \n\n\n	\n		\n\n			\n			\n\n							\n					\n						Upcoming Events					\n				\n			\n			\n				\n											\n\n	\n	\n		\n			Apr		\n		\n			27		\n	\n\n\n	\n		\n			\n\n				\n					\n		\n		9:00 am - 2:45 pm	\n	\n\n	\n		\n\n	\n	\n	\n\n	\n\n\n					\n	\n		Edinburgh College	\n\n				\n\n				\n			\n		\n	\n\n\n											\n\n	\n	\n		\n			Apr		\n		\n			27		\n	\n\n\n	\n		\n			\n\n				\n					\n	\n	\n	\n\n\n\n	Featured\n	\n		10:30 am - 11:30 am	\n	\n\n	\n		\n\n	\n	\n	\n\n	\n\n\n					\n	\n		Chair Yoga	\n\n				\n\n				\n			\n		\n	\n\n\n											\n\n	\n	\n		\n			Apr		\n		\n			27		\n	\n\n\n	\n		\n			\n\n				\n					\n		\n		11:45 am - 1:45 pm	\n	\n\n	\n		\n\n	\n	\n	\n\n	\n\n\n					\n	\n		The Cheyne Gang – Room 4	\n\n				\n\n				\n			\n		\n	\n\n\n											\n\n	\n	\n		\n			Apr		\n		\n			27		\n	\n\n\n	\n		\n			\n\n				\n					\n		\n		1:00 pm - 3:00 pm	\n	\n\n	\n		\n\n	\n	\n	\n\n	\n\n\n					\n	\n		Scottish Partnership for Palliative Care	\n\n				\n\n				\n			\n		\n	\n\n\n											\n\n	\n	\n		\n			Apr		\n		\n			27		\n	\n\n\n	\n		\n			\n\n				\n					\n		\n		3:15 pm - 6:15 pm	\n	\n\n	\n		\n\n	\n	\n	\n\n	\n\n\n					\n	\n		Academy Arts	\n\n				\n\n				\n			\n		\n	\n\n\n									\n\n				\n	\n		View Calendar
URL:https://duncanplace.org/event/gurdjieff-2/2026-03-02/
LOCATION:Duncan Place Community Hub\, Duncan Place\, Leith\, Edinburgh\, Edinburgh\, EH6 8HW\, United Kingdom
ATTACH;FMTTYPE=image/png:https://duncanplace.org/wp-content/uploads/2025/10/GURDI.png
ORGANIZER;CN="Duncan Place Events":MAILTO:events@duncanplace.org
GEO:55.9699976;-3.1683591
X-APPLE-STRUCTURED-LOCATION;VALUE=URI;X-ADDRESS=Duncan Place Community Hub Duncan Place Leith Edinburgh Edinburgh EH6 8HW United Kingdom;X-APPLE-RADIUS=500;X-TITLE=Duncan Place:geo:-3.1683591,55.9699976
END:VEVENT
BEGIN:VEVENT
DTSTART;TZID=Europe/London:20260303T090000
DTEND;TZID=Europe/London:20260303T144500
DTSTAMP:20260425T233913
CREATED:20251120T130442Z
LAST-MODIFIED:20251120T130940Z
UID:10004704-1772528400-1772549100@duncanplace.org
SUMMARY:Edinburgh College
DESCRIPTION:Wee Duncan Room\n\n	The Piping Centre - private booking \n\n\n	\n		\n\n			\n			\n\n							\n					\n						Upcoming Events					\n				\n			\n			\n				\n											\n\n	\n	\n		\n			Apr		\n		\n			27		\n	\n\n\n	\n		\n			\n\n				\n					\n		\n		9:00 am - 2:45 pm	\n	\n\n	\n		\n\n	\n	\n	\n\n	\n\n\n					\n	\n		Edinburgh College	\n\n				\n\n				\n			\n		\n	\n\n\n											\n\n	\n	\n		\n			Apr		\n		\n			27		\n	\n\n\n	\n		\n			\n\n				\n					\n	\n	\n	\n\n\n\n	Featured\n	\n		10:30 am - 11:30 am	\n	\n\n	\n		\n\n	\n	\n	\n\n	\n\n\n					\n	\n		Chair Yoga	\n\n				\n\n				\n			\n		\n	\n\n\n											\n\n	\n	\n		\n			Apr		\n		\n			27		\n	\n\n\n	\n		\n			\n\n				\n					\n		\n		11:45 am - 1:45 pm	\n	\n\n	\n		\n\n	\n	\n	\n\n	\n\n\n					\n	\n		The Cheyne Gang – Room 4	\n\n				\n\n				\n			\n		\n	\n\n\n											\n\n	\n	\n		\n			Apr		\n		\n			27		\n	\n\n\n	\n		\n			\n\n				\n					\n		\n		1:00 pm - 3:00 pm	\n	\n\n	\n		\n\n	\n	\n	\n\n	\n\n\n					\n	\n		Scottish Partnership for Palliative Care	\n\n				\n\n				\n			\n		\n	\n\n\n											\n\n	\n	\n		\n			Apr		\n		\n			27		\n	\n\n\n	\n		\n			\n\n				\n					\n		\n		3:15 pm - 6:15 pm	\n	\n\n	\n		\n\n	\n	\n	\n\n	\n\n\n					\n	\n		Academy Arts	\n\n				\n\n				\n			\n		\n	\n\n\n									\n\n				\n	\n		View Calendar
URL:https://duncanplace.org/event/edinburgh-college-5/2026-03-03/
LOCATION:Duncan Place Community Hub\, Duncan Place\, Leith\, Edinburgh\, Edinburgh\, EH6 8HW\, United Kingdom
ATTACH;FMTTYPE=image/png:https://duncanplace.org/wp-content/uploads/2025/07/ec1.png
ORGANIZER;CN="Edinburgh College":MAILTO:courseinfo@edinburghcollege.c.uk
GEO:55.9699976;-3.1683591
X-APPLE-STRUCTURED-LOCATION;VALUE=URI;X-ADDRESS=Duncan Place Community Hub Duncan Place Leith Edinburgh Edinburgh EH6 8HW United Kingdom;X-APPLE-RADIUS=500;X-TITLE=Duncan Place:geo:-3.1683591,55.9699976
END:VEVENT
BEGIN:VEVENT
DTSTART;TZID=Europe/London:20260303T113000
DTEND;TZID=Europe/London:20260303T123000
DTSTAMP:20260425T233913
CREATED:20241209T105449Z
LAST-MODIFIED:20251125T190851Z
UID:10002594-1772537400-1772541000@duncanplace.org
SUMMARY:Private Hire
DESCRIPTION:Wee Duncan Room\n\n	The Piping Centre - private booking \n\n\n	\n		\n\n			\n			\n\n							\n					\n						Upcoming Events					\n				\n			\n			\n				\n											\n\n	\n	\n		\n			Apr		\n		\n			27		\n	\n\n\n	\n		\n			\n\n				\n					\n		\n		9:00 am - 2:45 pm	\n	\n\n	\n		\n\n	\n	\n	\n\n	\n\n\n					\n	\n		Edinburgh College	\n\n				\n\n				\n			\n		\n	\n\n\n											\n\n	\n	\n		\n			Apr		\n		\n			27		\n	\n\n\n	\n		\n			\n\n				\n					\n	\n	\n	\n\n\n\n	Featured\n	\n		10:30 am - 11:30 am	\n	\n\n	\n		\n\n	\n	\n	\n\n	\n\n\n					\n	\n		Chair Yoga	\n\n				\n\n				\n			\n		\n	\n\n\n											\n\n	\n	\n		\n			Apr		\n		\n			27		\n	\n\n\n	\n		\n			\n\n				\n					\n		\n		11:45 am - 1:45 pm	\n	\n\n	\n		\n\n	\n	\n	\n\n	\n\n\n					\n	\n		The Cheyne Gang – Room 4	\n\n				\n\n				\n			\n		\n	\n\n\n											\n\n	\n	\n		\n			Apr		\n		\n			27		\n	\n\n\n	\n		\n			\n\n				\n					\n		\n		1:00 pm - 3:00 pm	\n	\n\n	\n		\n\n	\n	\n	\n\n	\n\n\n					\n	\n		Scottish Partnership for Palliative Care	\n\n				\n\n				\n			\n		\n	\n\n\n											\n\n	\n	\n		\n			Apr		\n		\n			27		\n	\n\n\n	\n		\n			\n\n				\n					\n		\n		3:15 pm - 6:15 pm	\n	\n\n	\n		\n\n	\n	\n	\n\n	\n\n\n					\n	\n		Academy Arts	\n\n				\n\n				\n			\n		\n	\n\n\n									\n\n				\n	\n		View Calendar
URL:https://duncanplace.org/event/private-hire-2/2026-03-03/
LOCATION:Duncan Place Community Hub\, Duncan Place\, Leith\, Edinburgh\, Edinburgh\, EH6 8HW\, United Kingdom
GEO:55.9699976;-3.1683591
X-APPLE-STRUCTURED-LOCATION;VALUE=URI;X-ADDRESS=Duncan Place Community Hub Duncan Place Leith Edinburgh Edinburgh EH6 8HW United Kingdom;X-APPLE-RADIUS=500;X-TITLE=Duncan Place:geo:-3.1683591,55.9699976
END:VEVENT
BEGIN:VEVENT
DTSTART;TZID=Europe/London:20260303T130000
DTEND;TZID=Europe/London:20260303T180000
DTSTAMP:20260425T233913
CREATED:20251121T132027Z
LAST-MODIFIED:20251121T132027Z
UID:10004954-1772542800-1772560800@duncanplace.org
SUMMARY:Private Hire
DESCRIPTION:Wee Duncan Room\n\n	The Piping Centre - private booking \n\n\n	\n		\n\n			\n			\n\n							\n					\n						Upcoming Events					\n				\n			\n			\n				\n											\n\n	\n	\n		\n			Apr		\n		\n			27		\n	\n\n\n	\n		\n			\n\n				\n					\n		\n		9:00 am - 2:45 pm	\n	\n\n	\n		\n\n	\n	\n	\n\n	\n\n\n					\n	\n		Edinburgh College	\n\n				\n\n				\n			\n		\n	\n\n\n											\n\n	\n	\n		\n			Apr		\n		\n			27		\n	\n\n\n	\n		\n			\n\n				\n					\n	\n	\n	\n\n\n\n	Featured\n	\n		10:30 am - 11:30 am	\n	\n\n	\n		\n\n	\n	\n	\n\n	\n\n\n					\n	\n		Chair Yoga	\n\n				\n\n				\n			\n		\n	\n\n\n											\n\n	\n	\n		\n			Apr		\n		\n			27		\n	\n\n\n	\n		\n			\n\n				\n					\n		\n		11:45 am - 1:45 pm	\n	\n\n	\n		\n\n	\n	\n	\n\n	\n\n\n					\n	\n		The Cheyne Gang – Room 4	\n\n				\n\n				\n			\n		\n	\n\n\n											\n\n	\n	\n		\n			Apr		\n		\n			27		\n	\n\n\n	\n		\n			\n\n				\n					\n		\n		1:00 pm - 3:00 pm	\n	\n\n	\n		\n\n	\n	\n	\n\n	\n\n\n					\n	\n		Scottish Partnership for Palliative Care	\n\n				\n\n				\n			\n		\n	\n\n\n											\n\n	\n	\n		\n			Apr		\n		\n			27		\n	\n\n\n	\n		\n			\n\n				\n					\n		\n		3:15 pm - 6:15 pm	\n	\n\n	\n		\n\n	\n	\n	\n\n	\n\n\n					\n	\n		Academy Arts	\n\n				\n\n				\n			\n		\n	\n\n\n									\n\n				\n	\n		View Calendar
URL:https://duncanplace.org/event/private-hire-3/2026-03-03/
LOCATION:Duncan Place Community Hub\, Duncan Place\, Leith\, Edinburgh\, Edinburgh\, EH6 8HW\, United Kingdom
GEO:55.9699976;-3.1683591
X-APPLE-STRUCTURED-LOCATION;VALUE=URI;X-ADDRESS=Duncan Place Community Hub Duncan Place Leith Edinburgh Edinburgh EH6 8HW United Kingdom;X-APPLE-RADIUS=500;X-TITLE=Duncan Place:geo:-3.1683591,55.9699976
END:VEVENT
BEGIN:VEVENT
DTSTART;TZID=Europe/London:20260303T153000
DTEND;TZID=Europe/London:20260303T163000
DTSTAMP:20260425T233913
CREATED:20260120T164024Z
LAST-MODIFIED:20260120T164024Z
UID:10005307-1772551800-1772555400@duncanplace.org
SUMMARY:Leith Drama
DESCRIPTION:Wee Duncan Room\n\n	The Piping Centre - private booking \n\n\n	\n		\n\n			\n			\n\n							\n					\n						Upcoming Events					\n				\n			\n			\n				\n											\n\n	\n	\n		\n			Apr		\n		\n			27		\n	\n\n\n	\n		\n			\n\n				\n					\n		\n		9:00 am - 2:45 pm	\n	\n\n	\n		\n\n	\n	\n	\n\n	\n\n\n					\n	\n		Edinburgh College	\n\n				\n\n				\n			\n		\n	\n\n\n											\n\n	\n	\n		\n			Apr		\n		\n			27		\n	\n\n\n	\n		\n			\n\n				\n					\n	\n	\n	\n\n\n\n	Featured\n	\n		10:30 am - 11:30 am	\n	\n\n	\n		\n\n	\n	\n	\n\n	\n\n\n					\n	\n		Chair Yoga	\n\n				\n\n				\n			\n		\n	\n\n\n											\n\n	\n	\n		\n			Apr		\n		\n			27		\n	\n\n\n	\n		\n			\n\n				\n					\n		\n		11:45 am - 1:45 pm	\n	\n\n	\n		\n\n	\n	\n	\n\n	\n\n\n					\n	\n		The Cheyne Gang – Room 4	\n\n				\n\n				\n			\n		\n	\n\n\n											\n\n	\n	\n		\n			Apr		\n		\n			27		\n	\n\n\n	\n		\n			\n\n				\n					\n		\n		1:00 pm - 3:00 pm	\n	\n\n	\n		\n\n	\n	\n	\n\n	\n\n\n					\n	\n		Scottish Partnership for Palliative Care	\n\n				\n\n				\n			\n		\n	\n\n\n											\n\n	\n	\n		\n			Apr		\n		\n			27		\n	\n\n\n	\n		\n			\n\n				\n					\n		\n		3:15 pm - 6:15 pm	\n	\n\n	\n		\n\n	\n	\n	\n\n	\n\n\n					\n	\n		Academy Arts	\n\n				\n\n				\n			\n		\n	\n\n\n									\n\n				\n	\n		View Calendar
URL:https://duncanplace.org/event/leith-drama/2026-03-03/
LOCATION:Duncan Place Community Hub\, Duncan Place\, Leith\, Edinburgh\, Edinburgh\, EH6 8HW\, United Kingdom
ATTACH;FMTTYPE=image/png:https://duncanplace.org/wp-content/uploads/2024/06/Leith-Drama2.png
GEO:55.9699976;-3.1683591
X-APPLE-STRUCTURED-LOCATION;VALUE=URI;X-ADDRESS=Duncan Place Community Hub Duncan Place Leith Edinburgh Edinburgh EH6 8HW United Kingdom;X-APPLE-RADIUS=500;X-TITLE=Duncan Place:geo:-3.1683591,55.9699976
END:VEVENT
BEGIN:VEVENT
DTSTART;TZID=Europe/London:20260303T181500
DTEND;TZID=Europe/London:20260303T193000
DTSTAMP:20260425T233913
CREATED:20260420T115203Z
LAST-MODIFIED:20260420T115203Z
UID:10005703-1772561700-1772566200@duncanplace.org
SUMMARY:Pilates with Catrin
DESCRIPTION:Wee Duncan Room\n\n	The Piping Centre - private booking \n\n\n	\n		\n\n			\n			\n\n							\n					\n						Upcoming Events					\n				\n			\n			\n				\n											\n\n	\n	\n		\n			Apr		\n		\n			27		\n	\n\n\n	\n		\n			\n\n				\n					\n		\n		9:00 am - 2:45 pm	\n	\n\n	\n		\n\n	\n	\n	\n\n	\n\n\n					\n	\n		Edinburgh College	\n\n				\n\n				\n			\n		\n	\n\n\n											\n\n	\n	\n		\n			Apr		\n		\n			27		\n	\n\n\n	\n		\n			\n\n				\n					\n	\n	\n	\n\n\n\n	Featured\n	\n		10:30 am - 11:30 am	\n	\n\n	\n		\n\n	\n	\n	\n\n	\n\n\n					\n	\n		Chair Yoga	\n\n				\n\n				\n			\n		\n	\n\n\n											\n\n	\n	\n		\n			Apr		\n		\n			27		\n	\n\n\n	\n		\n			\n\n				\n					\n		\n		11:45 am - 1:45 pm	\n	\n\n	\n		\n\n	\n	\n	\n\n	\n\n\n					\n	\n		The Cheyne Gang – Room 4	\n\n				\n\n				\n			\n		\n	\n\n\n											\n\n	\n	\n		\n			Apr		\n		\n			27		\n	\n\n\n	\n		\n			\n\n				\n					\n		\n		1:00 pm - 3:00 pm	\n	\n\n	\n		\n\n	\n	\n	\n\n	\n\n\n					\n	\n		Scottish Partnership for Palliative Care	\n\n				\n\n				\n			\n		\n	\n\n\n											\n\n	\n	\n		\n			Apr		\n		\n			27		\n	\n\n\n	\n		\n			\n\n				\n					\n		\n		3:15 pm - 6:15 pm	\n	\n\n	\n		\n\n	\n	\n	\n\n	\n\n\n					\n	\n		Academy Arts	\n\n				\n\n				\n			\n		\n	\n\n\n									\n\n				\n	\n		View Calendar
URL:https://duncanplace.org/event/pilates-with-catrin-2/2026-03-03/
LOCATION:Duncan Place Community Hub\, Duncan Place\, Leith\, Edinburgh\, Edinburgh\, EH6 8HW\, United Kingdom
ORGANIZER;CN="Catrin Dawson":MAILTO:catrindawson@gmail.com
GEO:55.9699976;-3.1683591
X-APPLE-STRUCTURED-LOCATION;VALUE=URI;X-ADDRESS=Duncan Place Community Hub Duncan Place Leith Edinburgh Edinburgh EH6 8HW United Kingdom;X-APPLE-RADIUS=500;X-TITLE=Duncan Place:geo:-3.1683591,55.9699976
END:VEVENT
BEGIN:VEVENT
DTSTART;TZID=Europe/London:20260303T190000
DTEND;TZID=Europe/London:20260303T204500
DTSTAMP:20260425T233913
CREATED:20251201T134553Z
LAST-MODIFIED:20251205T124821Z
UID:10005038-1772564400-1772570700@duncanplace.org
SUMMARY:Duncan Place Community Choir
DESCRIPTION:Wee Duncan Room\n\n	The Piping Centre - private booking \n\n\n	\n		\n\n			\n			\n\n							\n					\n						Upcoming Events					\n				\n			\n			\n				\n											\n\n	\n	\n		\n			Apr		\n		\n			27		\n	\n\n\n	\n		\n			\n\n				\n					\n		\n		9:00 am - 2:45 pm	\n	\n\n	\n		\n\n	\n	\n	\n\n	\n\n\n					\n	\n		Edinburgh College	\n\n				\n\n				\n			\n		\n	\n\n\n											\n\n	\n	\n		\n			Apr		\n		\n			27		\n	\n\n\n	\n		\n			\n\n				\n					\n	\n	\n	\n\n\n\n	Featured\n	\n		10:30 am - 11:30 am	\n	\n\n	\n		\n\n	\n	\n	\n\n	\n\n\n					\n	\n		Chair Yoga	\n\n				\n\n				\n			\n		\n	\n\n\n											\n\n	\n	\n		\n			Apr		\n		\n			27		\n	\n\n\n	\n		\n			\n\n				\n					\n		\n		11:45 am - 1:45 pm	\n	\n\n	\n		\n\n	\n	\n	\n\n	\n\n\n					\n	\n		The Cheyne Gang – Room 4	\n\n				\n\n				\n			\n		\n	\n\n\n											\n\n	\n	\n		\n			Apr		\n		\n			27		\n	\n\n\n	\n		\n			\n\n				\n					\n		\n		1:00 pm - 3:00 pm	\n	\n\n	\n		\n\n	\n	\n	\n\n	\n\n\n					\n	\n		Scottish Partnership for Palliative Care	\n\n				\n\n				\n			\n		\n	\n\n\n											\n\n	\n	\n		\n			Apr		\n		\n			27		\n	\n\n\n	\n		\n			\n\n				\n					\n		\n		3:15 pm - 6:15 pm	\n	\n\n	\n		\n\n	\n	\n	\n\n	\n\n\n					\n	\n		Academy Arts	\n\n				\n\n				\n			\n		\n	\n\n\n									\n\n				\n	\n		View Calendar
URL:https://duncanplace.org/event/duncan-place-community-choir/2026-03-03/
LOCATION:Duncan Place Community Hub\, Duncan Place\, Leith\, Edinburgh\, Edinburgh\, EH6 8HW\, United Kingdom
ATTACH;FMTTYPE=image/png:https://duncanplace.org/wp-content/uploads/2025/12/Duncan-Place-Community-Choir.png
ORGANIZER;CN="Duncan Place Events":MAILTO:events@duncanplace.org
GEO:55.9699976;-3.1683591
X-APPLE-STRUCTURED-LOCATION;VALUE=URI;X-ADDRESS=Duncan Place Community Hub Duncan Place Leith Edinburgh Edinburgh EH6 8HW United Kingdom;X-APPLE-RADIUS=500;X-TITLE=Duncan Place:geo:-3.1683591,55.9699976
END:VEVENT
BEGIN:VEVENT
DTSTART;TZID=Europe/London:20260304T090000
DTEND;TZID=Europe/London:20260304T144500
DTSTAMP:20260425T233913
CREATED:20251120T130610Z
LAST-MODIFIED:20251120T131112Z
UID:10004746-1772614800-1772635500@duncanplace.org
SUMMARY:Edinburgh College
DESCRIPTION:Wee Duncan Room\n\n	The Piping Centre - private booking \n\n\n	\n		\n\n			\n			\n\n							\n					\n						Upcoming Events					\n				\n			\n			\n				\n											\n\n	\n	\n		\n			Apr		\n		\n			27		\n	\n\n\n	\n		\n			\n\n				\n					\n		\n		9:00 am - 2:45 pm	\n	\n\n	\n		\n\n	\n	\n	\n\n	\n\n\n					\n	\n		Edinburgh College	\n\n				\n\n				\n			\n		\n	\n\n\n											\n\n	\n	\n		\n			Apr		\n		\n			27		\n	\n\n\n	\n		\n			\n\n				\n					\n	\n	\n	\n\n\n\n	Featured\n	\n		10:30 am - 11:30 am	\n	\n\n	\n		\n\n	\n	\n	\n\n	\n\n\n					\n	\n		Chair Yoga	\n\n				\n\n				\n			\n		\n	\n\n\n											\n\n	\n	\n		\n			Apr		\n		\n			27		\n	\n\n\n	\n		\n			\n\n				\n					\n		\n		11:45 am - 1:45 pm	\n	\n\n	\n		\n\n	\n	\n	\n\n	\n\n\n					\n	\n		The Cheyne Gang – Room 4	\n\n				\n\n				\n			\n		\n	\n\n\n											\n\n	\n	\n		\n			Apr		\n		\n			27		\n	\n\n\n	\n		\n			\n\n				\n					\n		\n		1:00 pm - 3:00 pm	\n	\n\n	\n		\n\n	\n	\n	\n\n	\n\n\n					\n	\n		Scottish Partnership for Palliative Care	\n\n				\n\n				\n			\n		\n	\n\n\n											\n\n	\n	\n		\n			Apr		\n		\n			27		\n	\n\n\n	\n		\n			\n\n				\n					\n		\n		3:15 pm - 6:15 pm	\n	\n\n	\n		\n\n	\n	\n	\n\n	\n\n\n					\n	\n		Academy Arts	\n\n				\n\n				\n			\n		\n	\n\n\n									\n\n				\n	\n		View Calendar
URL:https://duncanplace.org/event/edinburgh-college-6/2026-03-04/
LOCATION:Duncan Place Community Hub\, Duncan Place\, Leith\, Edinburgh\, Edinburgh\, EH6 8HW\, United Kingdom
ATTACH;FMTTYPE=image/png:https://duncanplace.org/wp-content/uploads/2025/07/ec1.png
ORGANIZER;CN="Edinburgh College":MAILTO:courseinfo@edinburghcollege.c.uk
GEO:55.9699976;-3.1683591
X-APPLE-STRUCTURED-LOCATION;VALUE=URI;X-ADDRESS=Duncan Place Community Hub Duncan Place Leith Edinburgh Edinburgh EH6 8HW United Kingdom;X-APPLE-RADIUS=500;X-TITLE=Duncan Place:geo:-3.1683591,55.9699976
END:VEVENT
BEGIN:VEVENT
DTSTART;TZID=Europe/London:20260304T174500
DTEND;TZID=Europe/London:20260304T184500
DTSTAMP:20260425T233913
CREATED:20250916T161308Z
LAST-MODIFIED:20260313T122501Z
UID:10004768-1772646300-1772649900@duncanplace.org
SUMMARY:Pilates Scotland
DESCRIPTION:Wee Duncan Room\n\n	The Piping Centre - private booking \n\n\n	\n		\n\n			\n			\n\n							\n					\n						Upcoming Events					\n				\n			\n			\n				\n											\n\n	\n	\n		\n			Apr		\n		\n			27		\n	\n\n\n	\n		\n			\n\n				\n					\n		\n		9:00 am - 2:45 pm	\n	\n\n	\n		\n\n	\n	\n	\n\n	\n\n\n					\n	\n		Edinburgh College	\n\n				\n\n				\n			\n		\n	\n\n\n											\n\n	\n	\n		\n			Apr		\n		\n			27		\n	\n\n\n	\n		\n			\n\n				\n					\n	\n	\n	\n\n\n\n	Featured\n	\n		10:30 am - 11:30 am	\n	\n\n	\n		\n\n	\n	\n	\n\n	\n\n\n					\n	\n		Chair Yoga	\n\n				\n\n				\n			\n		\n	\n\n\n											\n\n	\n	\n		\n			Apr		\n		\n			27		\n	\n\n\n	\n		\n			\n\n				\n					\n		\n		11:45 am - 1:45 pm	\n	\n\n	\n		\n\n	\n	\n	\n\n	\n\n\n					\n	\n		The Cheyne Gang – Room 4	\n\n				\n\n				\n			\n		\n	\n\n\n											\n\n	\n	\n		\n			Apr		\n		\n			27		\n	\n\n\n	\n		\n			\n\n				\n					\n		\n		1:00 pm - 3:00 pm	\n	\n\n	\n		\n\n	\n	\n	\n\n	\n\n\n					\n	\n		Scottish Partnership for Palliative Care	\n\n				\n\n				\n			\n		\n	\n\n\n											\n\n	\n	\n		\n			Apr		\n		\n			27		\n	\n\n\n	\n		\n			\n\n				\n					\n		\n		3:15 pm - 6:15 pm	\n	\n\n	\n		\n\n	\n	\n	\n\n	\n\n\n					\n	\n		Academy Arts	\n\n				\n\n				\n			\n		\n	\n\n\n									\n\n				\n	\n		View Calendar
URL:https://duncanplace.org/event/pilates-scotland-2/2026-03-04/
LOCATION:Duncan Place Community Hub\, Duncan Place\, Leith\, Edinburgh\, Edinburgh\, EH6 8HW\, United Kingdom
ATTACH;FMTTYPE=image/png:https://duncanplace.org/wp-content/uploads/2025/04/pil.png
ORGANIZER;CN="Pilates  Scotland":MAILTO:info@pilatesscotland.co.uk
GEO:55.9699976;-3.1683591
X-APPLE-STRUCTURED-LOCATION;VALUE=URI;X-ADDRESS=Duncan Place Community Hub Duncan Place Leith Edinburgh Edinburgh EH6 8HW United Kingdom;X-APPLE-RADIUS=500;X-TITLE=Duncan Place:geo:-3.1683591,55.9699976
END:VEVENT
BEGIN:VEVENT
DTSTART;TZID=Europe/London:20260304T190000
DTEND;TZID=Europe/London:20260304T200000
DTSTAMP:20260425T233913
CREATED:20251209T140225Z
LAST-MODIFIED:20260224T175902Z
UID:10005409-1772650800-1772654400@duncanplace.org
SUMMARY:Yoga with Ailie
DESCRIPTION:Wee Duncan Room\n\n	The Piping Centre - private booking \n\n\n	\n		\n\n			\n			\n\n							\n					\n						Upcoming Events					\n				\n			\n			\n				\n											\n\n	\n	\n		\n			Apr		\n		\n			27		\n	\n\n\n	\n		\n			\n\n				\n					\n		\n		9:00 am - 2:45 pm	\n	\n\n	\n		\n\n	\n	\n	\n\n	\n\n\n					\n	\n		Edinburgh College	\n\n				\n\n				\n			\n		\n	\n\n\n											\n\n	\n	\n		\n			Apr		\n		\n			27		\n	\n\n\n	\n		\n			\n\n				\n					\n	\n	\n	\n\n\n\n	Featured\n	\n		10:30 am - 11:30 am	\n	\n\n	\n		\n\n	\n	\n	\n\n	\n\n\n					\n	\n		Chair Yoga	\n\n				\n\n				\n			\n		\n	\n\n\n											\n\n	\n	\n		\n			Apr		\n		\n			27		\n	\n\n\n	\n		\n			\n\n				\n					\n		\n		11:45 am - 1:45 pm	\n	\n\n	\n		\n\n	\n	\n	\n\n	\n\n\n					\n	\n		The Cheyne Gang – Room 4	\n\n				\n\n				\n			\n		\n	\n\n\n											\n\n	\n	\n		\n			Apr		\n		\n			27		\n	\n\n\n	\n		\n			\n\n				\n					\n		\n		1:00 pm - 3:00 pm	\n	\n\n	\n		\n\n	\n	\n	\n\n	\n\n\n					\n	\n		Scottish Partnership for Palliative Care	\n\n				\n\n				\n			\n		\n	\n\n\n											\n\n	\n	\n		\n			Apr		\n		\n			27		\n	\n\n\n	\n		\n			\n\n				\n					\n		\n		3:15 pm - 6:15 pm	\n	\n\n	\n		\n\n	\n	\n	\n\n	\n\n\n					\n	\n		Academy Arts	\n\n				\n\n				\n			\n		\n	\n\n\n									\n\n				\n	\n		View Calendar
URL:https://duncanplace.org/event/ailie-gray-yoga/2026-03-04/
LOCATION:Duncan Place Community Hub\, Duncan Place\, Leith\, Edinburgh\, Edinburgh\, EH6 8HW\, United Kingdom
ORGANIZER;CN="Ailie":MAILTO:yoga.ailie.yoga@gmail.com
GEO:55.9699976;-3.1683591
X-APPLE-STRUCTURED-LOCATION;VALUE=URI;X-ADDRESS=Duncan Place Community Hub Duncan Place Leith Edinburgh Edinburgh EH6 8HW United Kingdom;X-APPLE-RADIUS=500;X-TITLE=Duncan Place:geo:-3.1683591,55.9699976
END:VEVENT
END:VCALENDAR