BEGIN:VCALENDAR
VERSION:2.0
PRODID:-//Duncan Place - ECPv6.15.20//NONSGML v1.0//EN
CALSCALE:GREGORIAN
METHOD:PUBLISH
X-WR-CALNAME:Duncan Place
X-ORIGINAL-URL:https://duncanplace.org
X-WR-CALDESC:Events for Duncan Place
REFRESH-INTERVAL;VALUE=DURATION:PT1H
X-Robots-Tag:noindex
X-PUBLISHED-TTL:PT1H
BEGIN:VTIMEZONE
TZID:Europe/London
BEGIN:DAYLIGHT
TZOFFSETFROM:+0000
TZOFFSETTO:+0100
TZNAME:BST
DTSTART:20250330T010000
END:DAYLIGHT
BEGIN:STANDARD
TZOFFSETFROM:+0100
TZOFFSETTO:+0000
TZNAME:GMT
DTSTART:20251026T010000
END:STANDARD
BEGIN:DAYLIGHT
TZOFFSETFROM:+0000
TZOFFSETTO:+0100
TZNAME:BST
DTSTART:20260329T010000
END:DAYLIGHT
BEGIN:STANDARD
TZOFFSETFROM:+0100
TZOFFSETTO:+0000
TZNAME:GMT
DTSTART:20261025T010000
END:STANDARD
BEGIN:DAYLIGHT
TZOFFSETFROM:+0000
TZOFFSETTO:+0100
TZNAME:BST
DTSTART:20270328T010000
END:DAYLIGHT
BEGIN:STANDARD
TZOFFSETFROM:+0100
TZOFFSETTO:+0000
TZNAME:GMT
DTSTART:20271031T010000
END:STANDARD
END:VTIMEZONE
BEGIN:VEVENT
DTSTART;TZID=Europe/London:20260228T100000
DTEND;TZID=Europe/London:20260228T110000
DTSTAMP:20260426T035531
CREATED:20260227T114738Z
LAST-MODIFIED:20260420T114457Z
UID:10005493-1772272800-1772276400@duncanplace.org
SUMMARY:The Piping Center
DESCRIPTION:Wee Duncan Room\n\n	The Piping Centre - private booking \n\n\n	\n		\n\n			\n			\n\n							\n					\n						Upcoming Events					\n				\n			\n			\n				\n											\n\n	\n	\n		\n			Apr		\n		\n			27		\n	\n\n\n	\n		\n			\n\n				\n					\n		\n		9:00 am - 2:45 pm	\n	\n\n	\n		\n\n	\n	\n	\n\n	\n\n\n					\n	\n		Edinburgh College	\n\n				\n\n				\n			\n		\n	\n\n\n											\n\n	\n	\n		\n			Apr		\n		\n			27		\n	\n\n\n	\n		\n			\n\n				\n					\n	\n	\n	\n\n\n\n	Featured\n	\n		10:30 am - 11:30 am	\n	\n\n	\n		\n\n	\n	\n	\n\n	\n\n\n					\n	\n		Chair Yoga	\n\n				\n\n				\n			\n		\n	\n\n\n											\n\n	\n	\n		\n			Apr		\n		\n			27		\n	\n\n\n	\n		\n			\n\n				\n					\n		\n		11:45 am - 1:45 pm	\n	\n\n	\n		\n\n	\n	\n	\n\n	\n\n\n					\n	\n		The Cheyne Gang – Room 4	\n\n				\n\n				\n			\n		\n	\n\n\n											\n\n	\n	\n		\n			Apr		\n		\n			27		\n	\n\n\n	\n		\n			\n\n				\n					\n		\n		1:00 pm - 3:00 pm	\n	\n\n	\n		\n\n	\n	\n	\n\n	\n\n\n					\n	\n		Scottish Partnership for Palliative Care	\n\n				\n\n				\n			\n		\n	\n\n\n											\n\n	\n	\n		\n			Apr		\n		\n			27		\n	\n\n\n	\n		\n			\n\n				\n					\n		\n		3:15 pm - 6:15 pm	\n	\n\n	\n		\n\n	\n	\n	\n\n	\n\n\n					\n	\n		Academy Arts	\n\n				\n\n				\n			\n		\n	\n\n\n									\n\n				\n	\n		View Calendar
URL:https://duncanplace.org/event/the-piping-center-3/2026-02-28/
LOCATION:Duncan Place Community Hub\, Duncan Place\, Leith\, Edinburgh\, Edinburgh\, EH6 8HW\, United Kingdom
ATTACH;FMTTYPE=image/png:https://duncanplace.org/wp-content/uploads/2026/02/npc-calendar.png
ORGANIZER;CN="The Piping Centre":MAILTO:info@thepipingcentre.co.uk
GEO:55.9699976;-3.1683591
X-APPLE-STRUCTURED-LOCATION;VALUE=URI;X-ADDRESS=Duncan Place Community Hub Duncan Place Leith Edinburgh Edinburgh EH6 8HW United Kingdom;X-APPLE-RADIUS=500;X-TITLE=Duncan Place:geo:-3.1683591,55.9699976
END:VEVENT
BEGIN:VEVENT
DTSTART;TZID=Europe/London:20260228T100000
DTEND;TZID=Europe/London:20260228T120000
DTSTAMP:20260426T035531
CREATED:20260227T114520Z
LAST-MODIFIED:20260420T114349Z
UID:10005487-1772272800-1772280000@duncanplace.org
SUMMARY:The Piping Center
DESCRIPTION:Wee Duncan Room\n\n	The Piping Centre - private booking \n\n\n	\n		\n\n			\n			\n\n							\n					\n						Upcoming Events					\n				\n			\n			\n				\n											\n\n	\n	\n		\n			Apr		\n		\n			27		\n	\n\n\n	\n		\n			\n\n				\n					\n		\n		9:00 am - 2:45 pm	\n	\n\n	\n		\n\n	\n	\n	\n\n	\n\n\n					\n	\n		Edinburgh College	\n\n				\n\n				\n			\n		\n	\n\n\n											\n\n	\n	\n		\n			Apr		\n		\n			27		\n	\n\n\n	\n		\n			\n\n				\n					\n	\n	\n	\n\n\n\n	Featured\n	\n		10:30 am - 11:30 am	\n	\n\n	\n		\n\n	\n	\n	\n\n	\n\n\n					\n	\n		Chair Yoga	\n\n				\n\n				\n			\n		\n	\n\n\n											\n\n	\n	\n		\n			Apr		\n		\n			27		\n	\n\n\n	\n		\n			\n\n				\n					\n		\n		11:45 am - 1:45 pm	\n	\n\n	\n		\n\n	\n	\n	\n\n	\n\n\n					\n	\n		The Cheyne Gang – Room 4	\n\n				\n\n				\n			\n		\n	\n\n\n											\n\n	\n	\n		\n			Apr		\n		\n			27		\n	\n\n\n	\n		\n			\n\n				\n					\n		\n		1:00 pm - 3:00 pm	\n	\n\n	\n		\n\n	\n	\n	\n\n	\n\n\n					\n	\n		Scottish Partnership for Palliative Care	\n\n				\n\n				\n			\n		\n	\n\n\n											\n\n	\n	\n		\n			Apr		\n		\n			27		\n	\n\n\n	\n		\n			\n\n				\n					\n		\n		3:15 pm - 6:15 pm	\n	\n\n	\n		\n\n	\n	\n	\n\n	\n\n\n					\n	\n		Academy Arts	\n\n				\n\n				\n			\n		\n	\n\n\n									\n\n				\n	\n		View Calendar
URL:https://duncanplace.org/event/the-piping-center-2/2026-02-28/
LOCATION:Duncan Place Community Hub\, Duncan Place\, Leith\, Edinburgh\, Edinburgh\, EH6 8HW\, United Kingdom
ATTACH;FMTTYPE=image/png:https://duncanplace.org/wp-content/uploads/2026/02/npc-calendar.png
ORGANIZER;CN="The Piping Centre":MAILTO:info@thepipingcentre.co.uk
GEO:55.9699976;-3.1683591
X-APPLE-STRUCTURED-LOCATION;VALUE=URI;X-ADDRESS=Duncan Place Community Hub Duncan Place Leith Edinburgh Edinburgh EH6 8HW United Kingdom;X-APPLE-RADIUS=500;X-TITLE=Duncan Place:geo:-3.1683591,55.9699976
END:VEVENT
BEGIN:VEVENT
DTSTART;TZID=Europe/London:20260301T100000
DTEND;TZID=Europe/London:20260301T170000
DTSTAMP:20260426T035531
CREATED:20260227T154905Z
LAST-MODIFIED:20260227T154905Z
UID:10005497-1772359200-1772384400@duncanplace.org
SUMMARY:Calis Harun
DESCRIPTION:Wee Duncan Room\n\n	The Piping Centre - private booking \n\n\n	\n		\n\n			\n			\n\n							\n					\n						Upcoming Events					\n				\n			\n			\n				\n											\n\n	\n	\n		\n			Apr		\n		\n			27		\n	\n\n\n	\n		\n			\n\n				\n					\n		\n		9:00 am - 2:45 pm	\n	\n\n	\n		\n\n	\n	\n	\n\n	\n\n\n					\n	\n		Edinburgh College	\n\n				\n\n				\n			\n		\n	\n\n\n											\n\n	\n	\n		\n			Apr		\n		\n			27		\n	\n\n\n	\n		\n			\n\n				\n					\n	\n	\n	\n\n\n\n	Featured\n	\n		10:30 am - 11:30 am	\n	\n\n	\n		\n\n	\n	\n	\n\n	\n\n\n					\n	\n		Chair Yoga	\n\n				\n\n				\n			\n		\n	\n\n\n											\n\n	\n	\n		\n			Apr		\n		\n			27		\n	\n\n\n	\n		\n			\n\n				\n					\n		\n		11:45 am - 1:45 pm	\n	\n\n	\n		\n\n	\n	\n	\n\n	\n\n\n					\n	\n		The Cheyne Gang – Room 4	\n\n				\n\n				\n			\n		\n	\n\n\n											\n\n	\n	\n		\n			Apr		\n		\n			27		\n	\n\n\n	\n		\n			\n\n				\n					\n		\n		1:00 pm - 3:00 pm	\n	\n\n	\n		\n\n	\n	\n	\n\n	\n\n\n					\n	\n		Scottish Partnership for Palliative Care	\n\n				\n\n				\n			\n		\n	\n\n\n											\n\n	\n	\n		\n			Apr		\n		\n			27		\n	\n\n\n	\n		\n			\n\n				\n					\n		\n		3:15 pm - 6:15 pm	\n	\n\n	\n		\n\n	\n	\n	\n\n	\n\n\n					\n	\n		Academy Arts	\n\n				\n\n				\n			\n		\n	\n\n\n									\n\n				\n	\n		View Calendar
URL:https://duncanplace.org/event/calis-harun/
LOCATION:Duncan Place Community Hub\, Duncan Place\, Leith\, Edinburgh\, Edinburgh\, EH6 8HW\, United Kingdom
GEO:55.9699976;-3.1683591
X-APPLE-STRUCTURED-LOCATION;VALUE=URI;X-ADDRESS=Duncan Place Community Hub Duncan Place Leith Edinburgh Edinburgh EH6 8HW United Kingdom;X-APPLE-RADIUS=500;X-TITLE=Duncan Place:geo:-3.1683591,55.9699976
END:VEVENT
BEGIN:VEVENT
DTSTART;TZID=Europe/London:20260301T103000
DTEND;TZID=Europe/London:20260301T233000
DTSTAMP:20260426T035531
CREATED:20260227T155728Z
LAST-MODIFIED:20260227T155750Z
UID:10005498-1772361000-1772407800@duncanplace.org
SUMMARY:Sassy School of Burlesque
DESCRIPTION:Wee Duncan Room\n\n	The Piping Centre - private booking \n\n\n	\n		\n\n			\n			\n\n							\n					\n						Upcoming Events					\n				\n			\n			\n				\n											\n\n	\n	\n		\n			Apr		\n		\n			27		\n	\n\n\n	\n		\n			\n\n				\n					\n		\n		9:00 am - 2:45 pm	\n	\n\n	\n		\n\n	\n	\n	\n\n	\n\n\n					\n	\n		Edinburgh College	\n\n				\n\n				\n			\n		\n	\n\n\n											\n\n	\n	\n		\n			Apr		\n		\n			27		\n	\n\n\n	\n		\n			\n\n				\n					\n	\n	\n	\n\n\n\n	Featured\n	\n		10:30 am - 11:30 am	\n	\n\n	\n		\n\n	\n	\n	\n\n	\n\n\n					\n	\n		Chair Yoga	\n\n				\n\n				\n			\n		\n	\n\n\n											\n\n	\n	\n		\n			Apr		\n		\n			27		\n	\n\n\n	\n		\n			\n\n				\n					\n		\n		11:45 am - 1:45 pm	\n	\n\n	\n		\n\n	\n	\n	\n\n	\n\n\n					\n	\n		The Cheyne Gang – Room 4	\n\n				\n\n				\n			\n		\n	\n\n\n											\n\n	\n	\n		\n			Apr		\n		\n			27		\n	\n\n\n	\n		\n			\n\n				\n					\n		\n		1:00 pm - 3:00 pm	\n	\n\n	\n		\n\n	\n	\n	\n\n	\n\n\n					\n	\n		Scottish Partnership for Palliative Care	\n\n				\n\n				\n			\n		\n	\n\n\n											\n\n	\n	\n		\n			Apr		\n		\n			27		\n	\n\n\n	\n		\n			\n\n				\n					\n		\n		3:15 pm - 6:15 pm	\n	\n\n	\n		\n\n	\n	\n	\n\n	\n\n\n					\n	\n		Academy Arts	\n\n				\n\n				\n			\n		\n	\n\n\n									\n\n				\n	\n		View Calendar
URL:https://duncanplace.org/event/sassy-school-of-burlesque/
LOCATION:Duncan Place Community Hub\, Duncan Place\, Leith\, Edinburgh\, Edinburgh\, EH6 8HW\, United Kingdom
ORGANIZER;CN="Sassy School of Burlesque":MAILTO:eleftheriouanastasia@gmail.com
GEO:55.9699976;-3.1683591
X-APPLE-STRUCTURED-LOCATION;VALUE=URI;X-ADDRESS=Duncan Place Community Hub Duncan Place Leith Edinburgh Edinburgh EH6 8HW United Kingdom;X-APPLE-RADIUS=500;X-TITLE=Duncan Place:geo:-3.1683591,55.9699976
END:VEVENT
END:VCALENDAR