BEGIN:VCALENDAR
VERSION:2.0
PRODID:-//Duncan Place - ECPv6.15.20//NONSGML v1.0//EN
CALSCALE:GREGORIAN
METHOD:PUBLISH
X-WR-CALNAME:Duncan Place
X-ORIGINAL-URL:https://duncanplace.org
X-WR-CALDESC:Events for Duncan Place
REFRESH-INTERVAL;VALUE=DURATION:PT1H
X-Robots-Tag:noindex
X-PUBLISHED-TTL:PT1H
BEGIN:VTIMEZONE
TZID:Europe/London
BEGIN:DAYLIGHT
TZOFFSETFROM:+0000
TZOFFSETTO:+0100
TZNAME:BST
DTSTART:20250330T010000
END:DAYLIGHT
BEGIN:STANDARD
TZOFFSETFROM:+0100
TZOFFSETTO:+0000
TZNAME:GMT
DTSTART:20251026T010000
END:STANDARD
BEGIN:DAYLIGHT
TZOFFSETFROM:+0000
TZOFFSETTO:+0100
TZNAME:BST
DTSTART:20260329T010000
END:DAYLIGHT
BEGIN:STANDARD
TZOFFSETFROM:+0100
TZOFFSETTO:+0000
TZNAME:GMT
DTSTART:20261025T010000
END:STANDARD
BEGIN:DAYLIGHT
TZOFFSETFROM:+0000
TZOFFSETTO:+0100
TZNAME:BST
DTSTART:20270328T010000
END:DAYLIGHT
BEGIN:STANDARD
TZOFFSETFROM:+0100
TZOFFSETTO:+0000
TZNAME:GMT
DTSTART:20271031T010000
END:STANDARD
END:VTIMEZONE
BEGIN:VEVENT
DTSTART;TZID=Europe/London:20260515T100000
DTEND;TZID=Europe/London:20260515T120000
DTSTAMP:20260424T144928
CREATED:20260207T094840Z
LAST-MODIFIED:20260409T130144Z
UID:10005375-1778839200-1778846400@duncanplace.org
SUMMARY:Duncan Place Craft Group (Friday morning) - Big Duncan room
DESCRIPTION:Music Circles provide us with the perfect way to have fun\, express ourselves\, beat stress and connect with our community. In our Community Music Circle\, we will create ‘in the moment’ music with drums\, percussion\, voices and other easy to play melodic instruments. Join in whatever way you can and are comfortable with. Drums and percussion provided (or bring your own). \nMusic Circle information\nThere’s no need to book. Just come along. \nStart time is 7:30pm (running until 8:45pm). Please arrive five/ten minutes before the start time. \nOur music circles are for adults (minimum age 16). \nEach session costs £3\, paid by cash or card at the reception desk when you arrive. \nWe welcome Morag from Moving Music to lead our music circles. \nIf you have any questions\, please email events@duncanplace.org or call 0131 3644351. \nMorag from Moving Music\n\n\n\n		\n	\n\n\n\n	Morag is a qualified Drum Circle Facilitator\, Music Medicine Practitioner\, and Social Worker. Morag is also trained to deliver sessions in Expressive Rhythm stories and Rythym2Recovery. \nMorag has over 20 years’ experience providing opportunities for individuals and communities to explore the moving power of music. She has worked with people from all walks of life and is passionate in her belief that we are all musicians. Using easy to play and unusual instruments her inclusive friendly and fun approach creates a safe space to play. Participants will be supported to grow in skills and confidence and to discover and awaken their own inner music. \n\n\n	\n		\n\n			\n			\n\n							\n					\n						Upcoming Events					\n				\n			\n			\n				\n											\n\n	\n	\n		\n			Apr		\n		\n			24		\n	\n\n\n	\n		\n			\n\n				\n					\n		\n		9:00 am - 5:00 pm	\n	\n					\n	\n		Harbour	\n\n				\n\n				\n			\n		\n	\n\n\n											\n\n	\n	\n		\n			Apr		\n		\n			24		\n	\n\n\n	\n		\n			\n\n				\n					\n	\n	\n	\n\n\n\n	Featured\n	\n		3:00 pm - 5:00 pm	\n	\n\n	\n		\n\n	\n	\n	\n\n	\n\n\n					\n	\n		Dungeons and Dragons	\n\n				\n\n				\n			\n		\n	\n\n\n											\n\n	\n	\n		\n			Apr		\n		\n			25		\n	\n\n\n	\n		\n			\n\n				\n					\n		\n		9:30 am - 12:00 pm	\n	\n\n	\n		\n\n	\n	\n	\n\n	\n\n\n					\n	\n		The Piping Center	\n\n				\n\n				\n			\n		\n	\n\n\n											\n\n	\n	\n		\n			Apr		\n		\n			25		\n	\n\n\n	\n		\n			\n\n				\n					\n		\n		10:00 am - 11:00 am	\n	\n\n	\n		\n\n	\n	\n	\n\n	\n\n\n					\n	\n		The Piping Center	\n\n				\n\n				\n			\n		\n	\n\n\n											\n\n	\n	\n		\n			Apr		\n		\n			25		\n	\n\n\n	\n		\n			\n\n				\n					\n		\n		10:00 am - 12:00 pm	\n	\n\n	\n		\n\n	\n	\n	\n\n	\n\n\n					\n	\n		The Piping Center	\n\n				\n\n				\n			\n		\n	\n\n\n									\n\n				\n	\n		View Calendar
URL:https://duncanplace.org/event/craft-group-2-2-2/2026-05-15/
LOCATION:Duncan Place Community Hub\, Duncan Place\, Leith\, Edinburgh\, Edinburgh\, EH6 8HW\, United Kingdom
ATTACH;FMTTYPE=image/png:https://duncanplace.org/wp-content/uploads/2024/05/calendar-template-size-test-6.png
ORGANIZER;CN="Duncan Place Events":MAILTO:events@duncanplace.org
GEO:55.9699976;-3.1683591
X-APPLE-STRUCTURED-LOCATION;VALUE=URI;X-ADDRESS=Duncan Place Community Hub Duncan Place Leith Edinburgh Edinburgh EH6 8HW United Kingdom;X-APPLE-RADIUS=500;X-TITLE=Duncan Place:geo:-3.1683591,55.9699976
END:VEVENT
BEGIN:VEVENT
DTSTART;TZID=Europe/London:20260515T123000
DTEND;TZID=Europe/London:20260515T143000
DTSTAMP:20260424T144928
CREATED:20260120T162548Z
LAST-MODIFIED:20260120T162851Z
UID:10005292-1778848200-1778855400@duncanplace.org
SUMMARY:YMCA
DESCRIPTION:Music Circles provide us with the perfect way to have fun\, express ourselves\, beat stress and connect with our community. In our Community Music Circle\, we will create ‘in the moment’ music with drums\, percussion\, voices and other easy to play melodic instruments. Join in whatever way you can and are comfortable with. Drums and percussion provided (or bring your own). \nMusic Circle information\nThere’s no need to book. Just come along. \nStart time is 7:30pm (running until 8:45pm). Please arrive five/ten minutes before the start time. \nOur music circles are for adults (minimum age 16). \nEach session costs £3\, paid by cash or card at the reception desk when you arrive. \nWe welcome Morag from Moving Music to lead our music circles. \nIf you have any questions\, please email events@duncanplace.org or call 0131 3644351. \nMorag from Moving Music\n\n\n\n		\n	\n\n\n\n	Morag is a qualified Drum Circle Facilitator\, Music Medicine Practitioner\, and Social Worker. Morag is also trained to deliver sessions in Expressive Rhythm stories and Rythym2Recovery. \nMorag has over 20 years’ experience providing opportunities for individuals and communities to explore the moving power of music. She has worked with people from all walks of life and is passionate in her belief that we are all musicians. Using easy to play and unusual instruments her inclusive friendly and fun approach creates a safe space to play. Participants will be supported to grow in skills and confidence and to discover and awaken their own inner music. \n\n\n	\n		\n\n			\n			\n\n							\n					\n						Upcoming Events					\n				\n			\n			\n				\n											\n\n	\n	\n		\n			Apr		\n		\n			24		\n	\n\n\n	\n		\n			\n\n				\n					\n		\n		9:00 am - 5:00 pm	\n	\n					\n	\n		Harbour	\n\n				\n\n				\n			\n		\n	\n\n\n											\n\n	\n	\n		\n			Apr		\n		\n			24		\n	\n\n\n	\n		\n			\n\n				\n					\n	\n	\n	\n\n\n\n	Featured\n	\n		3:00 pm - 5:00 pm	\n	\n\n	\n		\n\n	\n	\n	\n\n	\n\n\n					\n	\n		Dungeons and Dragons	\n\n				\n\n				\n			\n		\n	\n\n\n											\n\n	\n	\n		\n			Apr		\n		\n			25		\n	\n\n\n	\n		\n			\n\n				\n					\n		\n		9:30 am - 12:00 pm	\n	\n\n	\n		\n\n	\n	\n	\n\n	\n\n\n					\n	\n		The Piping Center	\n\n				\n\n				\n			\n		\n	\n\n\n											\n\n	\n	\n		\n			Apr		\n		\n			25		\n	\n\n\n	\n		\n			\n\n				\n					\n		\n		10:00 am - 11:00 am	\n	\n\n	\n		\n\n	\n	\n	\n\n	\n\n\n					\n	\n		The Piping Center	\n\n				\n\n				\n			\n		\n	\n\n\n											\n\n	\n	\n		\n			Apr		\n		\n			25		\n	\n\n\n	\n		\n			\n\n				\n					\n		\n		10:00 am - 12:00 pm	\n	\n\n	\n		\n\n	\n	\n	\n\n	\n\n\n					\n	\n		The Piping Center	\n\n				\n\n				\n			\n		\n	\n\n\n									\n\n				\n	\n		View Calendar
URL:https://duncanplace.org/event/ymca-2-2/2026-05-15/
LOCATION:Duncan Place Community Hub\, Duncan Place\, Leith\, Edinburgh\, Edinburgh\, EH6 8HW\, United Kingdom
ATTACH;FMTTYPE=image/png:https://duncanplace.org/wp-content/uploads/2024/08/ymca.png
ORGANIZER;CN="YMCA Edinburgh":MAILTO:paul@ymcaedinburgh.com
GEO:55.9699976;-3.1683591
X-APPLE-STRUCTURED-LOCATION;VALUE=URI;X-ADDRESS=Duncan Place Community Hub Duncan Place Leith Edinburgh Edinburgh EH6 8HW United Kingdom;X-APPLE-RADIUS=500;X-TITLE=Duncan Place:geo:-3.1683591,55.9699976
END:VEVENT
BEGIN:VEVENT
DTSTART;TZID=Europe/London:20260515T150000
DTEND;TZID=Europe/London:20260515T170000
DTSTAMP:20260424T144928
CREATED:20260420T100950Z
LAST-MODIFIED:20260420T101041Z
UID:10005631-1778857200-1778864400@duncanplace.org
SUMMARY:Dungeons and Dragons
DESCRIPTION:Music Circles provide us with the perfect way to have fun\, express ourselves\, beat stress and connect with our community. In our Community Music Circle\, we will create ‘in the moment’ music with drums\, percussion\, voices and other easy to play melodic instruments. Join in whatever way you can and are comfortable with. Drums and percussion provided (or bring your own). \nMusic Circle information\nThere’s no need to book. Just come along. \nStart time is 7:30pm (running until 8:45pm). Please arrive five/ten minutes before the start time. \nOur music circles are for adults (minimum age 16). \nEach session costs £3\, paid by cash or card at the reception desk when you arrive. \nWe welcome Morag from Moving Music to lead our music circles. \nIf you have any questions\, please email events@duncanplace.org or call 0131 3644351. \nMorag from Moving Music\n\n\n\n		\n	\n\n\n\n	Morag is a qualified Drum Circle Facilitator\, Music Medicine Practitioner\, and Social Worker. Morag is also trained to deliver sessions in Expressive Rhythm stories and Rythym2Recovery. \nMorag has over 20 years’ experience providing opportunities for individuals and communities to explore the moving power of music. She has worked with people from all walks of life and is passionate in her belief that we are all musicians. Using easy to play and unusual instruments her inclusive friendly and fun approach creates a safe space to play. Participants will be supported to grow in skills and confidence and to discover and awaken their own inner music. \n\n\n	\n		\n\n			\n			\n\n							\n					\n						Upcoming Events					\n				\n			\n			\n				\n											\n\n	\n	\n		\n			Apr		\n		\n			24		\n	\n\n\n	\n		\n			\n\n				\n					\n		\n		9:00 am - 5:00 pm	\n	\n					\n	\n		Harbour	\n\n				\n\n				\n			\n		\n	\n\n\n											\n\n	\n	\n		\n			Apr		\n		\n			24		\n	\n\n\n	\n		\n			\n\n				\n					\n	\n	\n	\n\n\n\n	Featured\n	\n		3:00 pm - 5:00 pm	\n	\n\n	\n		\n\n	\n	\n	\n\n	\n\n\n					\n	\n		Dungeons and Dragons	\n\n				\n\n				\n			\n		\n	\n\n\n											\n\n	\n	\n		\n			Apr		\n		\n			25		\n	\n\n\n	\n		\n			\n\n				\n					\n		\n		9:30 am - 12:00 pm	\n	\n\n	\n		\n\n	\n	\n	\n\n	\n\n\n					\n	\n		The Piping Center	\n\n				\n\n				\n			\n		\n	\n\n\n											\n\n	\n	\n		\n			Apr		\n		\n			25		\n	\n\n\n	\n		\n			\n\n				\n					\n		\n		10:00 am - 11:00 am	\n	\n\n	\n		\n\n	\n	\n	\n\n	\n\n\n					\n	\n		The Piping Center	\n\n				\n\n				\n			\n		\n	\n\n\n											\n\n	\n	\n		\n			Apr		\n		\n			25		\n	\n\n\n	\n		\n			\n\n				\n					\n		\n		10:00 am - 12:00 pm	\n	\n\n	\n		\n\n	\n	\n	\n\n	\n\n\n					\n	\n		The Piping Center	\n\n				\n\n				\n			\n		\n	\n\n\n									\n\n				\n	\n		View Calendar
URL:https://duncanplace.org/event/dungeons-and-dragons-2/2026-05-15/
LOCATION:Duncan Place Community Hub\, Duncan Place\, Leith\, Edinburgh\, Edinburgh\, EH6 8HW\, United Kingdom
ATTACH;FMTTYPE=image/png:https://duncanplace.org/wp-content/uploads/2025/08/DD-WEB-1200x495-1.png
ORGANIZER;CN="Duncan Place Events":MAILTO:events@duncanplace.org
GEO:55.9699976;-3.1683591
X-APPLE-STRUCTURED-LOCATION;VALUE=URI;X-ADDRESS=Duncan Place Community Hub Duncan Place Leith Edinburgh Edinburgh EH6 8HW United Kingdom;X-APPLE-RADIUS=500;X-TITLE=Duncan Place:geo:-3.1683591,55.9699976
END:VEVENT
END:VCALENDAR