BEGIN:VCALENDAR
VERSION:2.0
PRODID:-//Duncan Place - ECPv6.15.20//NONSGML v1.0//EN
CALSCALE:GREGORIAN
METHOD:PUBLISH
X-WR-CALNAME:Duncan Place
X-ORIGINAL-URL:https://duncanplace.org
X-WR-CALDESC:Events for Duncan Place
REFRESH-INTERVAL;VALUE=DURATION:PT1H
X-Robots-Tag:noindex
X-PUBLISHED-TTL:PT1H
BEGIN:VTIMEZONE
TZID:Europe/London
BEGIN:DAYLIGHT
TZOFFSETFROM:+0000
TZOFFSETTO:+0100
TZNAME:BST
DTSTART:20250330T010000
END:DAYLIGHT
BEGIN:STANDARD
TZOFFSETFROM:+0100
TZOFFSETTO:+0000
TZNAME:GMT
DTSTART:20251026T010000
END:STANDARD
BEGIN:DAYLIGHT
TZOFFSETFROM:+0000
TZOFFSETTO:+0100
TZNAME:BST
DTSTART:20260329T010000
END:DAYLIGHT
BEGIN:STANDARD
TZOFFSETFROM:+0100
TZOFFSETTO:+0000
TZNAME:GMT
DTSTART:20261025T010000
END:STANDARD
BEGIN:DAYLIGHT
TZOFFSETFROM:+0000
TZOFFSETTO:+0100
TZNAME:BST
DTSTART:20270328T010000
END:DAYLIGHT
BEGIN:STANDARD
TZOFFSETFROM:+0100
TZOFFSETTO:+0000
TZNAME:GMT
DTSTART:20271031T010000
END:STANDARD
END:VTIMEZONE
BEGIN:VEVENT
DTSTART;TZID=Europe/London:20260330T090000
DTEND;TZID=Europe/London:20260330T144500
DTSTAMP:20260424T131539
CREATED:20251120T125605Z
LAST-MODIFIED:20251120T130855Z
UID:10004639-1774861200-1774881900@duncanplace.org
SUMMARY:Edinburgh College
DESCRIPTION:Music Circles provide us with the perfect way to have fun\, express ourselves\, beat stress and connect with our community. In our Community Music Circle\, we will create ‘in the moment’ music with drums\, percussion\, voices and other easy to play melodic instruments. Join in whatever way you can and are comfortable with. Drums and percussion provided (or bring your own). \nMusic Circle information\nThere’s no need to book. Just come along. \nStart time is 7:30pm (running until 8:45pm). Please arrive five/ten minutes before the start time. \nOur music circles are for adults (minimum age 16). \nEach session costs £3\, paid by cash or card at the reception desk when you arrive. \nWe welcome Morag from Moving Music to lead our music circles. \nIf you have any questions\, please email events@duncanplace.org or call 0131 3644351. \nMorag from Moving Music\n\n\n\n		\n	\n\n\n\n	Morag is a qualified Drum Circle Facilitator\, Music Medicine Practitioner\, and Social Worker. Morag is also trained to deliver sessions in Expressive Rhythm stories and Rythym2Recovery. \nMorag has over 20 years’ experience providing opportunities for individuals and communities to explore the moving power of music. She has worked with people from all walks of life and is passionate in her belief that we are all musicians. Using easy to play and unusual instruments her inclusive friendly and fun approach creates a safe space to play. Participants will be supported to grow in skills and confidence and to discover and awaken their own inner music. \n\n\n	\n		\n\n			\n			\n\n							\n					\n						Upcoming Events					\n				\n			\n			\n				\n											\n\n	\n	\n		\n			Apr		\n		\n			24		\n	\n\n\n	\n		\n			\n\n				\n					\n		\n		9:00 am - 5:00 pm	\n	\n					\n	\n		Harbour	\n\n				\n\n				\n			\n		\n	\n\n\n											\n\n	\n	\n		\n			Apr		\n		\n			24		\n	\n\n\n	\n		\n			\n\n				\n					\n		\n		12:30 pm - 2:30 pm	\n	\n\n	\n		\n\n	\n	\n	\n\n	\n\n\n					\n	\n		YMCA	\n\n				\n\n				\n			\n		\n	\n\n\n											\n\n	\n	\n		\n			Apr		\n		\n			24		\n	\n\n\n	\n		\n			\n\n				\n					\n	\n	\n	\n\n\n\n	Featured\n	\n		3:00 pm - 5:00 pm	\n	\n\n	\n		\n\n	\n	\n	\n\n	\n\n\n					\n	\n		Dungeons and Dragons	\n\n				\n\n				\n			\n		\n	\n\n\n											\n\n	\n	\n		\n			Apr		\n		\n			25		\n	\n\n\n	\n		\n			\n\n				\n					\n		\n		9:30 am - 12:00 pm	\n	\n\n	\n		\n\n	\n	\n	\n\n	\n\n\n					\n	\n		The Piping Center	\n\n				\n\n				\n			\n		\n	\n\n\n											\n\n	\n	\n		\n			Apr		\n		\n			25		\n	\n\n\n	\n		\n			\n\n				\n					\n		\n		10:00 am - 11:00 am	\n	\n\n	\n		\n\n	\n	\n	\n\n	\n\n\n					\n	\n		The Piping Center	\n\n				\n\n				\n			\n		\n	\n\n\n									\n\n				\n	\n		View Calendar
URL:https://duncanplace.org/event/edinburgh-college-4/2026-03-30/
LOCATION:Duncan Place Community Hub\, Duncan Place\, Leith\, Edinburgh\, Edinburgh\, EH6 8HW\, United Kingdom
ATTACH;FMTTYPE=image/png:https://duncanplace.org/wp-content/uploads/2025/07/ec1.png
ORGANIZER;CN="Edinburgh College":MAILTO:courseinfo@edinburghcollege.c.uk
GEO:55.9699976;-3.1683591
X-APPLE-STRUCTURED-LOCATION;VALUE=URI;X-ADDRESS=Duncan Place Community Hub Duncan Place Leith Edinburgh Edinburgh EH6 8HW United Kingdom;X-APPLE-RADIUS=500;X-TITLE=Duncan Place:geo:-3.1683591,55.9699976
END:VEVENT
BEGIN:VEVENT
DTSTART;TZID=Europe/London:20260330T114500
DTEND;TZID=Europe/London:20260330T134500
DTSTAMP:20260424T131539
CREATED:20251127T152031Z
LAST-MODIFIED:20251127T152031Z
UID:10005020-1774871100-1774878300@duncanplace.org
SUMMARY:The Cheyne Gang - Room 4
DESCRIPTION:Music Circles provide us with the perfect way to have fun\, express ourselves\, beat stress and connect with our community. In our Community Music Circle\, we will create ‘in the moment’ music with drums\, percussion\, voices and other easy to play melodic instruments. Join in whatever way you can and are comfortable with. Drums and percussion provided (or bring your own). \nMusic Circle information\nThere’s no need to book. Just come along. \nStart time is 7:30pm (running until 8:45pm). Please arrive five/ten minutes before the start time. \nOur music circles are for adults (minimum age 16). \nEach session costs £3\, paid by cash or card at the reception desk when you arrive. \nWe welcome Morag from Moving Music to lead our music circles. \nIf you have any questions\, please email events@duncanplace.org or call 0131 3644351. \nMorag from Moving Music\n\n\n\n		\n	\n\n\n\n	Morag is a qualified Drum Circle Facilitator\, Music Medicine Practitioner\, and Social Worker. Morag is also trained to deliver sessions in Expressive Rhythm stories and Rythym2Recovery. \nMorag has over 20 years’ experience providing opportunities for individuals and communities to explore the moving power of music. She has worked with people from all walks of life and is passionate in her belief that we are all musicians. Using easy to play and unusual instruments her inclusive friendly and fun approach creates a safe space to play. Participants will be supported to grow in skills and confidence and to discover and awaken their own inner music. \n\n\n	\n		\n\n			\n			\n\n							\n					\n						Upcoming Events					\n				\n			\n			\n				\n											\n\n	\n	\n		\n			Apr		\n		\n			24		\n	\n\n\n	\n		\n			\n\n				\n					\n		\n		9:00 am - 5:00 pm	\n	\n					\n	\n		Harbour	\n\n				\n\n				\n			\n		\n	\n\n\n											\n\n	\n	\n		\n			Apr		\n		\n			24		\n	\n\n\n	\n		\n			\n\n				\n					\n		\n		12:30 pm - 2:30 pm	\n	\n\n	\n		\n\n	\n	\n	\n\n	\n\n\n					\n	\n		YMCA	\n\n				\n\n				\n			\n		\n	\n\n\n											\n\n	\n	\n		\n			Apr		\n		\n			24		\n	\n\n\n	\n		\n			\n\n				\n					\n	\n	\n	\n\n\n\n	Featured\n	\n		3:00 pm - 5:00 pm	\n	\n\n	\n		\n\n	\n	\n	\n\n	\n\n\n					\n	\n		Dungeons and Dragons	\n\n				\n\n				\n			\n		\n	\n\n\n											\n\n	\n	\n		\n			Apr		\n		\n			25		\n	\n\n\n	\n		\n			\n\n				\n					\n		\n		9:30 am - 12:00 pm	\n	\n\n	\n		\n\n	\n	\n	\n\n	\n\n\n					\n	\n		The Piping Center	\n\n				\n\n				\n			\n		\n	\n\n\n											\n\n	\n	\n		\n			Apr		\n		\n			25		\n	\n\n\n	\n		\n			\n\n				\n					\n		\n		10:00 am - 11:00 am	\n	\n\n	\n		\n\n	\n	\n	\n\n	\n\n\n					\n	\n		The Piping Center	\n\n				\n\n				\n			\n		\n	\n\n\n									\n\n				\n	\n		View Calendar
URL:https://duncanplace.org/event/the-cheyne-gang-room-4/2026-03-30/
LOCATION:Duncan Place Community Hub\, Duncan Place\, Leith\, Edinburgh\, Edinburgh\, EH6 8HW\, United Kingdom
ATTACH;FMTTYPE=image/png:https://duncanplace.org/wp-content/uploads/2024/04/cheyne.png
GEO:55.9699976;-3.1683591
X-APPLE-STRUCTURED-LOCATION;VALUE=URI;X-ADDRESS=Duncan Place Community Hub Duncan Place Leith Edinburgh Edinburgh EH6 8HW United Kingdom;X-APPLE-RADIUS=500;X-TITLE=Duncan Place:geo:-3.1683591,55.9699976
END:VEVENT
BEGIN:VEVENT
DTSTART;TZID=Europe/London:20260330T140000
DTEND;TZID=Europe/London:20260330T160000
DTSTAMP:20260424T131539
CREATED:20260313T120511Z
LAST-MODIFIED:20260313T120741Z
UID:10005557-1774879200-1774886400@duncanplace.org
SUMMARY:AdvoCard
DESCRIPTION:Music Circles provide us with the perfect way to have fun\, express ourselves\, beat stress and connect with our community. In our Community Music Circle\, we will create ‘in the moment’ music with drums\, percussion\, voices and other easy to play melodic instruments. Join in whatever way you can and are comfortable with. Drums and percussion provided (or bring your own). \nMusic Circle information\nThere’s no need to book. Just come along. \nStart time is 7:30pm (running until 8:45pm). Please arrive five/ten minutes before the start time. \nOur music circles are for adults (minimum age 16). \nEach session costs £3\, paid by cash or card at the reception desk when you arrive. \nWe welcome Morag from Moving Music to lead our music circles. \nIf you have any questions\, please email events@duncanplace.org or call 0131 3644351. \nMorag from Moving Music\n\n\n\n		\n	\n\n\n\n	Morag is a qualified Drum Circle Facilitator\, Music Medicine Practitioner\, and Social Worker. Morag is also trained to deliver sessions in Expressive Rhythm stories and Rythym2Recovery. \nMorag has over 20 years’ experience providing opportunities for individuals and communities to explore the moving power of music. She has worked with people from all walks of life and is passionate in her belief that we are all musicians. Using easy to play and unusual instruments her inclusive friendly and fun approach creates a safe space to play. Participants will be supported to grow in skills and confidence and to discover and awaken their own inner music. \n\n\n	\n		\n\n			\n			\n\n							\n					\n						Upcoming Events					\n				\n			\n			\n				\n											\n\n	\n	\n		\n			Apr		\n		\n			24		\n	\n\n\n	\n		\n			\n\n				\n					\n		\n		9:00 am - 5:00 pm	\n	\n					\n	\n		Harbour	\n\n				\n\n				\n			\n		\n	\n\n\n											\n\n	\n	\n		\n			Apr		\n		\n			24		\n	\n\n\n	\n		\n			\n\n				\n					\n		\n		12:30 pm - 2:30 pm	\n	\n\n	\n		\n\n	\n	\n	\n\n	\n\n\n					\n	\n		YMCA	\n\n				\n\n				\n			\n		\n	\n\n\n											\n\n	\n	\n		\n			Apr		\n		\n			24		\n	\n\n\n	\n		\n			\n\n				\n					\n	\n	\n	\n\n\n\n	Featured\n	\n		3:00 pm - 5:00 pm	\n	\n\n	\n		\n\n	\n	\n	\n\n	\n\n\n					\n	\n		Dungeons and Dragons	\n\n				\n\n				\n			\n		\n	\n\n\n											\n\n	\n	\n		\n			Apr		\n		\n			25		\n	\n\n\n	\n		\n			\n\n				\n					\n		\n		9:30 am - 12:00 pm	\n	\n\n	\n		\n\n	\n	\n	\n\n	\n\n\n					\n	\n		The Piping Center	\n\n				\n\n				\n			\n		\n	\n\n\n											\n\n	\n	\n		\n			Apr		\n		\n			25		\n	\n\n\n	\n		\n			\n\n				\n					\n		\n		10:00 am - 11:00 am	\n	\n\n	\n		\n\n	\n	\n	\n\n	\n\n\n					\n	\n		The Piping Center	\n\n				\n\n				\n			\n		\n	\n\n\n									\n\n				\n	\n		View Calendar
URL:https://duncanplace.org/event/advocard/
LOCATION:Duncan Place Community Hub\, Duncan Place\, Leith\, Edinburgh\, Edinburgh\, EH6 8HW\, United Kingdom
ATTACH;FMTTYPE=image/png:https://duncanplace.org/wp-content/uploads/2024/08/calendar-template-size-test-16.png
ORGANIZER;CN="Duncan Place Events":MAILTO:events@duncanplace.org
GEO:55.9699976;-3.1683591
X-APPLE-STRUCTURED-LOCATION;VALUE=URI;X-ADDRESS=Duncan Place Community Hub Duncan Place Leith Edinburgh Edinburgh EH6 8HW United Kingdom;X-APPLE-RADIUS=500;X-TITLE=Duncan Place:geo:-3.1683591,55.9699976
END:VEVENT
BEGIN:VEVENT
DTSTART;TZID=Europe/London:20260330T151500
DTEND;TZID=Europe/London:20260330T181500
DTSTAMP:20260424T131539
CREATED:20251121T130621Z
LAST-MODIFIED:20251121T130621Z
UID:10004932-1774883700-1774894500@duncanplace.org
SUMMARY:Academy Arts
DESCRIPTION:Music Circles provide us with the perfect way to have fun\, express ourselves\, beat stress and connect with our community. In our Community Music Circle\, we will create ‘in the moment’ music with drums\, percussion\, voices and other easy to play melodic instruments. Join in whatever way you can and are comfortable with. Drums and percussion provided (or bring your own). \nMusic Circle information\nThere’s no need to book. Just come along. \nStart time is 7:30pm (running until 8:45pm). Please arrive five/ten minutes before the start time. \nOur music circles are for adults (minimum age 16). \nEach session costs £3\, paid by cash or card at the reception desk when you arrive. \nWe welcome Morag from Moving Music to lead our music circles. \nIf you have any questions\, please email events@duncanplace.org or call 0131 3644351. \nMorag from Moving Music\n\n\n\n		\n	\n\n\n\n	Morag is a qualified Drum Circle Facilitator\, Music Medicine Practitioner\, and Social Worker. Morag is also trained to deliver sessions in Expressive Rhythm stories and Rythym2Recovery. \nMorag has over 20 years’ experience providing opportunities for individuals and communities to explore the moving power of music. She has worked with people from all walks of life and is passionate in her belief that we are all musicians. Using easy to play and unusual instruments her inclusive friendly and fun approach creates a safe space to play. Participants will be supported to grow in skills and confidence and to discover and awaken their own inner music. \n\n\n	\n		\n\n			\n			\n\n							\n					\n						Upcoming Events					\n				\n			\n			\n				\n											\n\n	\n	\n		\n			Apr		\n		\n			24		\n	\n\n\n	\n		\n			\n\n				\n					\n		\n		9:00 am - 5:00 pm	\n	\n					\n	\n		Harbour	\n\n				\n\n				\n			\n		\n	\n\n\n											\n\n	\n	\n		\n			Apr		\n		\n			24		\n	\n\n\n	\n		\n			\n\n				\n					\n		\n		12:30 pm - 2:30 pm	\n	\n\n	\n		\n\n	\n	\n	\n\n	\n\n\n					\n	\n		YMCA	\n\n				\n\n				\n			\n		\n	\n\n\n											\n\n	\n	\n		\n			Apr		\n		\n			24		\n	\n\n\n	\n		\n			\n\n				\n					\n	\n	\n	\n\n\n\n	Featured\n	\n		3:00 pm - 5:00 pm	\n	\n\n	\n		\n\n	\n	\n	\n\n	\n\n\n					\n	\n		Dungeons and Dragons	\n\n				\n\n				\n			\n		\n	\n\n\n											\n\n	\n	\n		\n			Apr		\n		\n			25		\n	\n\n\n	\n		\n			\n\n				\n					\n		\n		9:30 am - 12:00 pm	\n	\n\n	\n		\n\n	\n	\n	\n\n	\n\n\n					\n	\n		The Piping Center	\n\n				\n\n				\n			\n		\n	\n\n\n											\n\n	\n	\n		\n			Apr		\n		\n			25		\n	\n\n\n	\n		\n			\n\n				\n					\n		\n		10:00 am - 11:00 am	\n	\n\n	\n		\n\n	\n	\n	\n\n	\n\n\n					\n	\n		The Piping Center	\n\n				\n\n				\n			\n		\n	\n\n\n									\n\n				\n	\n		View Calendar
URL:https://duncanplace.org/event/academy-arts/2026-03-30/
LOCATION:Duncan Place Community Hub\, Duncan Place\, Leith\, Edinburgh\, Edinburgh\, EH6 8HW\, United Kingdom
ATTACH;FMTTYPE=image/png:https://duncanplace.org/wp-content/uploads/2025/01/Academy-10-x-10-cm-15-x-15-cm-1200-x-495-px.png
ORGANIZER;CN="Duncan Place Events":MAILTO:events@duncanplace.org
GEO:55.9699976;-3.1683591
X-APPLE-STRUCTURED-LOCATION;VALUE=URI;X-ADDRESS=Duncan Place Community Hub Duncan Place Leith Edinburgh Edinburgh EH6 8HW United Kingdom;X-APPLE-RADIUS=500;X-TITLE=Duncan Place:geo:-3.1683591,55.9699976
END:VEVENT
BEGIN:VEVENT
DTSTART;TZID=Europe/London:20260330T180000
DTEND;TZID=Europe/London:20260330T190000
DTSTAMP:20260424T131539
CREATED:20251125T190719Z
LAST-MODIFIED:20251125T190719Z
UID:10004986-1774893600-1774897200@duncanplace.org
SUMMARY:Yoga with Megan
DESCRIPTION:Music Circles provide us with the perfect way to have fun\, express ourselves\, beat stress and connect with our community. In our Community Music Circle\, we will create ‘in the moment’ music with drums\, percussion\, voices and other easy to play melodic instruments. Join in whatever way you can and are comfortable with. Drums and percussion provided (or bring your own). \nMusic Circle information\nThere’s no need to book. Just come along. \nStart time is 7:30pm (running until 8:45pm). Please arrive five/ten minutes before the start time. \nOur music circles are for adults (minimum age 16). \nEach session costs £3\, paid by cash or card at the reception desk when you arrive. \nWe welcome Morag from Moving Music to lead our music circles. \nIf you have any questions\, please email events@duncanplace.org or call 0131 3644351. \nMorag from Moving Music\n\n\n\n		\n	\n\n\n\n	Morag is a qualified Drum Circle Facilitator\, Music Medicine Practitioner\, and Social Worker. Morag is also trained to deliver sessions in Expressive Rhythm stories and Rythym2Recovery. \nMorag has over 20 years’ experience providing opportunities for individuals and communities to explore the moving power of music. She has worked with people from all walks of life and is passionate in her belief that we are all musicians. Using easy to play and unusual instruments her inclusive friendly and fun approach creates a safe space to play. Participants will be supported to grow in skills and confidence and to discover and awaken their own inner music. \n\n\n	\n		\n\n			\n			\n\n							\n					\n						Upcoming Events					\n				\n			\n			\n				\n											\n\n	\n	\n		\n			Apr		\n		\n			24		\n	\n\n\n	\n		\n			\n\n				\n					\n		\n		9:00 am - 5:00 pm	\n	\n					\n	\n		Harbour	\n\n				\n\n				\n			\n		\n	\n\n\n											\n\n	\n	\n		\n			Apr		\n		\n			24		\n	\n\n\n	\n		\n			\n\n				\n					\n		\n		12:30 pm - 2:30 pm	\n	\n\n	\n		\n\n	\n	\n	\n\n	\n\n\n					\n	\n		YMCA	\n\n				\n\n				\n			\n		\n	\n\n\n											\n\n	\n	\n		\n			Apr		\n		\n			24		\n	\n\n\n	\n		\n			\n\n				\n					\n	\n	\n	\n\n\n\n	Featured\n	\n		3:00 pm - 5:00 pm	\n	\n\n	\n		\n\n	\n	\n	\n\n	\n\n\n					\n	\n		Dungeons and Dragons	\n\n				\n\n				\n			\n		\n	\n\n\n											\n\n	\n	\n		\n			Apr		\n		\n			25		\n	\n\n\n	\n		\n			\n\n				\n					\n		\n		9:30 am - 12:00 pm	\n	\n\n	\n		\n\n	\n	\n	\n\n	\n\n\n					\n	\n		The Piping Center	\n\n				\n\n				\n			\n		\n	\n\n\n											\n\n	\n	\n		\n			Apr		\n		\n			25		\n	\n\n\n	\n		\n			\n\n				\n					\n		\n		10:00 am - 11:00 am	\n	\n\n	\n		\n\n	\n	\n	\n\n	\n\n\n					\n	\n		The Piping Center	\n\n				\n\n				\n			\n		\n	\n\n\n									\n\n				\n	\n		View Calendar
URL:https://duncanplace.org/event/yoga-with-megan/2026-03-30/
LOCATION:Duncan Place Community Hub\, Duncan Place\, Leith\, Edinburgh\, Edinburgh\, EH6 8HW\, United Kingdom
ATTACH;FMTTYPE=image/png:https://duncanplace.org/wp-content/uploads/2025/02/Yoga-with-Megan.png
GEO:55.9699976;-3.1683591
X-APPLE-STRUCTURED-LOCATION;VALUE=URI;X-ADDRESS=Duncan Place Community Hub Duncan Place Leith Edinburgh Edinburgh EH6 8HW United Kingdom;X-APPLE-RADIUS=500;X-TITLE=Duncan Place:geo:-3.1683591,55.9699976
END:VEVENT
BEGIN:VEVENT
DTSTART;TZID=Europe/London:20260330T183000
DTEND;TZID=Europe/London:20260330T203000
DTSTAMP:20260424T131539
CREATED:20260120T182155Z
LAST-MODIFIED:20260120T182155Z
UID:10005328-1774895400-1774902600@duncanplace.org
SUMMARY:Leith Links Community Council
DESCRIPTION:Music Circles provide us with the perfect way to have fun\, express ourselves\, beat stress and connect with our community. In our Community Music Circle\, we will create ‘in the moment’ music with drums\, percussion\, voices and other easy to play melodic instruments. Join in whatever way you can and are comfortable with. Drums and percussion provided (or bring your own). \nMusic Circle information\nThere’s no need to book. Just come along. \nStart time is 7:30pm (running until 8:45pm). Please arrive five/ten minutes before the start time. \nOur music circles are for adults (minimum age 16). \nEach session costs £3\, paid by cash or card at the reception desk when you arrive. \nWe welcome Morag from Moving Music to lead our music circles. \nIf you have any questions\, please email events@duncanplace.org or call 0131 3644351. \nMorag from Moving Music\n\n\n\n		\n	\n\n\n\n	Morag is a qualified Drum Circle Facilitator\, Music Medicine Practitioner\, and Social Worker. Morag is also trained to deliver sessions in Expressive Rhythm stories and Rythym2Recovery. \nMorag has over 20 years’ experience providing opportunities for individuals and communities to explore the moving power of music. She has worked with people from all walks of life and is passionate in her belief that we are all musicians. Using easy to play and unusual instruments her inclusive friendly and fun approach creates a safe space to play. Participants will be supported to grow in skills and confidence and to discover and awaken their own inner music. \n\n\n	\n		\n\n			\n			\n\n							\n					\n						Upcoming Events					\n				\n			\n			\n				\n											\n\n	\n	\n		\n			Apr		\n		\n			24		\n	\n\n\n	\n		\n			\n\n				\n					\n		\n		9:00 am - 5:00 pm	\n	\n					\n	\n		Harbour	\n\n				\n\n				\n			\n		\n	\n\n\n											\n\n	\n	\n		\n			Apr		\n		\n			24		\n	\n\n\n	\n		\n			\n\n				\n					\n		\n		12:30 pm - 2:30 pm	\n	\n\n	\n		\n\n	\n	\n	\n\n	\n\n\n					\n	\n		YMCA	\n\n				\n\n				\n			\n		\n	\n\n\n											\n\n	\n	\n		\n			Apr		\n		\n			24		\n	\n\n\n	\n		\n			\n\n				\n					\n	\n	\n	\n\n\n\n	Featured\n	\n		3:00 pm - 5:00 pm	\n	\n\n	\n		\n\n	\n	\n	\n\n	\n\n\n					\n	\n		Dungeons and Dragons	\n\n				\n\n				\n			\n		\n	\n\n\n											\n\n	\n	\n		\n			Apr		\n		\n			25		\n	\n\n\n	\n		\n			\n\n				\n					\n		\n		9:30 am - 12:00 pm	\n	\n\n	\n		\n\n	\n	\n	\n\n	\n\n\n					\n	\n		The Piping Center	\n\n				\n\n				\n			\n		\n	\n\n\n											\n\n	\n	\n		\n			Apr		\n		\n			25		\n	\n\n\n	\n		\n			\n\n				\n					\n		\n		10:00 am - 11:00 am	\n	\n\n	\n		\n\n	\n	\n	\n\n	\n\n\n					\n	\n		The Piping Center	\n\n				\n\n				\n			\n		\n	\n\n\n									\n\n				\n	\n		View Calendar
URL:https://duncanplace.org/event/leith-links-community-council-2/2026-03-30/
LOCATION:Duncan Place Community Hub\, Duncan Place\, Leith\, Edinburgh\, Edinburgh\, EH6 8HW\, United Kingdom
ATTACH;FMTTYPE=image/png:https://duncanplace.org/wp-content/uploads/2024/05/llcc-LOGO-3.png
ORGANIZER;CN="Duncan Place Events":MAILTO:events@duncanplace.org
GEO:55.9699976;-3.1683591
X-APPLE-STRUCTURED-LOCATION;VALUE=URI;X-ADDRESS=Duncan Place Community Hub Duncan Place Leith Edinburgh Edinburgh EH6 8HW United Kingdom;X-APPLE-RADIUS=500;X-TITLE=Duncan Place:geo:-3.1683591,55.9699976
END:VEVENT
END:VCALENDAR