BEGIN:VCALENDAR
VERSION:2.0
PRODID:-//Duncan Place - ECPv6.15.20//NONSGML v1.0//EN
CALSCALE:GREGORIAN
METHOD:PUBLISH
X-ORIGINAL-URL:https://duncanplace.org
X-WR-CALDESC:Events for Duncan Place
REFRESH-INTERVAL;VALUE=DURATION:PT1H
X-Robots-Tag:noindex
X-PUBLISHED-TTL:PT1H
BEGIN:VTIMEZONE
TZID:Europe/London
BEGIN:DAYLIGHT
TZOFFSETFROM:+0000
TZOFFSETTO:+0100
TZNAME:BST
DTSTART:20250330T010000
END:DAYLIGHT
BEGIN:STANDARD
TZOFFSETFROM:+0100
TZOFFSETTO:+0000
TZNAME:GMT
DTSTART:20251026T010000
END:STANDARD
BEGIN:DAYLIGHT
TZOFFSETFROM:+0000
TZOFFSETTO:+0100
TZNAME:BST
DTSTART:20260329T010000
END:DAYLIGHT
BEGIN:STANDARD
TZOFFSETFROM:+0100
TZOFFSETTO:+0000
TZNAME:GMT
DTSTART:20261025T010000
END:STANDARD
BEGIN:DAYLIGHT
TZOFFSETFROM:+0000
TZOFFSETTO:+0100
TZNAME:BST
DTSTART:20270328T010000
END:DAYLIGHT
BEGIN:STANDARD
TZOFFSETFROM:+0100
TZOFFSETTO:+0000
TZNAME:GMT
DTSTART:20271031T010000
END:STANDARD
END:VTIMEZONE
BEGIN:VEVENT
DTSTART;TZID=Europe/London:20260413T114500
DTEND;TZID=Europe/London:20260413T134500
DTSTAMP:20260423T214300
CREATED:20251127T152031Z
LAST-MODIFIED:20251127T152031Z
UID:10005021-1776080700-1776087900@duncanplace.org
SUMMARY:The Cheyne Gang - Room 4
DESCRIPTION:Sing to Breathe\n\n	The Cheyne Gang is a community singing group for people living with long-term respiratory conditions such as COPD (Chronic Obstructive Pulmonary Disease)\, Asthma\, Bronchiectasis - in fact any respiratory condition that causes long-term breathlessness. \n\nAbout The Cheyne Gang\n\n\nThe Cheyne Gang\, so called because we held our first sessions in Cheyne Street\, Edinburgh and because our members shared the common bond of COPD\, originated in 2013 as a research project. Pauline Waugh\, Anne Ritchie and Sarah Marshall are General Practice Nurses with an interest in COPD and other respiratory illnesses.  They also enjoy singing in their leisure time.   \nThe aim of the research was to look at the impact of singing in a group on the quality of life of the participants. We continue to assess quality of life of our participants today although the research project is finished.   \nWe know that there have been measurable improvements on quality of life for the majority of our members. \nIncidentally we noted a reduction in exacerbations (chest infections)\, a reduction in reliever inhaler use and a reduction in hospital admissions. \nFrom small beginnings we have grown.  We now have four groups in Edinburgh\, one in Innerleithen\, and one in Glasgow with plans to start a Highland group in 2024.  In addition we support one group in Helensburgh.​ \nSo if you are breathless\, or know someone who would benefit from joining the Cheyne Gang\, please contact us.  See details on the Contact page.\n \n\nAnnie McKenzie worked with children with special needs and is now retired. She is a swimming teacher and loves singing. Annie is the Administrator for the Leith and Stockbridge Groups.\n \n\n\n\n	\n		\n\n			\n			\n\n							\n					\n						Upcoming Events					\n				\n			\n			\n				\n											\n\n	\n	\n		\n			Apr		\n		\n			24		\n	\n\n\n	\n		\n			\n\n				\n					\n		\n		9:00 am - 5:00 pm	\n	\n					\n	\n		Harbour	\n\n				\n\n				\n			\n		\n	\n\n\n											\n\n	\n	\n		\n			Apr		\n		\n			24		\n	\n\n\n	\n		\n			\n\n				\n					\n	\n	\n	\n\n\n\n	Featured\n	\n		10:00 am - 12:00 pm	\n	\n\n	\n		\n\n	\n	\n	\n\n	\n\n\n					\n	\n		Duncan Place Craft Group (Friday morning) – Big Duncan room	\n\n				\n\n				\n			\n		\n	\n\n\n											\n\n	\n	\n		\n			Apr		\n		\n			24		\n	\n\n\n	\n		\n			\n\n				\n					\n		\n		12:30 pm - 2:30 pm	\n	\n\n	\n		\n\n	\n	\n	\n\n	\n\n\n					\n	\n		YMCA	\n\n				\n\n				\n			\n		\n	\n\n\n											\n\n	\n	\n		\n			Apr		\n		\n			24		\n	\n\n\n	\n		\n			\n\n				\n					\n	\n	\n	\n\n\n\n	Featured\n	\n		3:00 pm - 5:00 pm	\n	\n\n	\n		\n\n	\n	\n	\n\n	\n\n\n					\n	\n		Dungeons and Dragons	\n\n				\n\n				\n			\n		\n	\n\n\n											\n\n	\n	\n		\n			Apr		\n		\n			25		\n	\n\n\n	\n		\n			\n\n				\n					\n		\n		9:30 am - 12:00 pm	\n	\n\n	\n		\n\n	\n	\n	\n\n	\n\n\n					\n	\n		The Piping Center	\n\n				\n\n				\n			\n		\n	\n\n\n									\n\n				\n	\n		View Calendar
URL:https://duncanplace.org/event/the-cheyne-gang-room-4/2026-04-13/
LOCATION:Duncan Place Community Hub\, Duncan Place\, Leith\, Edinburgh\, Edinburgh\, EH6 8HW\, United Kingdom
ATTACH;FMTTYPE=image/png:https://duncanplace.org/wp-content/uploads/2024/04/cheyne.png
GEO:55.9699976;-3.1683591
X-APPLE-STRUCTURED-LOCATION;VALUE=URI;X-ADDRESS=Duncan Place Community Hub Duncan Place Leith Edinburgh Edinburgh EH6 8HW United Kingdom;X-APPLE-RADIUS=500;X-TITLE=Duncan Place:geo:-3.1683591,55.9699976
END:VEVENT
BEGIN:VEVENT
DTSTART;TZID=Europe/London:20260330T114500
DTEND;TZID=Europe/London:20260330T134500
DTSTAMP:20260423T214300
CREATED:20251127T152031Z
LAST-MODIFIED:20251127T152031Z
UID:10005020-1774871100-1774878300@duncanplace.org
SUMMARY:The Cheyne Gang - Room 4
DESCRIPTION:Sing to Breathe\n\n	The Cheyne Gang is a community singing group for people living with long-term respiratory conditions such as COPD (Chronic Obstructive Pulmonary Disease)\, Asthma\, Bronchiectasis - in fact any respiratory condition that causes long-term breathlessness. \n\nAbout The Cheyne Gang\n\n\nThe Cheyne Gang\, so called because we held our first sessions in Cheyne Street\, Edinburgh and because our members shared the common bond of COPD\, originated in 2013 as a research project. Pauline Waugh\, Anne Ritchie and Sarah Marshall are General Practice Nurses with an interest in COPD and other respiratory illnesses.  They also enjoy singing in their leisure time.   \nThe aim of the research was to look at the impact of singing in a group on the quality of life of the participants. We continue to assess quality of life of our participants today although the research project is finished.   \nWe know that there have been measurable improvements on quality of life for the majority of our members. \nIncidentally we noted a reduction in exacerbations (chest infections)\, a reduction in reliever inhaler use and a reduction in hospital admissions. \nFrom small beginnings we have grown.  We now have four groups in Edinburgh\, one in Innerleithen\, and one in Glasgow with plans to start a Highland group in 2024.  In addition we support one group in Helensburgh.​ \nSo if you are breathless\, or know someone who would benefit from joining the Cheyne Gang\, please contact us.  See details on the Contact page.\n \n\nAnnie McKenzie worked with children with special needs and is now retired. She is a swimming teacher and loves singing. Annie is the Administrator for the Leith and Stockbridge Groups.\n \n\n\n\n	\n		\n\n			\n			\n\n							\n					\n						Upcoming Events					\n				\n			\n			\n				\n											\n\n	\n	\n		\n			Apr		\n		\n			24		\n	\n\n\n	\n		\n			\n\n				\n					\n		\n		9:00 am - 5:00 pm	\n	\n					\n	\n		Harbour	\n\n				\n\n				\n			\n		\n	\n\n\n											\n\n	\n	\n		\n			Apr		\n		\n			24		\n	\n\n\n	\n		\n			\n\n				\n					\n	\n	\n	\n\n\n\n	Featured\n	\n		10:00 am - 12:00 pm	\n	\n\n	\n		\n\n	\n	\n	\n\n	\n\n\n					\n	\n		Duncan Place Craft Group (Friday morning) – Big Duncan room	\n\n				\n\n				\n			\n		\n	\n\n\n											\n\n	\n	\n		\n			Apr		\n		\n			24		\n	\n\n\n	\n		\n			\n\n				\n					\n		\n		12:30 pm - 2:30 pm	\n	\n\n	\n		\n\n	\n	\n	\n\n	\n\n\n					\n	\n		YMCA	\n\n				\n\n				\n			\n		\n	\n\n\n											\n\n	\n	\n		\n			Apr		\n		\n			24		\n	\n\n\n	\n		\n			\n\n				\n					\n	\n	\n	\n\n\n\n	Featured\n	\n		3:00 pm - 5:00 pm	\n	\n\n	\n		\n\n	\n	\n	\n\n	\n\n\n					\n	\n		Dungeons and Dragons	\n\n				\n\n				\n			\n		\n	\n\n\n											\n\n	\n	\n		\n			Apr		\n		\n			25		\n	\n\n\n	\n		\n			\n\n				\n					\n		\n		9:30 am - 12:00 pm	\n	\n\n	\n		\n\n	\n	\n	\n\n	\n\n\n					\n	\n		The Piping Center	\n\n				\n\n				\n			\n		\n	\n\n\n									\n\n				\n	\n		View Calendar
URL:https://duncanplace.org/event/the-cheyne-gang-room-4/2026-03-30/
LOCATION:Duncan Place Community Hub\, Duncan Place\, Leith\, Edinburgh\, Edinburgh\, EH6 8HW\, United Kingdom
ATTACH;FMTTYPE=image/png:https://duncanplace.org/wp-content/uploads/2024/04/cheyne.png
GEO:55.9699976;-3.1683591
X-APPLE-STRUCTURED-LOCATION;VALUE=URI;X-ADDRESS=Duncan Place Community Hub Duncan Place Leith Edinburgh Edinburgh EH6 8HW United Kingdom;X-APPLE-RADIUS=500;X-TITLE=Duncan Place:geo:-3.1683591,55.9699976
END:VEVENT
BEGIN:VEVENT
DTSTART;TZID=Europe/London:20260316T114500
DTEND;TZID=Europe/London:20260316T134500
DTSTAMP:20260423T214300
CREATED:20251127T152031Z
LAST-MODIFIED:20251127T152031Z
UID:10005019-1773661500-1773668700@duncanplace.org
SUMMARY:The Cheyne Gang - Room 4
DESCRIPTION:Sing to Breathe\n\n	The Cheyne Gang is a community singing group for people living with long-term respiratory conditions such as COPD (Chronic Obstructive Pulmonary Disease)\, Asthma\, Bronchiectasis - in fact any respiratory condition that causes long-term breathlessness. \n\nAbout The Cheyne Gang\n\n\nThe Cheyne Gang\, so called because we held our first sessions in Cheyne Street\, Edinburgh and because our members shared the common bond of COPD\, originated in 2013 as a research project. Pauline Waugh\, Anne Ritchie and Sarah Marshall are General Practice Nurses with an interest in COPD and other respiratory illnesses.  They also enjoy singing in their leisure time.   \nThe aim of the research was to look at the impact of singing in a group on the quality of life of the participants. We continue to assess quality of life of our participants today although the research project is finished.   \nWe know that there have been measurable improvements on quality of life for the majority of our members. \nIncidentally we noted a reduction in exacerbations (chest infections)\, a reduction in reliever inhaler use and a reduction in hospital admissions. \nFrom small beginnings we have grown.  We now have four groups in Edinburgh\, one in Innerleithen\, and one in Glasgow with plans to start a Highland group in 2024.  In addition we support one group in Helensburgh.​ \nSo if you are breathless\, or know someone who would benefit from joining the Cheyne Gang\, please contact us.  See details on the Contact page.\n \n\nAnnie McKenzie worked with children with special needs and is now retired. She is a swimming teacher and loves singing. Annie is the Administrator for the Leith and Stockbridge Groups.\n \n\n\n\n	\n		\n\n			\n			\n\n							\n					\n						Upcoming Events					\n				\n			\n			\n				\n											\n\n	\n	\n		\n			Apr		\n		\n			24		\n	\n\n\n	\n		\n			\n\n				\n					\n		\n		9:00 am - 5:00 pm	\n	\n					\n	\n		Harbour	\n\n				\n\n				\n			\n		\n	\n\n\n											\n\n	\n	\n		\n			Apr		\n		\n			24		\n	\n\n\n	\n		\n			\n\n				\n					\n	\n	\n	\n\n\n\n	Featured\n	\n		10:00 am - 12:00 pm	\n	\n\n	\n		\n\n	\n	\n	\n\n	\n\n\n					\n	\n		Duncan Place Craft Group (Friday morning) – Big Duncan room	\n\n				\n\n				\n			\n		\n	\n\n\n											\n\n	\n	\n		\n			Apr		\n		\n			24		\n	\n\n\n	\n		\n			\n\n				\n					\n		\n		12:30 pm - 2:30 pm	\n	\n\n	\n		\n\n	\n	\n	\n\n	\n\n\n					\n	\n		YMCA	\n\n				\n\n				\n			\n		\n	\n\n\n											\n\n	\n	\n		\n			Apr		\n		\n			24		\n	\n\n\n	\n		\n			\n\n				\n					\n	\n	\n	\n\n\n\n	Featured\n	\n		3:00 pm - 5:00 pm	\n	\n\n	\n		\n\n	\n	\n	\n\n	\n\n\n					\n	\n		Dungeons and Dragons	\n\n				\n\n				\n			\n		\n	\n\n\n											\n\n	\n	\n		\n			Apr		\n		\n			25		\n	\n\n\n	\n		\n			\n\n				\n					\n		\n		9:30 am - 12:00 pm	\n	\n\n	\n		\n\n	\n	\n	\n\n	\n\n\n					\n	\n		The Piping Center	\n\n				\n\n				\n			\n		\n	\n\n\n									\n\n				\n	\n		View Calendar
URL:https://duncanplace.org/event/the-cheyne-gang-room-4/2026-03-16/
LOCATION:Duncan Place Community Hub\, Duncan Place\, Leith\, Edinburgh\, Edinburgh\, EH6 8HW\, United Kingdom
ATTACH;FMTTYPE=image/png:https://duncanplace.org/wp-content/uploads/2024/04/cheyne.png
GEO:55.9699976;-3.1683591
X-APPLE-STRUCTURED-LOCATION;VALUE=URI;X-ADDRESS=Duncan Place Community Hub Duncan Place Leith Edinburgh Edinburgh EH6 8HW United Kingdom;X-APPLE-RADIUS=500;X-TITLE=Duncan Place:geo:-3.1683591,55.9699976
END:VEVENT
BEGIN:VEVENT
DTSTART;TZID=Europe/London:20260302T114500
DTEND;TZID=Europe/London:20260302T134500
DTSTAMP:20260423T214300
CREATED:20251127T152031Z
LAST-MODIFIED:20251127T152031Z
UID:10005018-1772451900-1772459100@duncanplace.org
SUMMARY:The Cheyne Gang - Room 4
DESCRIPTION:Sing to Breathe\n\n	The Cheyne Gang is a community singing group for people living with long-term respiratory conditions such as COPD (Chronic Obstructive Pulmonary Disease)\, Asthma\, Bronchiectasis - in fact any respiratory condition that causes long-term breathlessness. \n\nAbout The Cheyne Gang\n\n\nThe Cheyne Gang\, so called because we held our first sessions in Cheyne Street\, Edinburgh and because our members shared the common bond of COPD\, originated in 2013 as a research project. Pauline Waugh\, Anne Ritchie and Sarah Marshall are General Practice Nurses with an interest in COPD and other respiratory illnesses.  They also enjoy singing in their leisure time.   \nThe aim of the research was to look at the impact of singing in a group on the quality of life of the participants. We continue to assess quality of life of our participants today although the research project is finished.   \nWe know that there have been measurable improvements on quality of life for the majority of our members. \nIncidentally we noted a reduction in exacerbations (chest infections)\, a reduction in reliever inhaler use and a reduction in hospital admissions. \nFrom small beginnings we have grown.  We now have four groups in Edinburgh\, one in Innerleithen\, and one in Glasgow with plans to start a Highland group in 2024.  In addition we support one group in Helensburgh.​ \nSo if you are breathless\, or know someone who would benefit from joining the Cheyne Gang\, please contact us.  See details on the Contact page.\n \n\nAnnie McKenzie worked with children with special needs and is now retired. She is a swimming teacher and loves singing. Annie is the Administrator for the Leith and Stockbridge Groups.\n \n\n\n\n	\n		\n\n			\n			\n\n							\n					\n						Upcoming Events					\n				\n			\n			\n				\n											\n\n	\n	\n		\n			Apr		\n		\n			24		\n	\n\n\n	\n		\n			\n\n				\n					\n		\n		9:00 am - 5:00 pm	\n	\n					\n	\n		Harbour	\n\n				\n\n				\n			\n		\n	\n\n\n											\n\n	\n	\n		\n			Apr		\n		\n			24		\n	\n\n\n	\n		\n			\n\n				\n					\n	\n	\n	\n\n\n\n	Featured\n	\n		10:00 am - 12:00 pm	\n	\n\n	\n		\n\n	\n	\n	\n\n	\n\n\n					\n	\n		Duncan Place Craft Group (Friday morning) – Big Duncan room	\n\n				\n\n				\n			\n		\n	\n\n\n											\n\n	\n	\n		\n			Apr		\n		\n			24		\n	\n\n\n	\n		\n			\n\n				\n					\n		\n		12:30 pm - 2:30 pm	\n	\n\n	\n		\n\n	\n	\n	\n\n	\n\n\n					\n	\n		YMCA	\n\n				\n\n				\n			\n		\n	\n\n\n											\n\n	\n	\n		\n			Apr		\n		\n			24		\n	\n\n\n	\n		\n			\n\n				\n					\n	\n	\n	\n\n\n\n	Featured\n	\n		3:00 pm - 5:00 pm	\n	\n\n	\n		\n\n	\n	\n	\n\n	\n\n\n					\n	\n		Dungeons and Dragons	\n\n				\n\n				\n			\n		\n	\n\n\n											\n\n	\n	\n		\n			Apr		\n		\n			25		\n	\n\n\n	\n		\n			\n\n				\n					\n		\n		9:30 am - 12:00 pm	\n	\n\n	\n		\n\n	\n	\n	\n\n	\n\n\n					\n	\n		The Piping Center	\n\n				\n\n				\n			\n		\n	\n\n\n									\n\n				\n	\n		View Calendar
URL:https://duncanplace.org/event/the-cheyne-gang-room-4/2026-03-02/
LOCATION:Duncan Place Community Hub\, Duncan Place\, Leith\, Edinburgh\, Edinburgh\, EH6 8HW\, United Kingdom
ATTACH;FMTTYPE=image/png:https://duncanplace.org/wp-content/uploads/2024/04/cheyne.png
GEO:55.9699976;-3.1683591
X-APPLE-STRUCTURED-LOCATION;VALUE=URI;X-ADDRESS=Duncan Place Community Hub Duncan Place Leith Edinburgh Edinburgh EH6 8HW United Kingdom;X-APPLE-RADIUS=500;X-TITLE=Duncan Place:geo:-3.1683591,55.9699976
END:VEVENT
BEGIN:VEVENT
DTSTART;TZID=Europe/London:20260216T114500
DTEND;TZID=Europe/London:20260216T134500
DTSTAMP:20260423T214300
CREATED:20251127T152031Z
LAST-MODIFIED:20251127T152031Z
UID:10005017-1771242300-1771249500@duncanplace.org
SUMMARY:The Cheyne Gang - Room 4
DESCRIPTION:Sing to Breathe\n\n	The Cheyne Gang is a community singing group for people living with long-term respiratory conditions such as COPD (Chronic Obstructive Pulmonary Disease)\, Asthma\, Bronchiectasis - in fact any respiratory condition that causes long-term breathlessness. \n\nAbout The Cheyne Gang\n\n\nThe Cheyne Gang\, so called because we held our first sessions in Cheyne Street\, Edinburgh and because our members shared the common bond of COPD\, originated in 2013 as a research project. Pauline Waugh\, Anne Ritchie and Sarah Marshall are General Practice Nurses with an interest in COPD and other respiratory illnesses.  They also enjoy singing in their leisure time.   \nThe aim of the research was to look at the impact of singing in a group on the quality of life of the participants. We continue to assess quality of life of our participants today although the research project is finished.   \nWe know that there have been measurable improvements on quality of life for the majority of our members. \nIncidentally we noted a reduction in exacerbations (chest infections)\, a reduction in reliever inhaler use and a reduction in hospital admissions. \nFrom small beginnings we have grown.  We now have four groups in Edinburgh\, one in Innerleithen\, and one in Glasgow with plans to start a Highland group in 2024.  In addition we support one group in Helensburgh.​ \nSo if you are breathless\, or know someone who would benefit from joining the Cheyne Gang\, please contact us.  See details on the Contact page.\n \n\nAnnie McKenzie worked with children with special needs and is now retired. She is a swimming teacher and loves singing. Annie is the Administrator for the Leith and Stockbridge Groups.\n \n\n\n\n	\n		\n\n			\n			\n\n							\n					\n						Upcoming Events					\n				\n			\n			\n				\n											\n\n	\n	\n		\n			Apr		\n		\n			24		\n	\n\n\n	\n		\n			\n\n				\n					\n		\n		9:00 am - 5:00 pm	\n	\n					\n	\n		Harbour	\n\n				\n\n				\n			\n		\n	\n\n\n											\n\n	\n	\n		\n			Apr		\n		\n			24		\n	\n\n\n	\n		\n			\n\n				\n					\n	\n	\n	\n\n\n\n	Featured\n	\n		10:00 am - 12:00 pm	\n	\n\n	\n		\n\n	\n	\n	\n\n	\n\n\n					\n	\n		Duncan Place Craft Group (Friday morning) – Big Duncan room	\n\n				\n\n				\n			\n		\n	\n\n\n											\n\n	\n	\n		\n			Apr		\n		\n			24		\n	\n\n\n	\n		\n			\n\n				\n					\n		\n		12:30 pm - 2:30 pm	\n	\n\n	\n		\n\n	\n	\n	\n\n	\n\n\n					\n	\n		YMCA	\n\n				\n\n				\n			\n		\n	\n\n\n											\n\n	\n	\n		\n			Apr		\n		\n			24		\n	\n\n\n	\n		\n			\n\n				\n					\n	\n	\n	\n\n\n\n	Featured\n	\n		3:00 pm - 5:00 pm	\n	\n\n	\n		\n\n	\n	\n	\n\n	\n\n\n					\n	\n		Dungeons and Dragons	\n\n				\n\n				\n			\n		\n	\n\n\n											\n\n	\n	\n		\n			Apr		\n		\n			25		\n	\n\n\n	\n		\n			\n\n				\n					\n		\n		9:30 am - 12:00 pm	\n	\n\n	\n		\n\n	\n	\n	\n\n	\n\n\n					\n	\n		The Piping Center	\n\n				\n\n				\n			\n		\n	\n\n\n									\n\n				\n	\n		View Calendar
URL:https://duncanplace.org/event/the-cheyne-gang-room-4/2026-02-16/
LOCATION:Duncan Place Community Hub\, Duncan Place\, Leith\, Edinburgh\, Edinburgh\, EH6 8HW\, United Kingdom
ATTACH;FMTTYPE=image/png:https://duncanplace.org/wp-content/uploads/2024/04/cheyne.png
GEO:55.9699976;-3.1683591
X-APPLE-STRUCTURED-LOCATION;VALUE=URI;X-ADDRESS=Duncan Place Community Hub Duncan Place Leith Edinburgh Edinburgh EH6 8HW United Kingdom;X-APPLE-RADIUS=500;X-TITLE=Duncan Place:geo:-3.1683591,55.9699976
END:VEVENT
BEGIN:VEVENT
DTSTART;TZID=Europe/London:20260202T114500
DTEND;TZID=Europe/London:20260202T134500
DTSTAMP:20260423T214300
CREATED:20251127T152031Z
LAST-MODIFIED:20251127T152031Z
UID:10005016-1770032700-1770039900@duncanplace.org
SUMMARY:The Cheyne Gang - Room 4
DESCRIPTION:Sing to Breathe\n\n	The Cheyne Gang is a community singing group for people living with long-term respiratory conditions such as COPD (Chronic Obstructive Pulmonary Disease)\, Asthma\, Bronchiectasis - in fact any respiratory condition that causes long-term breathlessness. \n\nAbout The Cheyne Gang\n\n\nThe Cheyne Gang\, so called because we held our first sessions in Cheyne Street\, Edinburgh and because our members shared the common bond of COPD\, originated in 2013 as a research project. Pauline Waugh\, Anne Ritchie and Sarah Marshall are General Practice Nurses with an interest in COPD and other respiratory illnesses.  They also enjoy singing in their leisure time.   \nThe aim of the research was to look at the impact of singing in a group on the quality of life of the participants. We continue to assess quality of life of our participants today although the research project is finished.   \nWe know that there have been measurable improvements on quality of life for the majority of our members. \nIncidentally we noted a reduction in exacerbations (chest infections)\, a reduction in reliever inhaler use and a reduction in hospital admissions. \nFrom small beginnings we have grown.  We now have four groups in Edinburgh\, one in Innerleithen\, and one in Glasgow with plans to start a Highland group in 2024.  In addition we support one group in Helensburgh.​ \nSo if you are breathless\, or know someone who would benefit from joining the Cheyne Gang\, please contact us.  See details on the Contact page.\n \n\nAnnie McKenzie worked with children with special needs and is now retired. She is a swimming teacher and loves singing. Annie is the Administrator for the Leith and Stockbridge Groups.\n \n\n\n\n	\n		\n\n			\n			\n\n							\n					\n						Upcoming Events					\n				\n			\n			\n				\n											\n\n	\n	\n		\n			Apr		\n		\n			24		\n	\n\n\n	\n		\n			\n\n				\n					\n		\n		9:00 am - 5:00 pm	\n	\n					\n	\n		Harbour	\n\n				\n\n				\n			\n		\n	\n\n\n											\n\n	\n	\n		\n			Apr		\n		\n			24		\n	\n\n\n	\n		\n			\n\n				\n					\n	\n	\n	\n\n\n\n	Featured\n	\n		10:00 am - 12:00 pm	\n	\n\n	\n		\n\n	\n	\n	\n\n	\n\n\n					\n	\n		Duncan Place Craft Group (Friday morning) – Big Duncan room	\n\n				\n\n				\n			\n		\n	\n\n\n											\n\n	\n	\n		\n			Apr		\n		\n			24		\n	\n\n\n	\n		\n			\n\n				\n					\n		\n		12:30 pm - 2:30 pm	\n	\n\n	\n		\n\n	\n	\n	\n\n	\n\n\n					\n	\n		YMCA	\n\n				\n\n				\n			\n		\n	\n\n\n											\n\n	\n	\n		\n			Apr		\n		\n			24		\n	\n\n\n	\n		\n			\n\n				\n					\n	\n	\n	\n\n\n\n	Featured\n	\n		3:00 pm - 5:00 pm	\n	\n\n	\n		\n\n	\n	\n	\n\n	\n\n\n					\n	\n		Dungeons and Dragons	\n\n				\n\n				\n			\n		\n	\n\n\n											\n\n	\n	\n		\n			Apr		\n		\n			25		\n	\n\n\n	\n		\n			\n\n				\n					\n		\n		9:30 am - 12:00 pm	\n	\n\n	\n		\n\n	\n	\n	\n\n	\n\n\n					\n	\n		The Piping Center	\n\n				\n\n				\n			\n		\n	\n\n\n									\n\n				\n	\n		View Calendar
URL:https://duncanplace.org/event/the-cheyne-gang-room-4/2026-02-02/
LOCATION:Duncan Place Community Hub\, Duncan Place\, Leith\, Edinburgh\, Edinburgh\, EH6 8HW\, United Kingdom
ATTACH;FMTTYPE=image/png:https://duncanplace.org/wp-content/uploads/2024/04/cheyne.png
GEO:55.9699976;-3.1683591
X-APPLE-STRUCTURED-LOCATION;VALUE=URI;X-ADDRESS=Duncan Place Community Hub Duncan Place Leith Edinburgh Edinburgh EH6 8HW United Kingdom;X-APPLE-RADIUS=500;X-TITLE=Duncan Place:geo:-3.1683591,55.9699976
END:VEVENT
END:VCALENDAR