BEGIN:VCALENDAR
VERSION:2.0
PRODID:-//Duncan Place - ECPv6.15.20//NONSGML v1.0//EN
CALSCALE:GREGORIAN
METHOD:PUBLISH
X-WR-CALNAME:Duncan Place
X-ORIGINAL-URL:https://duncanplace.org
X-WR-CALDESC:Events for Duncan Place
REFRESH-INTERVAL;VALUE=DURATION:PT1H
X-Robots-Tag:noindex
X-PUBLISHED-TTL:PT1H
BEGIN:VTIMEZONE
TZID:Europe/London
BEGIN:DAYLIGHT
TZOFFSETFROM:+0000
TZOFFSETTO:+0100
TZNAME:BST
DTSTART:20250330T010000
END:DAYLIGHT
BEGIN:STANDARD
TZOFFSETFROM:+0100
TZOFFSETTO:+0000
TZNAME:GMT
DTSTART:20251026T010000
END:STANDARD
BEGIN:DAYLIGHT
TZOFFSETFROM:+0000
TZOFFSETTO:+0100
TZNAME:BST
DTSTART:20260329T010000
END:DAYLIGHT
BEGIN:STANDARD
TZOFFSETFROM:+0100
TZOFFSETTO:+0000
TZNAME:GMT
DTSTART:20261025T010000
END:STANDARD
BEGIN:DAYLIGHT
TZOFFSETFROM:+0000
TZOFFSETTO:+0100
TZNAME:BST
DTSTART:20270328T010000
END:DAYLIGHT
BEGIN:STANDARD
TZOFFSETFROM:+0100
TZOFFSETTO:+0000
TZNAME:GMT
DTSTART:20271031T010000
END:STANDARD
END:VTIMEZONE
BEGIN:VEVENT
DTSTART;TZID=Europe/London:20260422T174500
DTEND;TZID=Europe/London:20260422T184500
DTSTAMP:20260423T233453
CREATED:20250916T161308Z
LAST-MODIFIED:20260313T122501Z
UID:10004775-1776879900-1776883500@duncanplace.org
SUMMARY:Pilates Scotland
DESCRIPTION:Big Duncan Room\n\n	Private booking.  Contact the organiser for more information.\nhttps://www.pilatesscotland.co.uk/group-pilates-classes/ \n\n\n			\n		\n			\n			Pilates Scotland website		\n			\n	\n\n	\n		\n\n			\n			\n\n							\n					\n						Upcoming Events					\n				\n			\n			\n				\n											\n\n	\n	\n		\n			Apr		\n		\n			24		\n	\n\n\n	\n		\n			\n\n				\n					\n		\n		9:00 am - 5:00 pm	\n	\n					\n	\n		Harbour	\n\n				\n\n				\n			\n		\n	\n\n\n											\n\n	\n	\n		\n			Apr		\n		\n			24		\n	\n\n\n	\n		\n			\n\n				\n					\n	\n	\n	\n\n\n\n	Featured\n	\n		10:00 am - 12:00 pm	\n	\n\n	\n		\n\n	\n	\n	\n\n	\n\n\n					\n	\n		Duncan Place Craft Group (Friday morning) – Big Duncan room	\n\n				\n\n				\n			\n		\n	\n\n\n											\n\n	\n	\n		\n			Apr		\n		\n			24		\n	\n\n\n	\n		\n			\n\n				\n					\n		\n		12:30 pm - 2:30 pm	\n	\n\n	\n		\n\n	\n	\n	\n\n	\n\n\n					\n	\n		YMCA	\n\n				\n\n				\n			\n		\n	\n\n\n											\n\n	\n	\n		\n			Apr		\n		\n			24		\n	\n\n\n	\n		\n			\n\n				\n					\n	\n	\n	\n\n\n\n	Featured\n	\n		3:00 pm - 5:00 pm	\n	\n\n	\n		\n\n	\n	\n	\n\n	\n\n\n					\n	\n		Dungeons and Dragons	\n\n				\n\n				\n			\n		\n	\n\n\n											\n\n	\n	\n		\n			Apr		\n		\n			25		\n	\n\n\n	\n		\n			\n\n				\n					\n		\n		9:30 am - 12:00 pm	\n	\n\n	\n		\n\n	\n	\n	\n\n	\n\n\n					\n	\n		The Piping Center	\n\n				\n\n				\n			\n		\n	\n\n\n									\n\n				\n	\n		View Calendar
URL:https://duncanplace.org/event/pilates-scotland-2/2026-04-22/
LOCATION:Duncan Place Community Hub\, Duncan Place\, Leith\, Edinburgh\, Edinburgh\, EH6 8HW\, United Kingdom
ATTACH;FMTTYPE=image/png:https://duncanplace.org/wp-content/uploads/2025/04/pil.png
ORGANIZER;CN="Pilates  Scotland":MAILTO:info@pilatesscotland.co.uk
GEO:55.9699976;-3.1683591
X-APPLE-STRUCTURED-LOCATION;VALUE=URI;X-ADDRESS=Duncan Place Community Hub Duncan Place Leith Edinburgh Edinburgh EH6 8HW United Kingdom;X-APPLE-RADIUS=500;X-TITLE=Duncan Place:geo:-3.1683591,55.9699976
END:VEVENT
BEGIN:VEVENT
DTSTART;TZID=Europe/London:20260415T174500
DTEND;TZID=Europe/London:20260415T184500
DTSTAMP:20260423T233453
CREATED:20250916T161308Z
LAST-MODIFIED:20260313T122501Z
UID:10004774-1776275100-1776278700@duncanplace.org
SUMMARY:Pilates Scotland
DESCRIPTION:Big Duncan Room\n\n	Private booking.  Contact the organiser for more information.\nhttps://www.pilatesscotland.co.uk/group-pilates-classes/ \n\n\n			\n		\n			\n			Pilates Scotland website		\n			\n	\n\n	\n		\n\n			\n			\n\n							\n					\n						Upcoming Events					\n				\n			\n			\n				\n											\n\n	\n	\n		\n			Apr		\n		\n			24		\n	\n\n\n	\n		\n			\n\n				\n					\n		\n		9:00 am - 5:00 pm	\n	\n					\n	\n		Harbour	\n\n				\n\n				\n			\n		\n	\n\n\n											\n\n	\n	\n		\n			Apr		\n		\n			24		\n	\n\n\n	\n		\n			\n\n				\n					\n	\n	\n	\n\n\n\n	Featured\n	\n		10:00 am - 12:00 pm	\n	\n\n	\n		\n\n	\n	\n	\n\n	\n\n\n					\n	\n		Duncan Place Craft Group (Friday morning) – Big Duncan room	\n\n				\n\n				\n			\n		\n	\n\n\n											\n\n	\n	\n		\n			Apr		\n		\n			24		\n	\n\n\n	\n		\n			\n\n				\n					\n		\n		12:30 pm - 2:30 pm	\n	\n\n	\n		\n\n	\n	\n	\n\n	\n\n\n					\n	\n		YMCA	\n\n				\n\n				\n			\n		\n	\n\n\n											\n\n	\n	\n		\n			Apr		\n		\n			24		\n	\n\n\n	\n		\n			\n\n				\n					\n	\n	\n	\n\n\n\n	Featured\n	\n		3:00 pm - 5:00 pm	\n	\n\n	\n		\n\n	\n	\n	\n\n	\n\n\n					\n	\n		Dungeons and Dragons	\n\n				\n\n				\n			\n		\n	\n\n\n											\n\n	\n	\n		\n			Apr		\n		\n			25		\n	\n\n\n	\n		\n			\n\n				\n					\n		\n		9:30 am - 12:00 pm	\n	\n\n	\n		\n\n	\n	\n	\n\n	\n\n\n					\n	\n		The Piping Center	\n\n				\n\n				\n			\n		\n	\n\n\n									\n\n				\n	\n		View Calendar
URL:https://duncanplace.org/event/pilates-scotland-2/2026-04-15/
LOCATION:Duncan Place Community Hub\, Duncan Place\, Leith\, Edinburgh\, Edinburgh\, EH6 8HW\, United Kingdom
ATTACH;FMTTYPE=image/png:https://duncanplace.org/wp-content/uploads/2025/04/pil.png
ORGANIZER;CN="Pilates  Scotland":MAILTO:info@pilatesscotland.co.uk
GEO:55.9699976;-3.1683591
X-APPLE-STRUCTURED-LOCATION;VALUE=URI;X-ADDRESS=Duncan Place Community Hub Duncan Place Leith Edinburgh Edinburgh EH6 8HW United Kingdom;X-APPLE-RADIUS=500;X-TITLE=Duncan Place:geo:-3.1683591,55.9699976
END:VEVENT
BEGIN:VEVENT
DTSTART;TZID=Europe/London:20260401T174500
DTEND;TZID=Europe/London:20260401T184500
DTSTAMP:20260423T233453
CREATED:20250916T161308Z
LAST-MODIFIED:20260313T122501Z
UID:10004772-1775065500-1775069100@duncanplace.org
SUMMARY:Pilates Scotland
DESCRIPTION:Big Duncan Room\n\n	Private booking.  Contact the organiser for more information.\nhttps://www.pilatesscotland.co.uk/group-pilates-classes/ \n\n\n			\n		\n			\n			Pilates Scotland website		\n			\n	\n\n	\n		\n\n			\n			\n\n							\n					\n						Upcoming Events					\n				\n			\n			\n				\n											\n\n	\n	\n		\n			Apr		\n		\n			24		\n	\n\n\n	\n		\n			\n\n				\n					\n		\n		9:00 am - 5:00 pm	\n	\n					\n	\n		Harbour	\n\n				\n\n				\n			\n		\n	\n\n\n											\n\n	\n	\n		\n			Apr		\n		\n			24		\n	\n\n\n	\n		\n			\n\n				\n					\n	\n	\n	\n\n\n\n	Featured\n	\n		10:00 am - 12:00 pm	\n	\n\n	\n		\n\n	\n	\n	\n\n	\n\n\n					\n	\n		Duncan Place Craft Group (Friday morning) – Big Duncan room	\n\n				\n\n				\n			\n		\n	\n\n\n											\n\n	\n	\n		\n			Apr		\n		\n			24		\n	\n\n\n	\n		\n			\n\n				\n					\n		\n		12:30 pm - 2:30 pm	\n	\n\n	\n		\n\n	\n	\n	\n\n	\n\n\n					\n	\n		YMCA	\n\n				\n\n				\n			\n		\n	\n\n\n											\n\n	\n	\n		\n			Apr		\n		\n			24		\n	\n\n\n	\n		\n			\n\n				\n					\n	\n	\n	\n\n\n\n	Featured\n	\n		3:00 pm - 5:00 pm	\n	\n\n	\n		\n\n	\n	\n	\n\n	\n\n\n					\n	\n		Dungeons and Dragons	\n\n				\n\n				\n			\n		\n	\n\n\n											\n\n	\n	\n		\n			Apr		\n		\n			25		\n	\n\n\n	\n		\n			\n\n				\n					\n		\n		9:30 am - 12:00 pm	\n	\n\n	\n		\n\n	\n	\n	\n\n	\n\n\n					\n	\n		The Piping Center	\n\n				\n\n				\n			\n		\n	\n\n\n									\n\n				\n	\n		View Calendar
URL:https://duncanplace.org/event/pilates-scotland-2/2026-04-01/
LOCATION:Duncan Place Community Hub\, Duncan Place\, Leith\, Edinburgh\, Edinburgh\, EH6 8HW\, United Kingdom
ATTACH;FMTTYPE=image/png:https://duncanplace.org/wp-content/uploads/2025/04/pil.png
ORGANIZER;CN="Pilates  Scotland":MAILTO:info@pilatesscotland.co.uk
GEO:55.9699976;-3.1683591
X-APPLE-STRUCTURED-LOCATION;VALUE=URI;X-ADDRESS=Duncan Place Community Hub Duncan Place Leith Edinburgh Edinburgh EH6 8HW United Kingdom;X-APPLE-RADIUS=500;X-TITLE=Duncan Place:geo:-3.1683591,55.9699976
END:VEVENT
BEGIN:VEVENT
DTSTART;TZID=Europe/London:20260325T174500
DTEND;TZID=Europe/London:20260325T184500
DTSTAMP:20260423T233453
CREATED:20250916T161308Z
LAST-MODIFIED:20260313T122501Z
UID:10004771-1774460700-1774464300@duncanplace.org
SUMMARY:Pilates Scotland
DESCRIPTION:Big Duncan Room\n\n	Private booking.  Contact the organiser for more information.\nhttps://www.pilatesscotland.co.uk/group-pilates-classes/ \n\n\n			\n		\n			\n			Pilates Scotland website		\n			\n	\n\n	\n		\n\n			\n			\n\n							\n					\n						Upcoming Events					\n				\n			\n			\n				\n											\n\n	\n	\n		\n			Apr		\n		\n			24		\n	\n\n\n	\n		\n			\n\n				\n					\n		\n		9:00 am - 5:00 pm	\n	\n					\n	\n		Harbour	\n\n				\n\n				\n			\n		\n	\n\n\n											\n\n	\n	\n		\n			Apr		\n		\n			24		\n	\n\n\n	\n		\n			\n\n				\n					\n	\n	\n	\n\n\n\n	Featured\n	\n		10:00 am - 12:00 pm	\n	\n\n	\n		\n\n	\n	\n	\n\n	\n\n\n					\n	\n		Duncan Place Craft Group (Friday morning) – Big Duncan room	\n\n				\n\n				\n			\n		\n	\n\n\n											\n\n	\n	\n		\n			Apr		\n		\n			24		\n	\n\n\n	\n		\n			\n\n				\n					\n		\n		12:30 pm - 2:30 pm	\n	\n\n	\n		\n\n	\n	\n	\n\n	\n\n\n					\n	\n		YMCA	\n\n				\n\n				\n			\n		\n	\n\n\n											\n\n	\n	\n		\n			Apr		\n		\n			24		\n	\n\n\n	\n		\n			\n\n				\n					\n	\n	\n	\n\n\n\n	Featured\n	\n		3:00 pm - 5:00 pm	\n	\n\n	\n		\n\n	\n	\n	\n\n	\n\n\n					\n	\n		Dungeons and Dragons	\n\n				\n\n				\n			\n		\n	\n\n\n											\n\n	\n	\n		\n			Apr		\n		\n			25		\n	\n\n\n	\n		\n			\n\n				\n					\n		\n		9:30 am - 12:00 pm	\n	\n\n	\n		\n\n	\n	\n	\n\n	\n\n\n					\n	\n		The Piping Center	\n\n				\n\n				\n			\n		\n	\n\n\n									\n\n				\n	\n		View Calendar
URL:https://duncanplace.org/event/pilates-scotland-2/2026-03-25/
LOCATION:Duncan Place Community Hub\, Duncan Place\, Leith\, Edinburgh\, Edinburgh\, EH6 8HW\, United Kingdom
ATTACH;FMTTYPE=image/png:https://duncanplace.org/wp-content/uploads/2025/04/pil.png
ORGANIZER;CN="Pilates  Scotland":MAILTO:info@pilatesscotland.co.uk
GEO:55.9699976;-3.1683591
X-APPLE-STRUCTURED-LOCATION;VALUE=URI;X-ADDRESS=Duncan Place Community Hub Duncan Place Leith Edinburgh Edinburgh EH6 8HW United Kingdom;X-APPLE-RADIUS=500;X-TITLE=Duncan Place:geo:-3.1683591,55.9699976
END:VEVENT
BEGIN:VEVENT
DTSTART;TZID=Europe/London:20260318T174500
DTEND;TZID=Europe/London:20260318T184500
DTSTAMP:20260423T233453
CREATED:20250916T161308Z
LAST-MODIFIED:20260313T122501Z
UID:10004770-1773855900-1773859500@duncanplace.org
SUMMARY:Pilates Scotland
DESCRIPTION:Big Duncan Room\n\n	Private booking.  Contact the organiser for more information.\nhttps://www.pilatesscotland.co.uk/group-pilates-classes/ \n\n\n			\n		\n			\n			Pilates Scotland website		\n			\n	\n\n	\n		\n\n			\n			\n\n							\n					\n						Upcoming Events					\n				\n			\n			\n				\n											\n\n	\n	\n		\n			Apr		\n		\n			24		\n	\n\n\n	\n		\n			\n\n				\n					\n		\n		9:00 am - 5:00 pm	\n	\n					\n	\n		Harbour	\n\n				\n\n				\n			\n		\n	\n\n\n											\n\n	\n	\n		\n			Apr		\n		\n			24		\n	\n\n\n	\n		\n			\n\n				\n					\n	\n	\n	\n\n\n\n	Featured\n	\n		10:00 am - 12:00 pm	\n	\n\n	\n		\n\n	\n	\n	\n\n	\n\n\n					\n	\n		Duncan Place Craft Group (Friday morning) – Big Duncan room	\n\n				\n\n				\n			\n		\n	\n\n\n											\n\n	\n	\n		\n			Apr		\n		\n			24		\n	\n\n\n	\n		\n			\n\n				\n					\n		\n		12:30 pm - 2:30 pm	\n	\n\n	\n		\n\n	\n	\n	\n\n	\n\n\n					\n	\n		YMCA	\n\n				\n\n				\n			\n		\n	\n\n\n											\n\n	\n	\n		\n			Apr		\n		\n			24		\n	\n\n\n	\n		\n			\n\n				\n					\n	\n	\n	\n\n\n\n	Featured\n	\n		3:00 pm - 5:00 pm	\n	\n\n	\n		\n\n	\n	\n	\n\n	\n\n\n					\n	\n		Dungeons and Dragons	\n\n				\n\n				\n			\n		\n	\n\n\n											\n\n	\n	\n		\n			Apr		\n		\n			25		\n	\n\n\n	\n		\n			\n\n				\n					\n		\n		9:30 am - 12:00 pm	\n	\n\n	\n		\n\n	\n	\n	\n\n	\n\n\n					\n	\n		The Piping Center	\n\n				\n\n				\n			\n		\n	\n\n\n									\n\n				\n	\n		View Calendar
URL:https://duncanplace.org/event/pilates-scotland-2/2026-03-18/
LOCATION:Duncan Place Community Hub\, Duncan Place\, Leith\, Edinburgh\, Edinburgh\, EH6 8HW\, United Kingdom
ATTACH;FMTTYPE=image/png:https://duncanplace.org/wp-content/uploads/2025/04/pil.png
ORGANIZER;CN="Pilates  Scotland":MAILTO:info@pilatesscotland.co.uk
GEO:55.9699976;-3.1683591
X-APPLE-STRUCTURED-LOCATION;VALUE=URI;X-ADDRESS=Duncan Place Community Hub Duncan Place Leith Edinburgh Edinburgh EH6 8HW United Kingdom;X-APPLE-RADIUS=500;X-TITLE=Duncan Place:geo:-3.1683591,55.9699976
END:VEVENT
BEGIN:VEVENT
DTSTART;TZID=Europe/London:20260311T174500
DTEND;TZID=Europe/London:20260311T184500
DTSTAMP:20260423T233453
CREATED:20250916T161308Z
LAST-MODIFIED:20260313T122501Z
UID:10004769-1773251100-1773254700@duncanplace.org
SUMMARY:Pilates Scotland
DESCRIPTION:Big Duncan Room\n\n	Private booking.  Contact the organiser for more information.\nhttps://www.pilatesscotland.co.uk/group-pilates-classes/ \n\n\n			\n		\n			\n			Pilates Scotland website		\n			\n	\n\n	\n		\n\n			\n			\n\n							\n					\n						Upcoming Events					\n				\n			\n			\n				\n											\n\n	\n	\n		\n			Apr		\n		\n			24		\n	\n\n\n	\n		\n			\n\n				\n					\n		\n		9:00 am - 5:00 pm	\n	\n					\n	\n		Harbour	\n\n				\n\n				\n			\n		\n	\n\n\n											\n\n	\n	\n		\n			Apr		\n		\n			24		\n	\n\n\n	\n		\n			\n\n				\n					\n	\n	\n	\n\n\n\n	Featured\n	\n		10:00 am - 12:00 pm	\n	\n\n	\n		\n\n	\n	\n	\n\n	\n\n\n					\n	\n		Duncan Place Craft Group (Friday morning) – Big Duncan room	\n\n				\n\n				\n			\n		\n	\n\n\n											\n\n	\n	\n		\n			Apr		\n		\n			24		\n	\n\n\n	\n		\n			\n\n				\n					\n		\n		12:30 pm - 2:30 pm	\n	\n\n	\n		\n\n	\n	\n	\n\n	\n\n\n					\n	\n		YMCA	\n\n				\n\n				\n			\n		\n	\n\n\n											\n\n	\n	\n		\n			Apr		\n		\n			24		\n	\n\n\n	\n		\n			\n\n				\n					\n	\n	\n	\n\n\n\n	Featured\n	\n		3:00 pm - 5:00 pm	\n	\n\n	\n		\n\n	\n	\n	\n\n	\n\n\n					\n	\n		Dungeons and Dragons	\n\n				\n\n				\n			\n		\n	\n\n\n											\n\n	\n	\n		\n			Apr		\n		\n			25		\n	\n\n\n	\n		\n			\n\n				\n					\n		\n		9:30 am - 12:00 pm	\n	\n\n	\n		\n\n	\n	\n	\n\n	\n\n\n					\n	\n		The Piping Center	\n\n				\n\n				\n			\n		\n	\n\n\n									\n\n				\n	\n		View Calendar
URL:https://duncanplace.org/event/pilates-scotland-2/2026-03-11/
LOCATION:Duncan Place Community Hub\, Duncan Place\, Leith\, Edinburgh\, Edinburgh\, EH6 8HW\, United Kingdom
ATTACH;FMTTYPE=image/png:https://duncanplace.org/wp-content/uploads/2025/04/pil.png
ORGANIZER;CN="Pilates  Scotland":MAILTO:info@pilatesscotland.co.uk
GEO:55.9699976;-3.1683591
X-APPLE-STRUCTURED-LOCATION;VALUE=URI;X-ADDRESS=Duncan Place Community Hub Duncan Place Leith Edinburgh Edinburgh EH6 8HW United Kingdom;X-APPLE-RADIUS=500;X-TITLE=Duncan Place:geo:-3.1683591,55.9699976
END:VEVENT
BEGIN:VEVENT
DTSTART;TZID=Europe/London:20260304T174500
DTEND;TZID=Europe/London:20260304T184500
DTSTAMP:20260423T233454
CREATED:20250916T161308Z
LAST-MODIFIED:20260313T122501Z
UID:10004768-1772646300-1772649900@duncanplace.org
SUMMARY:Pilates Scotland
DESCRIPTION:Big Duncan Room\n\n	Private booking.  Contact the organiser for more information.\nhttps://www.pilatesscotland.co.uk/group-pilates-classes/ \n\n\n			\n		\n			\n			Pilates Scotland website		\n			\n	\n\n	\n		\n\n			\n			\n\n							\n					\n						Upcoming Events					\n				\n			\n			\n				\n											\n\n	\n	\n		\n			Apr		\n		\n			24		\n	\n\n\n	\n		\n			\n\n				\n					\n		\n		9:00 am - 5:00 pm	\n	\n					\n	\n		Harbour	\n\n				\n\n				\n			\n		\n	\n\n\n											\n\n	\n	\n		\n			Apr		\n		\n			24		\n	\n\n\n	\n		\n			\n\n				\n					\n	\n	\n	\n\n\n\n	Featured\n	\n		10:00 am - 12:00 pm	\n	\n\n	\n		\n\n	\n	\n	\n\n	\n\n\n					\n	\n		Duncan Place Craft Group (Friday morning) – Big Duncan room	\n\n				\n\n				\n			\n		\n	\n\n\n											\n\n	\n	\n		\n			Apr		\n		\n			24		\n	\n\n\n	\n		\n			\n\n				\n					\n		\n		12:30 pm - 2:30 pm	\n	\n\n	\n		\n\n	\n	\n	\n\n	\n\n\n					\n	\n		YMCA	\n\n				\n\n				\n			\n		\n	\n\n\n											\n\n	\n	\n		\n			Apr		\n		\n			24		\n	\n\n\n	\n		\n			\n\n				\n					\n	\n	\n	\n\n\n\n	Featured\n	\n		3:00 pm - 5:00 pm	\n	\n\n	\n		\n\n	\n	\n	\n\n	\n\n\n					\n	\n		Dungeons and Dragons	\n\n				\n\n				\n			\n		\n	\n\n\n											\n\n	\n	\n		\n			Apr		\n		\n			25		\n	\n\n\n	\n		\n			\n\n				\n					\n		\n		9:30 am - 12:00 pm	\n	\n\n	\n		\n\n	\n	\n	\n\n	\n\n\n					\n	\n		The Piping Center	\n\n				\n\n				\n			\n		\n	\n\n\n									\n\n				\n	\n		View Calendar
URL:https://duncanplace.org/event/pilates-scotland-2/2026-03-04/
LOCATION:Duncan Place Community Hub\, Duncan Place\, Leith\, Edinburgh\, Edinburgh\, EH6 8HW\, United Kingdom
ATTACH;FMTTYPE=image/png:https://duncanplace.org/wp-content/uploads/2025/04/pil.png
ORGANIZER;CN="Pilates  Scotland":MAILTO:info@pilatesscotland.co.uk
GEO:55.9699976;-3.1683591
X-APPLE-STRUCTURED-LOCATION;VALUE=URI;X-ADDRESS=Duncan Place Community Hub Duncan Place Leith Edinburgh Edinburgh EH6 8HW United Kingdom;X-APPLE-RADIUS=500;X-TITLE=Duncan Place:geo:-3.1683591,55.9699976
END:VEVENT
BEGIN:VEVENT
DTSTART;TZID=Europe/London:20260225T174500
DTEND;TZID=Europe/London:20260225T184500
DTSTAMP:20260423T233454
CREATED:20250916T161308Z
LAST-MODIFIED:20260313T122501Z
UID:10004767-1772041500-1772045100@duncanplace.org
SUMMARY:Pilates Scotland
DESCRIPTION:Big Duncan Room\n\n	Private booking.  Contact the organiser for more information.\nhttps://www.pilatesscotland.co.uk/group-pilates-classes/ \n\n\n			\n		\n			\n			Pilates Scotland website		\n			\n	\n\n	\n		\n\n			\n			\n\n							\n					\n						Upcoming Events					\n				\n			\n			\n				\n											\n\n	\n	\n		\n			Apr		\n		\n			24		\n	\n\n\n	\n		\n			\n\n				\n					\n		\n		9:00 am - 5:00 pm	\n	\n					\n	\n		Harbour	\n\n				\n\n				\n			\n		\n	\n\n\n											\n\n	\n	\n		\n			Apr		\n		\n			24		\n	\n\n\n	\n		\n			\n\n				\n					\n	\n	\n	\n\n\n\n	Featured\n	\n		10:00 am - 12:00 pm	\n	\n\n	\n		\n\n	\n	\n	\n\n	\n\n\n					\n	\n		Duncan Place Craft Group (Friday morning) – Big Duncan room	\n\n				\n\n				\n			\n		\n	\n\n\n											\n\n	\n	\n		\n			Apr		\n		\n			24		\n	\n\n\n	\n		\n			\n\n				\n					\n		\n		12:30 pm - 2:30 pm	\n	\n\n	\n		\n\n	\n	\n	\n\n	\n\n\n					\n	\n		YMCA	\n\n				\n\n				\n			\n		\n	\n\n\n											\n\n	\n	\n		\n			Apr		\n		\n			24		\n	\n\n\n	\n		\n			\n\n				\n					\n	\n	\n	\n\n\n\n	Featured\n	\n		3:00 pm - 5:00 pm	\n	\n\n	\n		\n\n	\n	\n	\n\n	\n\n\n					\n	\n		Dungeons and Dragons	\n\n				\n\n				\n			\n		\n	\n\n\n											\n\n	\n	\n		\n			Apr		\n		\n			25		\n	\n\n\n	\n		\n			\n\n				\n					\n		\n		9:30 am - 12:00 pm	\n	\n\n	\n		\n\n	\n	\n	\n\n	\n\n\n					\n	\n		The Piping Center	\n\n				\n\n				\n			\n		\n	\n\n\n									\n\n				\n	\n		View Calendar
URL:https://duncanplace.org/event/pilates-scotland-2/2026-02-25/
LOCATION:Duncan Place Community Hub\, Duncan Place\, Leith\, Edinburgh\, Edinburgh\, EH6 8HW\, United Kingdom
ATTACH;FMTTYPE=image/png:https://duncanplace.org/wp-content/uploads/2025/04/pil.png
ORGANIZER;CN="Pilates  Scotland":MAILTO:info@pilatesscotland.co.uk
GEO:55.9699976;-3.1683591
X-APPLE-STRUCTURED-LOCATION;VALUE=URI;X-ADDRESS=Duncan Place Community Hub Duncan Place Leith Edinburgh Edinburgh EH6 8HW United Kingdom;X-APPLE-RADIUS=500;X-TITLE=Duncan Place:geo:-3.1683591,55.9699976
END:VEVENT
BEGIN:VEVENT
DTSTART;TZID=Europe/London:20260218T174500
DTEND;TZID=Europe/London:20260218T184500
DTSTAMP:20260423T233454
CREATED:20250916T161308Z
LAST-MODIFIED:20260313T122501Z
UID:10004766-1771436700-1771440300@duncanplace.org
SUMMARY:Pilates Scotland
DESCRIPTION:Big Duncan Room\n\n	Private booking.  Contact the organiser for more information.\nhttps://www.pilatesscotland.co.uk/group-pilates-classes/ \n\n\n			\n		\n			\n			Pilates Scotland website		\n			\n	\n\n	\n		\n\n			\n			\n\n							\n					\n						Upcoming Events					\n				\n			\n			\n				\n											\n\n	\n	\n		\n			Apr		\n		\n			24		\n	\n\n\n	\n		\n			\n\n				\n					\n		\n		9:00 am - 5:00 pm	\n	\n					\n	\n		Harbour	\n\n				\n\n				\n			\n		\n	\n\n\n											\n\n	\n	\n		\n			Apr		\n		\n			24		\n	\n\n\n	\n		\n			\n\n				\n					\n	\n	\n	\n\n\n\n	Featured\n	\n		10:00 am - 12:00 pm	\n	\n\n	\n		\n\n	\n	\n	\n\n	\n\n\n					\n	\n		Duncan Place Craft Group (Friday morning) – Big Duncan room	\n\n				\n\n				\n			\n		\n	\n\n\n											\n\n	\n	\n		\n			Apr		\n		\n			24		\n	\n\n\n	\n		\n			\n\n				\n					\n		\n		12:30 pm - 2:30 pm	\n	\n\n	\n		\n\n	\n	\n	\n\n	\n\n\n					\n	\n		YMCA	\n\n				\n\n				\n			\n		\n	\n\n\n											\n\n	\n	\n		\n			Apr		\n		\n			24		\n	\n\n\n	\n		\n			\n\n				\n					\n	\n	\n	\n\n\n\n	Featured\n	\n		3:00 pm - 5:00 pm	\n	\n\n	\n		\n\n	\n	\n	\n\n	\n\n\n					\n	\n		Dungeons and Dragons	\n\n				\n\n				\n			\n		\n	\n\n\n											\n\n	\n	\n		\n			Apr		\n		\n			25		\n	\n\n\n	\n		\n			\n\n				\n					\n		\n		9:30 am - 12:00 pm	\n	\n\n	\n		\n\n	\n	\n	\n\n	\n\n\n					\n	\n		The Piping Center	\n\n				\n\n				\n			\n		\n	\n\n\n									\n\n				\n	\n		View Calendar
URL:https://duncanplace.org/event/pilates-scotland-2/2026-02-18/
LOCATION:Duncan Place Community Hub\, Duncan Place\, Leith\, Edinburgh\, Edinburgh\, EH6 8HW\, United Kingdom
ATTACH;FMTTYPE=image/png:https://duncanplace.org/wp-content/uploads/2025/04/pil.png
ORGANIZER;CN="Pilates  Scotland":MAILTO:info@pilatesscotland.co.uk
GEO:55.9699976;-3.1683591
X-APPLE-STRUCTURED-LOCATION;VALUE=URI;X-ADDRESS=Duncan Place Community Hub Duncan Place Leith Edinburgh Edinburgh EH6 8HW United Kingdom;X-APPLE-RADIUS=500;X-TITLE=Duncan Place:geo:-3.1683591,55.9699976
END:VEVENT
BEGIN:VEVENT
DTSTART;TZID=Europe/London:20260211T174500
DTEND;TZID=Europe/London:20260211T184500
DTSTAMP:20260423T233454
CREATED:20250916T161308Z
LAST-MODIFIED:20260313T122501Z
UID:10004765-1770831900-1770835500@duncanplace.org
SUMMARY:Pilates Scotland
DESCRIPTION:Big Duncan Room\n\n	Private booking.  Contact the organiser for more information.\nhttps://www.pilatesscotland.co.uk/group-pilates-classes/ \n\n\n			\n		\n			\n			Pilates Scotland website		\n			\n	\n\n	\n		\n\n			\n			\n\n							\n					\n						Upcoming Events					\n				\n			\n			\n				\n											\n\n	\n	\n		\n			Apr		\n		\n			24		\n	\n\n\n	\n		\n			\n\n				\n					\n		\n		9:00 am - 5:00 pm	\n	\n					\n	\n		Harbour	\n\n				\n\n				\n			\n		\n	\n\n\n											\n\n	\n	\n		\n			Apr		\n		\n			24		\n	\n\n\n	\n		\n			\n\n				\n					\n	\n	\n	\n\n\n\n	Featured\n	\n		10:00 am - 12:00 pm	\n	\n\n	\n		\n\n	\n	\n	\n\n	\n\n\n					\n	\n		Duncan Place Craft Group (Friday morning) – Big Duncan room	\n\n				\n\n				\n			\n		\n	\n\n\n											\n\n	\n	\n		\n			Apr		\n		\n			24		\n	\n\n\n	\n		\n			\n\n				\n					\n		\n		12:30 pm - 2:30 pm	\n	\n\n	\n		\n\n	\n	\n	\n\n	\n\n\n					\n	\n		YMCA	\n\n				\n\n				\n			\n		\n	\n\n\n											\n\n	\n	\n		\n			Apr		\n		\n			24		\n	\n\n\n	\n		\n			\n\n				\n					\n	\n	\n	\n\n\n\n	Featured\n	\n		3:00 pm - 5:00 pm	\n	\n\n	\n		\n\n	\n	\n	\n\n	\n\n\n					\n	\n		Dungeons and Dragons	\n\n				\n\n				\n			\n		\n	\n\n\n											\n\n	\n	\n		\n			Apr		\n		\n			25		\n	\n\n\n	\n		\n			\n\n				\n					\n		\n		9:30 am - 12:00 pm	\n	\n\n	\n		\n\n	\n	\n	\n\n	\n\n\n					\n	\n		The Piping Center	\n\n				\n\n				\n			\n		\n	\n\n\n									\n\n				\n	\n		View Calendar
URL:https://duncanplace.org/event/pilates-scotland-2/2026-02-11/
LOCATION:Duncan Place Community Hub\, Duncan Place\, Leith\, Edinburgh\, Edinburgh\, EH6 8HW\, United Kingdom
ATTACH;FMTTYPE=image/png:https://duncanplace.org/wp-content/uploads/2025/04/pil.png
ORGANIZER;CN="Pilates  Scotland":MAILTO:info@pilatesscotland.co.uk
GEO:55.9699976;-3.1683591
X-APPLE-STRUCTURED-LOCATION;VALUE=URI;X-ADDRESS=Duncan Place Community Hub Duncan Place Leith Edinburgh Edinburgh EH6 8HW United Kingdom;X-APPLE-RADIUS=500;X-TITLE=Duncan Place:geo:-3.1683591,55.9699976
END:VEVENT
BEGIN:VEVENT
DTSTART;TZID=Europe/London:20260204T174500
DTEND;TZID=Europe/London:20260204T184500
DTSTAMP:20260423T233454
CREATED:20250916T161308Z
LAST-MODIFIED:20260313T122501Z
UID:10004764-1770227100-1770230700@duncanplace.org
SUMMARY:Pilates Scotland
DESCRIPTION:Big Duncan Room\n\n	Private booking.  Contact the organiser for more information.\nhttps://www.pilatesscotland.co.uk/group-pilates-classes/ \n\n\n			\n		\n			\n			Pilates Scotland website		\n			\n	\n\n	\n		\n\n			\n			\n\n							\n					\n						Upcoming Events					\n				\n			\n			\n				\n											\n\n	\n	\n		\n			Apr		\n		\n			24		\n	\n\n\n	\n		\n			\n\n				\n					\n		\n		9:00 am - 5:00 pm	\n	\n					\n	\n		Harbour	\n\n				\n\n				\n			\n		\n	\n\n\n											\n\n	\n	\n		\n			Apr		\n		\n			24		\n	\n\n\n	\n		\n			\n\n				\n					\n	\n	\n	\n\n\n\n	Featured\n	\n		10:00 am - 12:00 pm	\n	\n\n	\n		\n\n	\n	\n	\n\n	\n\n\n					\n	\n		Duncan Place Craft Group (Friday morning) – Big Duncan room	\n\n				\n\n				\n			\n		\n	\n\n\n											\n\n	\n	\n		\n			Apr		\n		\n			24		\n	\n\n\n	\n		\n			\n\n				\n					\n		\n		12:30 pm - 2:30 pm	\n	\n\n	\n		\n\n	\n	\n	\n\n	\n\n\n					\n	\n		YMCA	\n\n				\n\n				\n			\n		\n	\n\n\n											\n\n	\n	\n		\n			Apr		\n		\n			24		\n	\n\n\n	\n		\n			\n\n				\n					\n	\n	\n	\n\n\n\n	Featured\n	\n		3:00 pm - 5:00 pm	\n	\n\n	\n		\n\n	\n	\n	\n\n	\n\n\n					\n	\n		Dungeons and Dragons	\n\n				\n\n				\n			\n		\n	\n\n\n											\n\n	\n	\n		\n			Apr		\n		\n			25		\n	\n\n\n	\n		\n			\n\n				\n					\n		\n		9:30 am - 12:00 pm	\n	\n\n	\n		\n\n	\n	\n	\n\n	\n\n\n					\n	\n		The Piping Center	\n\n				\n\n				\n			\n		\n	\n\n\n									\n\n				\n	\n		View Calendar
URL:https://duncanplace.org/event/pilates-scotland-2/2026-02-04/
LOCATION:Duncan Place Community Hub\, Duncan Place\, Leith\, Edinburgh\, Edinburgh\, EH6 8HW\, United Kingdom
ATTACH;FMTTYPE=image/png:https://duncanplace.org/wp-content/uploads/2025/04/pil.png
ORGANIZER;CN="Pilates  Scotland":MAILTO:info@pilatesscotland.co.uk
GEO:55.9699976;-3.1683591
X-APPLE-STRUCTURED-LOCATION;VALUE=URI;X-ADDRESS=Duncan Place Community Hub Duncan Place Leith Edinburgh Edinburgh EH6 8HW United Kingdom;X-APPLE-RADIUS=500;X-TITLE=Duncan Place:geo:-3.1683591,55.9699976
END:VEVENT
BEGIN:VEVENT
DTSTART;TZID=Europe/London:20260128T174500
DTEND;TZID=Europe/London:20260128T184500
DTSTAMP:20260423T233454
CREATED:20250916T161308Z
LAST-MODIFIED:20260313T122501Z
UID:10004763-1769622300-1769625900@duncanplace.org
SUMMARY:Pilates Scotland
DESCRIPTION:Big Duncan Room\n\n	Private booking.  Contact the organiser for more information.\nhttps://www.pilatesscotland.co.uk/group-pilates-classes/ \n\n\n			\n		\n			\n			Pilates Scotland website		\n			\n	\n\n	\n		\n\n			\n			\n\n							\n					\n						Upcoming Events					\n				\n			\n			\n				\n											\n\n	\n	\n		\n			Apr		\n		\n			24		\n	\n\n\n	\n		\n			\n\n				\n					\n		\n		9:00 am - 5:00 pm	\n	\n					\n	\n		Harbour	\n\n				\n\n				\n			\n		\n	\n\n\n											\n\n	\n	\n		\n			Apr		\n		\n			24		\n	\n\n\n	\n		\n			\n\n				\n					\n	\n	\n	\n\n\n\n	Featured\n	\n		10:00 am - 12:00 pm	\n	\n\n	\n		\n\n	\n	\n	\n\n	\n\n\n					\n	\n		Duncan Place Craft Group (Friday morning) – Big Duncan room	\n\n				\n\n				\n			\n		\n	\n\n\n											\n\n	\n	\n		\n			Apr		\n		\n			24		\n	\n\n\n	\n		\n			\n\n				\n					\n		\n		12:30 pm - 2:30 pm	\n	\n\n	\n		\n\n	\n	\n	\n\n	\n\n\n					\n	\n		YMCA	\n\n				\n\n				\n			\n		\n	\n\n\n											\n\n	\n	\n		\n			Apr		\n		\n			24		\n	\n\n\n	\n		\n			\n\n				\n					\n	\n	\n	\n\n\n\n	Featured\n	\n		3:00 pm - 5:00 pm	\n	\n\n	\n		\n\n	\n	\n	\n\n	\n\n\n					\n	\n		Dungeons and Dragons	\n\n				\n\n				\n			\n		\n	\n\n\n											\n\n	\n	\n		\n			Apr		\n		\n			25		\n	\n\n\n	\n		\n			\n\n				\n					\n		\n		9:30 am - 12:00 pm	\n	\n\n	\n		\n\n	\n	\n	\n\n	\n\n\n					\n	\n		The Piping Center	\n\n				\n\n				\n			\n		\n	\n\n\n									\n\n				\n	\n		View Calendar
URL:https://duncanplace.org/event/pilates-scotland-2/2026-01-28/
LOCATION:Duncan Place Community Hub\, Duncan Place\, Leith\, Edinburgh\, Edinburgh\, EH6 8HW\, United Kingdom
ATTACH;FMTTYPE=image/png:https://duncanplace.org/wp-content/uploads/2025/04/pil.png
ORGANIZER;CN="Pilates  Scotland":MAILTO:info@pilatesscotland.co.uk
GEO:55.9699976;-3.1683591
X-APPLE-STRUCTURED-LOCATION;VALUE=URI;X-ADDRESS=Duncan Place Community Hub Duncan Place Leith Edinburgh Edinburgh EH6 8HW United Kingdom;X-APPLE-RADIUS=500;X-TITLE=Duncan Place:geo:-3.1683591,55.9699976
END:VEVENT
END:VCALENDAR