BEGIN:VCALENDAR
VERSION:2.0
PRODID:-//Duncan Place - ECPv6.15.20//NONSGML v1.0//EN
CALSCALE:GREGORIAN
METHOD:PUBLISH
X-ORIGINAL-URL:https://duncanplace.org
X-WR-CALDESC:Events for Duncan Place
REFRESH-INTERVAL;VALUE=DURATION:PT1H
X-Robots-Tag:noindex
X-PUBLISHED-TTL:PT1H
BEGIN:VTIMEZONE
TZID:Europe/London
BEGIN:DAYLIGHT
TZOFFSETFROM:+0000
TZOFFSETTO:+0100
TZNAME:BST
DTSTART:20250330T010000
END:DAYLIGHT
BEGIN:STANDARD
TZOFFSETFROM:+0100
TZOFFSETTO:+0000
TZNAME:GMT
DTSTART:20251026T010000
END:STANDARD
BEGIN:DAYLIGHT
TZOFFSETFROM:+0000
TZOFFSETTO:+0100
TZNAME:BST
DTSTART:20260329T010000
END:DAYLIGHT
BEGIN:STANDARD
TZOFFSETFROM:+0100
TZOFFSETTO:+0000
TZNAME:GMT
DTSTART:20261025T010000
END:STANDARD
BEGIN:DAYLIGHT
TZOFFSETFROM:+0000
TZOFFSETTO:+0100
TZNAME:BST
DTSTART:20270328T010000
END:DAYLIGHT
BEGIN:STANDARD
TZOFFSETFROM:+0100
TZOFFSETTO:+0000
TZNAME:GMT
DTSTART:20271031T010000
END:STANDARD
END:VTIMEZONE
BEGIN:VEVENT
DTSTART;TZID=Europe/London:20260331T190000
DTEND;TZID=Europe/London:20260331T200000
DTSTAMP:20260424T005948
CREATED:20260313T113300Z
LAST-MODIFIED:20260313T114250Z
UID:10005546-1774983600-1774987200@duncanplace.org
SUMMARY:Kerry Anderson
DESCRIPTION:Private booking - Wee Duncan room\n\n	Private Booking\n\nKerry Anderson Hypnotherapy\nInfo on Eventbrite \n\n\n\n	This event is not organised by Duncan Place.\nPlease contact the event organiser directly.\n\n\n	\n		\n\n			\n			\n\n							\n					\n						Upcoming Events					\n				\n			\n			\n				\n											\n\n	\n	\n		\n			Apr		\n		\n			24		\n	\n\n\n	\n		\n			\n\n				\n					\n		\n		9:00 am - 5:00 pm	\n	\n					\n	\n		Harbour	\n\n				\n\n				\n			\n		\n	\n\n\n											\n\n	\n	\n		\n			Apr		\n		\n			24		\n	\n\n\n	\n		\n			\n\n				\n					\n	\n	\n	\n\n\n\n	Featured\n	\n		10:00 am - 12:00 pm	\n	\n\n	\n		\n\n	\n	\n	\n\n	\n\n\n					\n	\n		Duncan Place Craft Group (Friday morning) – Big Duncan room	\n\n				\n\n				\n			\n		\n	\n\n\n											\n\n	\n	\n		\n			Apr		\n		\n			24		\n	\n\n\n	\n		\n			\n\n				\n					\n		\n		12:30 pm - 2:30 pm	\n	\n\n	\n		\n\n	\n	\n	\n\n	\n\n\n					\n	\n		YMCA	\n\n				\n\n				\n			\n		\n	\n\n\n											\n\n	\n	\n		\n			Apr		\n		\n			24		\n	\n\n\n	\n		\n			\n\n				\n					\n	\n	\n	\n\n\n\n	Featured\n	\n		3:00 pm - 5:00 pm	\n	\n\n	\n		\n\n	\n	\n	\n\n	\n\n\n					\n	\n		Dungeons and Dragons	\n\n				\n\n				\n			\n		\n	\n\n\n											\n\n	\n	\n		\n			Apr		\n		\n			25		\n	\n\n\n	\n		\n			\n\n				\n					\n		\n		9:30 am - 12:00 pm	\n	\n\n	\n		\n\n	\n	\n	\n\n	\n\n\n					\n	\n		The Piping Center	\n\n				\n\n				\n			\n		\n	\n\n\n									\n\n				\n	\n		View Calendar
URL:https://duncanplace.org/event/kerry-anderson/
LOCATION:Duncan Place Community Hub\, Duncan Place\, Leith\, Edinburgh\, Edinburgh\, EH6 8HW\, United Kingdom
GEO:55.9699976;-3.1683591
X-APPLE-STRUCTURED-LOCATION;VALUE=URI;X-ADDRESS=Duncan Place Community Hub Duncan Place Leith Edinburgh Edinburgh EH6 8HW United Kingdom;X-APPLE-RADIUS=500;X-TITLE=Duncan Place:geo:-3.1683591,55.9699976
END:VEVENT
END:VCALENDAR