BEGIN:VCALENDAR
VERSION:2.0
PRODID:-//Duncan Place - ECPv6.15.20//NONSGML v1.0//EN
CALSCALE:GREGORIAN
METHOD:PUBLISH
X-WR-CALNAME:Duncan Place
X-ORIGINAL-URL:https://duncanplace.org
X-WR-CALDESC:Events for Duncan Place
REFRESH-INTERVAL;VALUE=DURATION:PT1H
X-Robots-Tag:noindex
X-PUBLISHED-TTL:PT1H
BEGIN:VTIMEZONE
TZID:Europe/London
BEGIN:DAYLIGHT
TZOFFSETFROM:+0000
TZOFFSETTO:+0100
TZNAME:BST
DTSTART:20250330T010000
END:DAYLIGHT
BEGIN:STANDARD
TZOFFSETFROM:+0100
TZOFFSETTO:+0000
TZNAME:GMT
DTSTART:20251026T010000
END:STANDARD
BEGIN:DAYLIGHT
TZOFFSETFROM:+0000
TZOFFSETTO:+0100
TZNAME:BST
DTSTART:20260329T010000
END:DAYLIGHT
BEGIN:STANDARD
TZOFFSETFROM:+0100
TZOFFSETTO:+0000
TZNAME:GMT
DTSTART:20261025T010000
END:STANDARD
BEGIN:DAYLIGHT
TZOFFSETFROM:+0000
TZOFFSETTO:+0100
TZNAME:BST
DTSTART:20270328T010000
END:DAYLIGHT
BEGIN:STANDARD
TZOFFSETFROM:+0100
TZOFFSETTO:+0000
TZNAME:GMT
DTSTART:20271031T010000
END:STANDARD
END:VTIMEZONE
BEGIN:VEVENT
DTSTART;TZID=Europe/London:20260406T183000
DTEND;TZID=Europe/London:20260406T203000
DTSTAMP:20260423T233456
CREATED:20250722T154846Z
LAST-MODIFIED:20260105T144526Z
UID:10003996-1775500200-1775507400@duncanplace.org
SUMMARY:Emma Ryland - Motherless Daughters Group
DESCRIPTION:Wee Duncan room\n\n	Private Hire - Organised by Emma Ryland \nhttps://emmaryland.co.uk/ \nSupport group for women without mums \nMotherless Daughters  - See Facebook Post - \n\n\n\n	This event is not run by Duncan Place.\nPlease contact the organiser directly. \n\n\n			\n		\n			\n			Contact Emma Ryland		\n			\n	\n\n	\n		\n\n			\n			\n\n							\n					\n						Upcoming Events					\n				\n			\n			\n				\n											\n\n	\n	\n		\n			Apr		\n		\n			24		\n	\n\n\n	\n		\n			\n\n				\n					\n		\n		9:00 am - 5:00 pm	\n	\n					\n	\n		Harbour	\n\n				\n\n				\n			\n		\n	\n\n\n											\n\n	\n	\n		\n			Apr		\n		\n			24		\n	\n\n\n	\n		\n			\n\n				\n					\n	\n	\n	\n\n\n\n	Featured\n	\n		10:00 am - 12:00 pm	\n	\n\n	\n		\n\n	\n	\n	\n\n	\n\n\n					\n	\n		Duncan Place Craft Group (Friday morning) – Big Duncan room	\n\n				\n\n				\n			\n		\n	\n\n\n											\n\n	\n	\n		\n			Apr		\n		\n			24		\n	\n\n\n	\n		\n			\n\n				\n					\n		\n		12:30 pm - 2:30 pm	\n	\n\n	\n		\n\n	\n	\n	\n\n	\n\n\n					\n	\n		YMCA	\n\n				\n\n				\n			\n		\n	\n\n\n											\n\n	\n	\n		\n			Apr		\n		\n			24		\n	\n\n\n	\n		\n			\n\n				\n					\n	\n	\n	\n\n\n\n	Featured\n	\n		3:00 pm - 5:00 pm	\n	\n\n	\n		\n\n	\n	\n	\n\n	\n\n\n					\n	\n		Dungeons and Dragons	\n\n				\n\n				\n			\n		\n	\n\n\n											\n\n	\n	\n		\n			Apr		\n		\n			25		\n	\n\n\n	\n		\n			\n\n				\n					\n		\n		9:30 am - 12:00 pm	\n	\n\n	\n		\n\n	\n	\n	\n\n	\n\n\n					\n	\n		The Piping Center	\n\n				\n\n				\n			\n		\n	\n\n\n									\n\n				\n	\n		View Calendar
URL:https://duncanplace.org/event/emma-ryland-motherless-daughters-group-2/2026-04-06/
LOCATION:Duncan Place Community Hub\, Duncan Place\, Leith\, Edinburgh\, Edinburgh\, EH6 8HW\, United Kingdom
ATTACH;FMTTYPE=image/png:https://duncanplace.org/wp-content/uploads/2025/04/Emma-Ryland-1.png
ORGANIZER;CN="Emma Ryland":MAILTO:info@emmaryland.co.uk
GEO:55.9699976;-3.1683591
X-APPLE-STRUCTURED-LOCATION;VALUE=URI;X-ADDRESS=Duncan Place Community Hub Duncan Place Leith Edinburgh Edinburgh EH6 8HW United Kingdom;X-APPLE-RADIUS=500;X-TITLE=Duncan Place:geo:-3.1683591,55.9699976
END:VEVENT
BEGIN:VEVENT
DTSTART;TZID=Europe/London:20260302T183000
DTEND;TZID=Europe/London:20260302T203000
DTSTAMP:20260423T233456
CREATED:20250722T154846Z
LAST-MODIFIED:20260105T144526Z
UID:10003995-1772476200-1772483400@duncanplace.org
SUMMARY:Emma Ryland - Motherless Daughters Group
DESCRIPTION:Wee Duncan room\n\n	Private Hire - Organised by Emma Ryland \nhttps://emmaryland.co.uk/ \nSupport group for women without mums \nMotherless Daughters  - See Facebook Post - \n\n\n\n	This event is not run by Duncan Place.\nPlease contact the organiser directly. \n\n\n			\n		\n			\n			Contact Emma Ryland		\n			\n	\n\n	\n		\n\n			\n			\n\n							\n					\n						Upcoming Events					\n				\n			\n			\n				\n											\n\n	\n	\n		\n			Apr		\n		\n			24		\n	\n\n\n	\n		\n			\n\n				\n					\n		\n		9:00 am - 5:00 pm	\n	\n					\n	\n		Harbour	\n\n				\n\n				\n			\n		\n	\n\n\n											\n\n	\n	\n		\n			Apr		\n		\n			24		\n	\n\n\n	\n		\n			\n\n				\n					\n	\n	\n	\n\n\n\n	Featured\n	\n		10:00 am - 12:00 pm	\n	\n\n	\n		\n\n	\n	\n	\n\n	\n\n\n					\n	\n		Duncan Place Craft Group (Friday morning) – Big Duncan room	\n\n				\n\n				\n			\n		\n	\n\n\n											\n\n	\n	\n		\n			Apr		\n		\n			24		\n	\n\n\n	\n		\n			\n\n				\n					\n		\n		12:30 pm - 2:30 pm	\n	\n\n	\n		\n\n	\n	\n	\n\n	\n\n\n					\n	\n		YMCA	\n\n				\n\n				\n			\n		\n	\n\n\n											\n\n	\n	\n		\n			Apr		\n		\n			24		\n	\n\n\n	\n		\n			\n\n				\n					\n	\n	\n	\n\n\n\n	Featured\n	\n		3:00 pm - 5:00 pm	\n	\n\n	\n		\n\n	\n	\n	\n\n	\n\n\n					\n	\n		Dungeons and Dragons	\n\n				\n\n				\n			\n		\n	\n\n\n											\n\n	\n	\n		\n			Apr		\n		\n			25		\n	\n\n\n	\n		\n			\n\n				\n					\n		\n		9:30 am - 12:00 pm	\n	\n\n	\n		\n\n	\n	\n	\n\n	\n\n\n					\n	\n		The Piping Center	\n\n				\n\n				\n			\n		\n	\n\n\n									\n\n				\n	\n		View Calendar
URL:https://duncanplace.org/event/emma-ryland-motherless-daughters-group-2/2026-03-02/
LOCATION:Duncan Place Community Hub\, Duncan Place\, Leith\, Edinburgh\, Edinburgh\, EH6 8HW\, United Kingdom
ATTACH;FMTTYPE=image/png:https://duncanplace.org/wp-content/uploads/2025/04/Emma-Ryland-1.png
ORGANIZER;CN="Emma Ryland":MAILTO:info@emmaryland.co.uk
GEO:55.9699976;-3.1683591
X-APPLE-STRUCTURED-LOCATION;VALUE=URI;X-ADDRESS=Duncan Place Community Hub Duncan Place Leith Edinburgh Edinburgh EH6 8HW United Kingdom;X-APPLE-RADIUS=500;X-TITLE=Duncan Place:geo:-3.1683591,55.9699976
END:VEVENT
BEGIN:VEVENT
DTSTART;TZID=Europe/London:20260202T183000
DTEND;TZID=Europe/London:20260202T203000
DTSTAMP:20260423T233456
CREATED:20250722T154846Z
LAST-MODIFIED:20260105T144526Z
UID:10003994-1770057000-1770064200@duncanplace.org
SUMMARY:Emma Ryland - Motherless Daughters Group
DESCRIPTION:Wee Duncan room\n\n	Private Hire - Organised by Emma Ryland \nhttps://emmaryland.co.uk/ \nSupport group for women without mums \nMotherless Daughters  - See Facebook Post - \n\n\n\n	This event is not run by Duncan Place.\nPlease contact the organiser directly. \n\n\n			\n		\n			\n			Contact Emma Ryland		\n			\n	\n\n	\n		\n\n			\n			\n\n							\n					\n						Upcoming Events					\n				\n			\n			\n				\n											\n\n	\n	\n		\n			Apr		\n		\n			24		\n	\n\n\n	\n		\n			\n\n				\n					\n		\n		9:00 am - 5:00 pm	\n	\n					\n	\n		Harbour	\n\n				\n\n				\n			\n		\n	\n\n\n											\n\n	\n	\n		\n			Apr		\n		\n			24		\n	\n\n\n	\n		\n			\n\n				\n					\n	\n	\n	\n\n\n\n	Featured\n	\n		10:00 am - 12:00 pm	\n	\n\n	\n		\n\n	\n	\n	\n\n	\n\n\n					\n	\n		Duncan Place Craft Group (Friday morning) – Big Duncan room	\n\n				\n\n				\n			\n		\n	\n\n\n											\n\n	\n	\n		\n			Apr		\n		\n			24		\n	\n\n\n	\n		\n			\n\n				\n					\n		\n		12:30 pm - 2:30 pm	\n	\n\n	\n		\n\n	\n	\n	\n\n	\n\n\n					\n	\n		YMCA	\n\n				\n\n				\n			\n		\n	\n\n\n											\n\n	\n	\n		\n			Apr		\n		\n			24		\n	\n\n\n	\n		\n			\n\n				\n					\n	\n	\n	\n\n\n\n	Featured\n	\n		3:00 pm - 5:00 pm	\n	\n\n	\n		\n\n	\n	\n	\n\n	\n\n\n					\n	\n		Dungeons and Dragons	\n\n				\n\n				\n			\n		\n	\n\n\n											\n\n	\n	\n		\n			Apr		\n		\n			25		\n	\n\n\n	\n		\n			\n\n				\n					\n		\n		9:30 am - 12:00 pm	\n	\n\n	\n		\n\n	\n	\n	\n\n	\n\n\n					\n	\n		The Piping Center	\n\n				\n\n				\n			\n		\n	\n\n\n									\n\n				\n	\n		View Calendar
URL:https://duncanplace.org/event/emma-ryland-motherless-daughters-group-2/2026-02-02/
LOCATION:Duncan Place Community Hub\, Duncan Place\, Leith\, Edinburgh\, Edinburgh\, EH6 8HW\, United Kingdom
ATTACH;FMTTYPE=image/png:https://duncanplace.org/wp-content/uploads/2025/04/Emma-Ryland-1.png
ORGANIZER;CN="Emma Ryland":MAILTO:info@emmaryland.co.uk
GEO:55.9699976;-3.1683591
X-APPLE-STRUCTURED-LOCATION;VALUE=URI;X-ADDRESS=Duncan Place Community Hub Duncan Place Leith Edinburgh Edinburgh EH6 8HW United Kingdom;X-APPLE-RADIUS=500;X-TITLE=Duncan Place:geo:-3.1683591,55.9699976
END:VEVENT
END:VCALENDAR