BEGIN:VCALENDAR
VERSION:2.0
PRODID:-//Duncan Place - ECPv6.15.20//NONSGML v1.0//EN
CALSCALE:GREGORIAN
METHOD:PUBLISH
X-ORIGINAL-URL:https://duncanplace.org
X-WR-CALDESC:Events for Duncan Place
REFRESH-INTERVAL;VALUE=DURATION:PT1H
X-Robots-Tag:noindex
X-PUBLISHED-TTL:PT1H
BEGIN:VTIMEZONE
TZID:Europe/London
BEGIN:DAYLIGHT
TZOFFSETFROM:+0000
TZOFFSETTO:+0100
TZNAME:BST
DTSTART:20250330T010000
END:DAYLIGHT
BEGIN:STANDARD
TZOFFSETFROM:+0100
TZOFFSETTO:+0000
TZNAME:GMT
DTSTART:20251026T010000
END:STANDARD
BEGIN:DAYLIGHT
TZOFFSETFROM:+0000
TZOFFSETTO:+0100
TZNAME:BST
DTSTART:20260329T010000
END:DAYLIGHT
BEGIN:STANDARD
TZOFFSETFROM:+0100
TZOFFSETTO:+0000
TZNAME:GMT
DTSTART:20261025T010000
END:STANDARD
BEGIN:DAYLIGHT
TZOFFSETFROM:+0000
TZOFFSETTO:+0100
TZNAME:BST
DTSTART:20270328T010000
END:DAYLIGHT
BEGIN:STANDARD
TZOFFSETFROM:+0100
TZOFFSETTO:+0000
TZNAME:GMT
DTSTART:20271031T010000
END:STANDARD
END:VTIMEZONE
BEGIN:VEVENT
DTSTART;TZID=Europe/London:20260625T190000
DTEND;TZID=Europe/London:20260625T203000
DTSTAMP:20260425T024757
CREATED:20260409T120855Z
LAST-MODIFIED:20260409T120855Z
UID:10005626-1782414000-1782419400@duncanplace.org
SUMMARY:Leith LEGO Group for Adults
DESCRIPTION:Wee Duncan Room\n\nWhether you’re already an avid builder\, never picked up a LEGO brick before\, or it’s just been a while\, join us and connect with others in a relaxed and friendly social setting. Our group is growing. We welcome new members each time. \nIn addition to the creative benefits\, building with LEGO can be therapeutic and a great tool to reduce stress and anxiety. \n\nCost\nAlthough registration on Eventbrite does not require an online payment\, there’s a small cost of £1 per person to be paid at each session by cash or card. If paying by cash\, it would be great if you could bring exactly £1 to save having to make lots of change. We also have a card machine available for card payments. \nThis group is strictly for adults aged 16 and over. \n\nRecent LEGO article about the benefits of LEGO building for adults:\n \nOver the past few years\, more and more people have been using LEGO® building to help them practice mindfulness. \nIn 2019\, we even teamed up with DK Publishing and the author Abbie Hendon to publish a self-help book entitled ‘Build Yourself Happy’\, which contains more than 50 mindful LEGO building activities and tips. (We’ve featured some of our favorites below!) \nYet despite the growing popularity of mindfulness\, there remains some confusion surrounding it. Mindfulness isn’t just some pseudo-scientific popular fad\, but can actually physically alter the brain of depressed patients for the better\, as an increasing number of scientific studies are showing. \nSo we thought it would be a good idea to explain a little bit more about mindfulness and see why psychologists are recommending LEGO building to achieve it. \nWe’ve even created our own step-by-step guide on how to practice mindfulness through LEGO building! \nRead the whole article here. \n\n\n\n\n\n\n\n\n\n\n\n\n\n		\n	\n\nA Duncan Place Event\n\n\n			\n		\n							\n				\n			Eventbrite		\n			\n	\n\n\n\n\n\n\n\n\n\n	\n		\n\n			\n			\n\n							\n					\n						Upcoming Events					\n				\n			\n			\n				\n											\n\n	\n	\n		\n			Apr		\n		\n			25		\n	\n\n\n	\n		\n			\n\n				\n					\n		\n		9:30 am - 12:00 pm	\n	\n\n	\n		\n\n	\n	\n	\n\n	\n\n\n					\n	\n		The Piping Center	\n\n				\n\n				\n			\n		\n	\n\n\n											\n\n	\n	\n		\n			Apr		\n		\n			25		\n	\n\n\n	\n		\n			\n\n				\n					\n		\n		10:00 am - 11:00 am	\n	\n\n	\n		\n\n	\n	\n	\n\n	\n\n\n					\n	\n		The Piping Center	\n\n				\n\n				\n			\n		\n	\n\n\n											\n\n	\n	\n		\n			Apr		\n		\n			25		\n	\n\n\n	\n		\n			\n\n				\n					\n		\n		10:00 am - 12:00 pm	\n	\n\n	\n		\n\n	\n	\n	\n\n	\n\n\n					\n	\n		The Piping Center	\n\n				\n\n				\n			\n		\n	\n\n\n											\n\n	\n	\n		\n			Apr		\n		\n			25		\n	\n\n\n	\n		\n			\n\n				\n					\n		\n		10:00 am - 5:00 pm	\n	\n					\n	\n		Calis Harun – Mosaic Workshop	\n\n				\n\n				\n			\n		\n	\n\n\n											\n\n	\n	\n		\n			Apr		\n		\n			27		\n	\n\n\n	\n		\n			\n\n				\n					\n		\n		9:00 am - 2:45 pm	\n	\n\n	\n		\n\n	\n	\n	\n\n	\n\n\n					\n	\n		Edinburgh College	\n\n				\n\n				\n			\n		\n	\n\n\n									\n\n				\n	\n		View Calendar
URL:https://duncanplace.org/event/leith-lego-group-for-adults-4/
LOCATION:Duncan Place Community Hub\, Duncan Place\, Leith\, Edinburgh\, Edinburgh\, EH6 8HW\, United Kingdom
ATTACH;FMTTYPE=image/png:https://duncanplace.org/wp-content/uploads/2024/07/3.png
ORGANIZER;CN="Duncan Place Events":MAILTO:events@duncanplace.org
GEO:55.9699976;-3.1683591
X-APPLE-STRUCTURED-LOCATION;VALUE=URI;X-ADDRESS=Duncan Place Community Hub Duncan Place Leith Edinburgh Edinburgh EH6 8HW United Kingdom;X-APPLE-RADIUS=500;X-TITLE=Duncan Place:geo:-3.1683591,55.9699976
END:VEVENT
BEGIN:VEVENT
DTSTART;TZID=Europe/London:20260626T100000
DTEND;TZID=Europe/London:20260626T120000
DTSTAMP:20260425T024757
CREATED:20260207T094840Z
LAST-MODIFIED:20260409T130144Z
UID:10005381-1782468000-1782475200@duncanplace.org
SUMMARY:Duncan Place Craft Group (Friday morning) - Big Duncan room
DESCRIPTION:Craft Group\n\n\nOur Friday morning craft group meet weekly from 10:15 am to 12:15 pm.  It’s a self-led craft group where folks work on whatever they’d like to.  We have a huge craft cupboard filled with crafty materials for you to delve into\, or why don’t you bring in a project from home you’ve been trying to dedicate time and space to work on. \n\nThe craft group are a friendly bunch and welcome new members.  They’re also happy to share tips and ideas on craft projects.  Send us an email at events@duncanplace.org if you’d like to come along. The group is for adults aged 16 and over\, and it costs £2 to come along each week. \n\n\n\n\n\n\n\n\n\n\n\n\n\n\n		\n	\n\nA Duncan Place Event\n\n\n			\n		\n			\n			email us		\n			\n	\n\n\n\n\n\n\n\n\n\n	\n		\n\n			\n			\n\n							\n					\n						Upcoming Events					\n				\n			\n			\n				\n											\n\n	\n	\n		\n			Apr		\n		\n			25		\n	\n\n\n	\n		\n			\n\n				\n					\n		\n		9:30 am - 12:00 pm	\n	\n\n	\n		\n\n	\n	\n	\n\n	\n\n\n					\n	\n		The Piping Center	\n\n				\n\n				\n			\n		\n	\n\n\n											\n\n	\n	\n		\n			Apr		\n		\n			25		\n	\n\n\n	\n		\n			\n\n				\n					\n		\n		10:00 am - 11:00 am	\n	\n\n	\n		\n\n	\n	\n	\n\n	\n\n\n					\n	\n		The Piping Center	\n\n				\n\n				\n			\n		\n	\n\n\n											\n\n	\n	\n		\n			Apr		\n		\n			25		\n	\n\n\n	\n		\n			\n\n				\n					\n		\n		10:00 am - 12:00 pm	\n	\n\n	\n		\n\n	\n	\n	\n\n	\n\n\n					\n	\n		The Piping Center	\n\n				\n\n				\n			\n		\n	\n\n\n											\n\n	\n	\n		\n			Apr		\n		\n			25		\n	\n\n\n	\n		\n			\n\n				\n					\n		\n		10:00 am - 5:00 pm	\n	\n					\n	\n		Calis Harun – Mosaic Workshop	\n\n				\n\n				\n			\n		\n	\n\n\n											\n\n	\n	\n		\n			Apr		\n		\n			27		\n	\n\n\n	\n		\n			\n\n				\n					\n		\n		9:00 am - 2:45 pm	\n	\n\n	\n		\n\n	\n	\n	\n\n	\n\n\n					\n	\n		Edinburgh College	\n\n				\n\n				\n			\n		\n	\n\n\n									\n\n				\n	\n		View Calendar
URL:https://duncanplace.org/event/craft-group-2-2-2/2026-06-26/
LOCATION:Duncan Place Community Hub\, Duncan Place\, Leith\, Edinburgh\, Edinburgh\, EH6 8HW\, United Kingdom
ATTACH;FMTTYPE=image/png:https://duncanplace.org/wp-content/uploads/2024/05/calendar-template-size-test-6.png
ORGANIZER;CN="Duncan Place Events":MAILTO:events@duncanplace.org
GEO:55.9699976;-3.1683591
X-APPLE-STRUCTURED-LOCATION;VALUE=URI;X-ADDRESS=Duncan Place Community Hub Duncan Place Leith Edinburgh Edinburgh EH6 8HW United Kingdom;X-APPLE-RADIUS=500;X-TITLE=Duncan Place:geo:-3.1683591,55.9699976
END:VEVENT
BEGIN:VEVENT
DTSTART;TZID=Europe/London:20260626T150000
DTEND;TZID=Europe/London:20260626T170000
DTSTAMP:20260425T024758
CREATED:20260420T100950Z
LAST-MODIFIED:20260420T101041Z
UID:10005637-1782486000-1782493200@duncanplace.org
SUMMARY:Dungeons and Dragons
DESCRIPTION:D&D at Duncan Place.\n\n\nOur D&D group for S2-S6 aged folks (max age 17) returns April 24th. We run the group in partnership with Ancient Robot Games\, with two of their staff members (Morgan and Brian) leading and supporting the sessions. \nIt costs £2 per session\, paid by cash or card on arrival each week. \nWe first ran the group for eight weeks before the summer 2025 holidays and have a core group of around twelve young people\, with games running on two/three tables. We’re expecting that number to grow in the next block and can accommodate a maximum of 20 people. \nFor anyone joining the group\, we just need:\nTheir name\, plus an emergency contact name and email/telephone number.\nWe also check in to see if anyone has any food allergies/dietary requirements in case we’re ever able to offer snacks. \nWhat to expect:\nSplit into groups of around five\, players will create their own adventurer and be guided through a fantasy world\, fighting monsters and maybe saving the day! Each group will also include one Game Master who will control the monsters\, townspeople\, and cute (or not-so-cute) animals of the world. D&D is easier to do than to explain\, though\, and this will be a perfect place for both new and experienced players to come together and play D&D. \n\n\n\n\n\n\n\n\n\n \n\n3 pm – 5 pm\n£2\, please book\nAges S2-S6 \nContact events@duncanplace.org if you have any questions.
URL:https://duncanplace.org/event/dungeons-and-dragons-2/2026-06-26/
LOCATION:Duncan Place Community Hub\, Duncan Place\, Leith\, Edinburgh\, Edinburgh\, EH6 8HW\, United Kingdom
ATTACH;FMTTYPE=image/png:https://duncanplace.org/wp-content/uploads/2025/08/DD-WEB-1200x495-1.png
ORGANIZER;CN="Duncan Place Events":MAILTO:events@duncanplace.org
GEO:55.9699976;-3.1683591
X-APPLE-STRUCTURED-LOCATION;VALUE=URI;X-ADDRESS=Duncan Place Community Hub Duncan Place Leith Edinburgh Edinburgh EH6 8HW United Kingdom;X-APPLE-RADIUS=500;X-TITLE=Duncan Place:geo:-3.1683591,55.9699976
END:VEVENT
BEGIN:VEVENT
DTSTART;TZID=Europe/London:20260629T103000
DTEND;TZID=Europe/London:20260629T113000
DTSTAMP:20260425T024758
CREATED:20260420T115515Z
LAST-MODIFIED:20260420T115657Z
UID:10005746-1782729000-1782732600@duncanplace.org
SUMMARY:Chair Yoga
DESCRIPTION:Our Monday class is currently full. Please email events@duncanplace.org to be added to the waiting list\, and we will contact you if a place becomes available.  Alternatively\, we also run a Thursday 12:30 pm class\, which currently has spaces. Please email us to enquire.  (Spaces are for weekly attendance) \nThis is a chair-modified yoga class which is suitable for all ages. This class gives chair-based variations on the classic poses – you will find your mountain and warrior poses here! \nWhilst the focus is about maintaining strength and flexibility it’s still a very relaxing class. This hour long chair yoga class will include yoga poses\, gentle yoga flows and stretching sequences\, pranayama (breathing practices)\, some meditation and of course relaxation. \n**Please arrive five minutes beforehand so classes can start on time.** \n\n\n\n\n\n \nClasses led by Yoga Teacher Yonnie Fraser\n\n\nYonnie has worked with children and young people in creative projects all over Scotland for the last 25 years. She would often begin the day by guiding staff and children through a short yoga practice and her commitment to furthering her yoga training and teaching stemmed from this time. Yonnie completed her 200-hour yoga teacher training in a small yoga studio in Jaipur and has since gone on to train in yoga mudra\, family yoga\, yoga and autism and chair yoga. Her yoga teaching is rooted in inclusivity and (being older herself) she loves working with seniors as well as all the other ages! She has recently completed an advanced yoga teacher training in psychologically-sensitive Yoga. \n\n\n\n\n\n\n\n\n\n\n\n\n\n\n \n\nAdd your name to the waiting list\nevents@duncanplace.org
URL:https://duncanplace.org/event/chair-yoga-2-2-4-2-2-2/2026-06-29/
LOCATION:Duncan Place Community Hub\, Duncan Place\, Leith\, Edinburgh\, Edinburgh\, EH6 8HW\, United Kingdom
ATTACH;FMTTYPE=image/png:https://duncanplace.org/wp-content/uploads/2024/04/11.png
ORGANIZER;CN="Duncan Place Events":MAILTO:events@duncanplace.org
GEO:55.9699976;-3.1683591
X-APPLE-STRUCTURED-LOCATION;VALUE=URI;X-ADDRESS=Duncan Place Community Hub Duncan Place Leith Edinburgh Edinburgh EH6 8HW United Kingdom;X-APPLE-RADIUS=500;X-TITLE=Duncan Place:geo:-3.1683591,55.9699976
END:VEVENT
BEGIN:VEVENT
DTSTART;TZID=Europe/London:20260629T151500
DTEND;TZID=Europe/London:20260629T181500
DTSTAMP:20260425T024758
CREATED:20251121T130621Z
LAST-MODIFIED:20251121T130621Z
UID:10004945-1782746100-1782756900@duncanplace.org
SUMMARY:Academy Arts
DESCRIPTION:Wee Duncan\n\nAcademy Arts – Art group. \n  \n\n\n\n\n\n\n \n\nPlease contact the course 0rganiser for more information.\n\n\n\n\n	\n		\n\n			\n			\n\n							\n					\n						Upcoming Events					\n				\n			\n			\n				\n											\n\n	\n	\n		\n			Apr		\n		\n			25		\n	\n\n\n	\n		\n			\n\n				\n					\n		\n		9:30 am - 12:00 pm	\n	\n\n	\n		\n\n	\n	\n	\n\n	\n\n\n					\n	\n		The Piping Center	\n\n				\n\n				\n			\n		\n	\n\n\n											\n\n	\n	\n		\n			Apr		\n		\n			25		\n	\n\n\n	\n		\n			\n\n				\n					\n		\n		10:00 am - 11:00 am	\n	\n\n	\n		\n\n	\n	\n	\n\n	\n\n\n					\n	\n		The Piping Center	\n\n				\n\n				\n			\n		\n	\n\n\n											\n\n	\n	\n		\n			Apr		\n		\n			25		\n	\n\n\n	\n		\n			\n\n				\n					\n		\n		10:00 am - 12:00 pm	\n	\n\n	\n		\n\n	\n	\n	\n\n	\n\n\n					\n	\n		The Piping Center	\n\n				\n\n				\n			\n		\n	\n\n\n											\n\n	\n	\n		\n			Apr		\n		\n			25		\n	\n\n\n	\n		\n			\n\n				\n					\n		\n		10:00 am - 5:00 pm	\n	\n					\n	\n		Calis Harun – Mosaic Workshop	\n\n				\n\n				\n			\n		\n	\n\n\n											\n\n	\n	\n		\n			Apr		\n		\n			27		\n	\n\n\n	\n		\n			\n\n				\n					\n		\n		9:00 am - 2:45 pm	\n	\n\n	\n		\n\n	\n	\n	\n\n	\n\n\n					\n	\n		Edinburgh College	\n\n				\n\n				\n			\n		\n	\n\n\n									\n\n				\n	\n		View Calendar
URL:https://duncanplace.org/event/academy-arts/2026-06-29/
LOCATION:Duncan Place Community Hub\, Duncan Place\, Leith\, Edinburgh\, Edinburgh\, EH6 8HW\, United Kingdom
ATTACH;FMTTYPE=image/png:https://duncanplace.org/wp-content/uploads/2025/01/Academy-10-x-10-cm-15-x-15-cm-1200-x-495-px.png
ORGANIZER;CN="Duncan Place Events":MAILTO:events@duncanplace.org
GEO:55.9699976;-3.1683591
X-APPLE-STRUCTURED-LOCATION;VALUE=URI;X-ADDRESS=Duncan Place Community Hub Duncan Place Leith Edinburgh Edinburgh EH6 8HW United Kingdom;X-APPLE-RADIUS=500;X-TITLE=Duncan Place:geo:-3.1683591,55.9699976
END:VEVENT
BEGIN:VEVENT
DTSTART;TZID=Europe/London:20260716T183000
DTEND;TZID=Europe/London:20260716T200000
DTSTAMP:20260425T024758
CREATED:20241210T174030Z
LAST-MODIFIED:20250722T145652Z
UID:10003934-1784226600-1784232000@duncanplace.org
SUMMARY:Trustees Meeting - Wee Duncan room
DESCRIPTION:Private Meeting\n\nDuncan Place Board of Trustees \n\n\n\n\n\n\n	\n		\n\n			\n			\n\n							\n					\n						Upcoming Events					\n				\n			\n			\n				\n											\n\n	\n	\n		\n			Apr		\n		\n			25		\n	\n\n\n	\n		\n			\n\n				\n					\n		\n		9:30 am - 12:00 pm	\n	\n\n	\n		\n\n	\n	\n	\n\n	\n\n\n					\n	\n		The Piping Center	\n\n				\n\n				\n			\n		\n	\n\n\n											\n\n	\n	\n		\n			Apr		\n		\n			25		\n	\n\n\n	\n		\n			\n\n				\n					\n		\n		10:00 am - 11:00 am	\n	\n\n	\n		\n\n	\n	\n	\n\n	\n\n\n					\n	\n		The Piping Center	\n\n				\n\n				\n			\n		\n	\n\n\n											\n\n	\n	\n		\n			Apr		\n		\n			25		\n	\n\n\n	\n		\n			\n\n				\n					\n		\n		10:00 am - 12:00 pm	\n	\n\n	\n		\n\n	\n	\n	\n\n	\n\n\n					\n	\n		The Piping Center	\n\n				\n\n				\n			\n		\n	\n\n\n											\n\n	\n	\n		\n			Apr		\n		\n			25		\n	\n\n\n	\n		\n			\n\n				\n					\n		\n		10:00 am - 5:00 pm	\n	\n					\n	\n		Calis Harun – Mosaic Workshop	\n\n				\n\n				\n			\n		\n	\n\n\n											\n\n	\n	\n		\n			Apr		\n		\n			27		\n	\n\n\n	\n		\n			\n\n				\n					\n		\n		9:00 am - 2:45 pm	\n	\n\n	\n		\n\n	\n	\n	\n\n	\n\n\n					\n	\n		Edinburgh College	\n\n				\n\n				\n			\n		\n	\n\n\n									\n\n				\n	\n		View Calendar
URL:https://duncanplace.org/event/trustees-meeting-wee-duncan-room/2026-07-16/
LOCATION:Duncan Place Community Hub\, Duncan Place\, Leith\, Edinburgh\, Edinburgh\, EH6 8HW\, United Kingdom
ATTACH;FMTTYPE=image/png:https://duncanplace.org/wp-content/uploads/2018/07/cropped-cropped-cropped-duncplaclogo-1.png
ORGANIZER;CN="Duncan Place Events":MAILTO:events@duncanplace.org
GEO:55.9699976;-3.1683591
X-APPLE-STRUCTURED-LOCATION;VALUE=URI;X-ADDRESS=Duncan Place Community Hub Duncan Place Leith Edinburgh Edinburgh EH6 8HW United Kingdom;X-APPLE-RADIUS=500;X-TITLE=Duncan Place:geo:-3.1683591,55.9699976
END:VEVENT
BEGIN:VEVENT
DTSTART;TZID=Europe/London:20260820T183000
DTEND;TZID=Europe/London:20260820T200000
DTSTAMP:20260425T024758
CREATED:20241210T174030Z
LAST-MODIFIED:20250722T145652Z
UID:10003935-1787250600-1787256000@duncanplace.org
SUMMARY:Trustees Meeting - Wee Duncan room
DESCRIPTION:Private Meeting\n\nDuncan Place Board of Trustees \n\n\n\n\n\n\n	\n		\n\n			\n			\n\n							\n					\n						Upcoming Events					\n				\n			\n			\n				\n											\n\n	\n	\n		\n			Apr		\n		\n			25		\n	\n\n\n	\n		\n			\n\n				\n					\n		\n		9:30 am - 12:00 pm	\n	\n\n	\n		\n\n	\n	\n	\n\n	\n\n\n					\n	\n		The Piping Center	\n\n				\n\n				\n			\n		\n	\n\n\n											\n\n	\n	\n		\n			Apr		\n		\n			25		\n	\n\n\n	\n		\n			\n\n				\n					\n		\n		10:00 am - 11:00 am	\n	\n\n	\n		\n\n	\n	\n	\n\n	\n\n\n					\n	\n		The Piping Center	\n\n				\n\n				\n			\n		\n	\n\n\n											\n\n	\n	\n		\n			Apr		\n		\n			25		\n	\n\n\n	\n		\n			\n\n				\n					\n		\n		10:00 am - 12:00 pm	\n	\n\n	\n		\n\n	\n	\n	\n\n	\n\n\n					\n	\n		The Piping Center	\n\n				\n\n				\n			\n		\n	\n\n\n											\n\n	\n	\n		\n			Apr		\n		\n			25		\n	\n\n\n	\n		\n			\n\n				\n					\n		\n		10:00 am - 5:00 pm	\n	\n					\n	\n		Calis Harun – Mosaic Workshop	\n\n				\n\n				\n			\n		\n	\n\n\n											\n\n	\n	\n		\n			Apr		\n		\n			27		\n	\n\n\n	\n		\n			\n\n				\n					\n		\n		9:00 am - 2:45 pm	\n	\n\n	\n		\n\n	\n	\n	\n\n	\n\n\n					\n	\n		Edinburgh College	\n\n				\n\n				\n			\n		\n	\n\n\n									\n\n				\n	\n		View Calendar
URL:https://duncanplace.org/event/trustees-meeting-wee-duncan-room/2026-08-20/
LOCATION:Duncan Place Community Hub\, Duncan Place\, Leith\, Edinburgh\, Edinburgh\, EH6 8HW\, United Kingdom
ATTACH;FMTTYPE=image/png:https://duncanplace.org/wp-content/uploads/2018/07/cropped-cropped-cropped-duncplaclogo-1.png
ORGANIZER;CN="Duncan Place Events":MAILTO:events@duncanplace.org
GEO:55.9699976;-3.1683591
X-APPLE-STRUCTURED-LOCATION;VALUE=URI;X-ADDRESS=Duncan Place Community Hub Duncan Place Leith Edinburgh Edinburgh EH6 8HW United Kingdom;X-APPLE-RADIUS=500;X-TITLE=Duncan Place:geo:-3.1683591,55.9699976
END:VEVENT
BEGIN:VEVENT
DTSTART;TZID=Europe/London:20260917T183000
DTEND;TZID=Europe/London:20260917T200000
DTSTAMP:20260425T024758
CREATED:20241210T174030Z
LAST-MODIFIED:20250722T145652Z
UID:10003936-1789669800-1789675200@duncanplace.org
SUMMARY:Trustees Meeting - Wee Duncan room
DESCRIPTION:Private Meeting\n\nDuncan Place Board of Trustees \n\n\n\n\n\n\n	\n		\n\n			\n			\n\n							\n					\n						Upcoming Events					\n				\n			\n			\n				\n											\n\n	\n	\n		\n			Apr		\n		\n			25		\n	\n\n\n	\n		\n			\n\n				\n					\n		\n		9:30 am - 12:00 pm	\n	\n\n	\n		\n\n	\n	\n	\n\n	\n\n\n					\n	\n		The Piping Center	\n\n				\n\n				\n			\n		\n	\n\n\n											\n\n	\n	\n		\n			Apr		\n		\n			25		\n	\n\n\n	\n		\n			\n\n				\n					\n		\n		10:00 am - 11:00 am	\n	\n\n	\n		\n\n	\n	\n	\n\n	\n\n\n					\n	\n		The Piping Center	\n\n				\n\n				\n			\n		\n	\n\n\n											\n\n	\n	\n		\n			Apr		\n		\n			25		\n	\n\n\n	\n		\n			\n\n				\n					\n		\n		10:00 am - 12:00 pm	\n	\n\n	\n		\n\n	\n	\n	\n\n	\n\n\n					\n	\n		The Piping Center	\n\n				\n\n				\n			\n		\n	\n\n\n											\n\n	\n	\n		\n			Apr		\n		\n			25		\n	\n\n\n	\n		\n			\n\n				\n					\n		\n		10:00 am - 5:00 pm	\n	\n					\n	\n		Calis Harun – Mosaic Workshop	\n\n				\n\n				\n			\n		\n	\n\n\n											\n\n	\n	\n		\n			Apr		\n		\n			27		\n	\n\n\n	\n		\n			\n\n				\n					\n		\n		9:00 am - 2:45 pm	\n	\n\n	\n		\n\n	\n	\n	\n\n	\n\n\n					\n	\n		Edinburgh College	\n\n				\n\n				\n			\n		\n	\n\n\n									\n\n				\n	\n		View Calendar
URL:https://duncanplace.org/event/trustees-meeting-wee-duncan-room/2026-09-17/
LOCATION:Duncan Place Community Hub\, Duncan Place\, Leith\, Edinburgh\, Edinburgh\, EH6 8HW\, United Kingdom
ATTACH;FMTTYPE=image/png:https://duncanplace.org/wp-content/uploads/2018/07/cropped-cropped-cropped-duncplaclogo-1.png
ORGANIZER;CN="Duncan Place Events":MAILTO:events@duncanplace.org
GEO:55.9699976;-3.1683591
X-APPLE-STRUCTURED-LOCATION;VALUE=URI;X-ADDRESS=Duncan Place Community Hub Duncan Place Leith Edinburgh Edinburgh EH6 8HW United Kingdom;X-APPLE-RADIUS=500;X-TITLE=Duncan Place:geo:-3.1683591,55.9699976
END:VEVENT
BEGIN:VEVENT
DTSTART;TZID=Europe/London:20261015T183000
DTEND;TZID=Europe/London:20261015T200000
DTSTAMP:20260425T024758
CREATED:20241210T174030Z
LAST-MODIFIED:20250722T145652Z
UID:10003937-1792089000-1792094400@duncanplace.org
SUMMARY:Trustees Meeting - Wee Duncan room
DESCRIPTION:Private Meeting\n\nDuncan Place Board of Trustees \n\n\n\n\n\n\n	\n		\n\n			\n			\n\n							\n					\n						Upcoming Events					\n				\n			\n			\n				\n											\n\n	\n	\n		\n			Apr		\n		\n			25		\n	\n\n\n	\n		\n			\n\n				\n					\n		\n		9:30 am - 12:00 pm	\n	\n\n	\n		\n\n	\n	\n	\n\n	\n\n\n					\n	\n		The Piping Center	\n\n				\n\n				\n			\n		\n	\n\n\n											\n\n	\n	\n		\n			Apr		\n		\n			25		\n	\n\n\n	\n		\n			\n\n				\n					\n		\n		10:00 am - 11:00 am	\n	\n\n	\n		\n\n	\n	\n	\n\n	\n\n\n					\n	\n		The Piping Center	\n\n				\n\n				\n			\n		\n	\n\n\n											\n\n	\n	\n		\n			Apr		\n		\n			25		\n	\n\n\n	\n		\n			\n\n				\n					\n		\n		10:00 am - 12:00 pm	\n	\n\n	\n		\n\n	\n	\n	\n\n	\n\n\n					\n	\n		The Piping Center	\n\n				\n\n				\n			\n		\n	\n\n\n											\n\n	\n	\n		\n			Apr		\n		\n			25		\n	\n\n\n	\n		\n			\n\n				\n					\n		\n		10:00 am - 5:00 pm	\n	\n					\n	\n		Calis Harun – Mosaic Workshop	\n\n				\n\n				\n			\n		\n	\n\n\n											\n\n	\n	\n		\n			Apr		\n		\n			27		\n	\n\n\n	\n		\n			\n\n				\n					\n		\n		9:00 am - 2:45 pm	\n	\n\n	\n		\n\n	\n	\n	\n\n	\n\n\n					\n	\n		Edinburgh College	\n\n				\n\n				\n			\n		\n	\n\n\n									\n\n				\n	\n		View Calendar
URL:https://duncanplace.org/event/trustees-meeting-wee-duncan-room/2026-10-15/
LOCATION:Duncan Place Community Hub\, Duncan Place\, Leith\, Edinburgh\, Edinburgh\, EH6 8HW\, United Kingdom
ATTACH;FMTTYPE=image/png:https://duncanplace.org/wp-content/uploads/2018/07/cropped-cropped-cropped-duncplaclogo-1.png
ORGANIZER;CN="Duncan Place Events":MAILTO:events@duncanplace.org
GEO:55.9699976;-3.1683591
X-APPLE-STRUCTURED-LOCATION;VALUE=URI;X-ADDRESS=Duncan Place Community Hub Duncan Place Leith Edinburgh Edinburgh EH6 8HW United Kingdom;X-APPLE-RADIUS=500;X-TITLE=Duncan Place:geo:-3.1683591,55.9699976
END:VEVENT
BEGIN:VEVENT
DTSTART;TZID=Europe/London:20261119T183000
DTEND;TZID=Europe/London:20261119T200000
DTSTAMP:20260425T024758
CREATED:20241210T174030Z
LAST-MODIFIED:20250722T145652Z
UID:10003938-1795113000-1795118400@duncanplace.org
SUMMARY:Trustees Meeting - Wee Duncan room
DESCRIPTION:Private Meeting\n\nDuncan Place Board of Trustees \n\n\n\n\n\n\n	\n		\n\n			\n			\n\n							\n					\n						Upcoming Events					\n				\n			\n			\n				\n											\n\n	\n	\n		\n			Apr		\n		\n			25		\n	\n\n\n	\n		\n			\n\n				\n					\n		\n		9:30 am - 12:00 pm	\n	\n\n	\n		\n\n	\n	\n	\n\n	\n\n\n					\n	\n		The Piping Center	\n\n				\n\n				\n			\n		\n	\n\n\n											\n\n	\n	\n		\n			Apr		\n		\n			25		\n	\n\n\n	\n		\n			\n\n				\n					\n		\n		10:00 am - 11:00 am	\n	\n\n	\n		\n\n	\n	\n	\n\n	\n\n\n					\n	\n		The Piping Center	\n\n				\n\n				\n			\n		\n	\n\n\n											\n\n	\n	\n		\n			Apr		\n		\n			25		\n	\n\n\n	\n		\n			\n\n				\n					\n		\n		10:00 am - 12:00 pm	\n	\n\n	\n		\n\n	\n	\n	\n\n	\n\n\n					\n	\n		The Piping Center	\n\n				\n\n				\n			\n		\n	\n\n\n											\n\n	\n	\n		\n			Apr		\n		\n			25		\n	\n\n\n	\n		\n			\n\n				\n					\n		\n		10:00 am - 5:00 pm	\n	\n					\n	\n		Calis Harun – Mosaic Workshop	\n\n				\n\n				\n			\n		\n	\n\n\n											\n\n	\n	\n		\n			Apr		\n		\n			27		\n	\n\n\n	\n		\n			\n\n				\n					\n		\n		9:00 am - 2:45 pm	\n	\n\n	\n		\n\n	\n	\n	\n\n	\n\n\n					\n	\n		Edinburgh College	\n\n				\n\n				\n			\n		\n	\n\n\n									\n\n				\n	\n		View Calendar
URL:https://duncanplace.org/event/trustees-meeting-wee-duncan-room/2026-11-19/
LOCATION:Duncan Place Community Hub\, Duncan Place\, Leith\, Edinburgh\, Edinburgh\, EH6 8HW\, United Kingdom
ATTACH;FMTTYPE=image/png:https://duncanplace.org/wp-content/uploads/2018/07/cropped-cropped-cropped-duncplaclogo-1.png
ORGANIZER;CN="Duncan Place Events":MAILTO:events@duncanplace.org
GEO:55.9699976;-3.1683591
X-APPLE-STRUCTURED-LOCATION;VALUE=URI;X-ADDRESS=Duncan Place Community Hub Duncan Place Leith Edinburgh Edinburgh EH6 8HW United Kingdom;X-APPLE-RADIUS=500;X-TITLE=Duncan Place:geo:-3.1683591,55.9699976
END:VEVENT
END:VCALENDAR